BEGIN:VCALENDAR
VERSION:2.0
PRODID:-//Visit Marlborough - ECPv6.15.20//NONSGML v1.0//EN
CALSCALE:GREGORIAN
METHOD:PUBLISH
X-WR-CALNAME:Visit Marlborough
X-ORIGINAL-URL:https://visit-marlborough.com
X-WR-CALDESC:Events for Visit Marlborough
REFRESH-INTERVAL;VALUE=DURATION:PT1H
X-Robots-Tag:noindex
X-PUBLISHED-TTL:PT1H
BEGIN:VTIMEZONE
TZID:America/New_York
BEGIN:DAYLIGHT
TZOFFSETFROM:-0500
TZOFFSETTO:-0400
TZNAME:EDT
DTSTART:20240310T070000
END:DAYLIGHT
BEGIN:STANDARD
TZOFFSETFROM:-0400
TZOFFSETTO:-0500
TZNAME:EST
DTSTART:20241103T060000
END:STANDARD
BEGIN:DAYLIGHT
TZOFFSETFROM:-0500
TZOFFSETTO:-0400
TZNAME:EDT
DTSTART:20250309T070000
END:DAYLIGHT
BEGIN:STANDARD
TZOFFSETFROM:-0400
TZOFFSETTO:-0500
TZNAME:EST
DTSTART:20251102T060000
END:STANDARD
BEGIN:DAYLIGHT
TZOFFSETFROM:-0500
TZOFFSETTO:-0400
TZNAME:EDT
DTSTART:20260308T070000
END:DAYLIGHT
BEGIN:STANDARD
TZOFFSETFROM:-0400
TZOFFSETTO:-0500
TZNAME:EST
DTSTART:20261101T060000
END:STANDARD
END:VTIMEZONE
BEGIN:VEVENT
DTSTART;TZID=America/New_York:20251203T183000
DTEND;TZID=America/New_York:20251203T203000
DTSTAMP:20260425T180033
CREATED:20251124T165032Z
LAST-MODIFIED:20251124T165032Z
UID:216782-1764786600-1764793800@visit-marlborough.com
SUMMARY:DIY Holiday Tabletop Boxwood Tree Workshop at Lost Shoe Brewing
DESCRIPTION:Join us to create your own tabletop boxwood tree at the taproom! \nThe boxwood tree we will be making is about 12″ high.  Includes high quality\, long lasting boxwood and festive decorations! \nCall your friends\, family\, co-workers and BFFs!!   Be quick to register!  Limited space!
URL:https://visit-marlborough.com/event/diy-holiday-tabletop-boxwood-tree-workshop-at-lost-shoe-brewing/
LOCATION:Lost Shoe Brewing & Roasting Co.\, 19 Weed Street\, Marlborough\, MA\, 01752\, United States
END:VEVENT
BEGIN:VEVENT
DTSTART;TZID=America/New_York:20251203T193000
DTEND;TZID=America/New_York:20251203T213000
DTSTAMP:20260425T180033
CREATED:20251124T211425Z
LAST-MODIFIED:20251124T211425Z
UID:216860-1764790200-1764797400@visit-marlborough.com
SUMMARY:Trivia @ Tackle Box Brewing
DESCRIPTION:Join us every Wednesday for a fun-filled trivia night hosted by George! Bring your friends\, test your knowledge\, and enjoy great drinks at Tackle Box Brewing Co. Don’t miss out!
URL:https://visit-marlborough.com/event/trivia-tackle-box-brewing-106/
LOCATION:Tackle Box Brewing Company\, 416 Boston Post Road East\, Marlborough\, MA\, 01752\, United States
END:VEVENT
BEGIN:VEVENT
DTSTART;TZID=America/New_York:20251205T210000
DTEND;TZID=America/New_York:20251205T230000
DTSTAMP:20260425T180033
CREATED:20251124T215019Z
LAST-MODIFIED:20251124T215019Z
UID:216892-1764968400-1764975600@visit-marlborough.com
SUMMARY:Live Music @ Dante’s at Firefly's BBQ!
DESCRIPTION:Downtown Rhythm\nYour favorite R&B\, Soul\, Rock\, and Funk hits from the 70s to today with the dynamic voice of award-winning singer-songwriter Maverick out front!
URL:https://visit-marlborough.com/event/live-music-dantes-at-fireflys-bbq-165/
LOCATION:Firefly’s BBQ\, 350 East Main Street\, Marlborough\, MA\, 01752\, United States
END:VEVENT
BEGIN:VEVENT
DTSTART;TZID=America/New_York:20251206T210000
DTEND;TZID=America/New_York:20251206T235900
DTSTAMP:20260425T180033
CREATED:20251124T215226Z
LAST-MODIFIED:20251124T215723Z
UID:216894-1765054800-1765065540@visit-marlborough.com
SUMMARY:Live Music @ Dante’s at Firefly's BBQ!
DESCRIPTION:Playing Dead\nBoston’s premier Grateful Dead Experience is a complex stew of Rock\, Blues\, Jazz\, Folk\, Bluegrass and more. Every Playing Dead show is unique\, featuring exciting improvisational jams!
URL:https://visit-marlborough.com/event/live-music-dantes-at-fireflys-bbq-166/
LOCATION:Firefly’s BBQ\, 350 East Main Street\, Marlborough\, MA\, 01752\, United States
END:VEVENT
BEGIN:VEVENT
DTSTART;TZID=America/New_York:20251207T130000
DTEND;TZID=America/New_York:20251207T170000
DTSTAMP:20260425T180033
CREATED:20251001T191351Z
LAST-MODIFIED:20251001T191351Z
UID:216568-1765112400-1765126800@visit-marlborough.com
SUMMARY:Marlborough Downtown Holiday Stroll & Tree Lighting
DESCRIPTION:The Marlborough Downtown Village Association and the City of Marlborough are excited to announce the Marlborough Holiday Stroll & Tree Lighting!\nStroll along Main Street from 1-5PM and enjoy:\n❄ Ice Skating\n❄ Face Painting\n❄ Festival of Trees\n❄ Carolers\n❄ Chowder/Chili Contest\n❄ Candy Cane Express Train Rides\n❄ Holiday Market\n❄ Story Time\n❄ The Grinch\n❄ Holiday Cheer\n❄ And More!\nMake your way to Union Common at 5PM:\n🎄 Tree Lighting with Santa and the Mayor\n🎄 Pictures with Santa\n🎄 Hot Chocolate and Popcorn\n🎄 Petting Zoo\n🎄 Performance by the MHS Choir\n🎄 Performance by the MHS String Ensemble in the First Church
URL:https://visit-marlborough.com/event/marlborough-downtown-holiday-stroll-tree-lighting/
LOCATION:Downtown Marlborough MA\, 91 Main Street\, Marlborough\, MA\, 01752\, United States
ORGANIZER;CN="Marlborough Downtown Village Association":MAILTO:marlboroughdva@gmail.com
END:VEVENT
BEGIN:VEVENT
DTSTART;TZID=America/New_York:20251207T150000
DTEND;TZID=America/New_York:20251207T163000
DTSTAMP:20260425T180033
CREATED:20251125T155329Z
LAST-MODIFIED:20251125T155329Z
UID:216916-1765119600-1765125000@visit-marlborough.com
SUMMARY:Modern Calligraphy for Beginners at Flying Dreams Brewing
DESCRIPTION:Join us at Flying Dreams Brewing in Marlborough\, MA for a festive workshop of holiday fun and pretty lettering for beginners! Whether you’re a stationery nerd\, DIY Bride-to-be\, or just a crafty individual\, in this workshop you’ll be learning an introduction to modern calligraphy with a pointed dip pen and ink. We will cover all the basics and get you ready to add those special lettered details to all your holiday tables\, Christmas trees\, hostess gifts\, gift tags\, holiday card mailings and more! \nClass includes 1.5 hours of instruction and demonstration\, our beginner’s calligraphy kit (two nibs\, black ink pot\, 2 letter guides\, tracing paper and straight pen holder)\, and all materials to write on. Everything is yours to keep at the end of the workshop! Additionally\, we will be lettering on a take-home acrylic ornament at the end of our class time!
URL:https://visit-marlborough.com/event/modern-calligraphy-for-beginners-at-flying-dreams-brewing-2/
LOCATION:Flying Dreams Brewing Co.\, 277 Main Street\, Marlborough\, MA\, 01752\, United States
ATTACH;FMTTYPE=image/jpeg:https://visit-marlborough.com/wp-content/uploads/2025/11/December-Calligraphy.jpg
END:VEVENT
BEGIN:VEVENT
DTSTART;TZID=America/New_York:20251210T193000
DTEND;TZID=America/New_York:20251210T213000
DTSTAMP:20260425T180033
CREATED:20251124T211607Z
LAST-MODIFIED:20251124T211607Z
UID:216862-1765395000-1765402200@visit-marlborough.com
SUMMARY:Trivia @ Tackle Box Brewing
DESCRIPTION:Join us every Wednesday for a fun-filled trivia night hosted by George! Bring your friends\, test your knowledge\, and enjoy great drinks at Tackle Box Brewing Co. Don’t miss out!
URL:https://visit-marlborough.com/event/trivia-tackle-box-brewing-107/
LOCATION:Tackle Box Brewing Company\, 416 Boston Post Road East\, Marlborough\, MA\, 01752\, United States
END:VEVENT
BEGIN:VEVENT
DTSTART;TZID=America/New_York:20251212T180000
DTEND;TZID=America/New_York:20251212T210000
DTSTAMP:20260425T180033
CREATED:20251125T155804Z
LAST-MODIFIED:20251125T155804Z
UID:216922-1765562400-1765573200@visit-marlborough.com
SUMMARY:Acoustic Open Mic Night @ Flying Dreams
DESCRIPTION:Sign ups start at 5:30pm\nMusic starts at 6pm\n3 songs
URL:https://visit-marlborough.com/event/acoustic-open-mic-night-flying-dreams-5/
LOCATION:Flying Dreams Brewing Co.\, 277 Main Street\, Marlborough\, MA\, 01752\, United States
END:VEVENT
BEGIN:VEVENT
DTSTART;TZID=America/New_York:20251212T210000
DTEND;TZID=America/New_York:20251212T230000
DTSTAMP:20260425T180033
CREATED:20251124T215509Z
LAST-MODIFIED:20251124T215509Z
UID:216896-1765573200-1765580400@visit-marlborough.com
SUMMARY:Live Music @ Dante’s at Firefly's BBQ!
DESCRIPTION:Space Moose\nSpace Moose is an all-star group of New England music scene legends that plays a blend of danceable classic rock\, funk and high energy jam band style music.
URL:https://visit-marlborough.com/event/live-music-dantes-at-fireflys-bbq-167/
LOCATION:Firefly’s BBQ\, 350 East Main Street\, Marlborough\, MA\, 01752\, United States
END:VEVENT
BEGIN:VEVENT
DTSTART;TZID=America/New_York:20251213T100000
DTEND;TZID=America/New_York:20251213T110000
DTSTAMP:20260425T180033
CREATED:20251125T165050Z
LAST-MODIFIED:20251125T165050Z
UID:216950-1765620000-1765623600@visit-marlborough.com
SUMMARY:Climate Cafe: Owl Hour
DESCRIPTION:Our fourth and final Climate Café of the year: “Owl Hour!” 🦉 ⏰\nJoin us for a special morning learning all about owls! Our ambassador barn owl\, Bella\, will be joined by Wendy Pavlicek\, Director of the Burlington Science Center and licensed falconer\, along with her great horned owl\, Edison. Wendy will share about the sport of falconry and the incredible natural history of the great horned owl.\nWe’ll explore our native Massachusetts owls\, practice some owl calls\, and discover how these apex predators help keep our ecosystems in balance.\nPlus\, enjoy complimentary coffee\, tea\, and pastries as always at the Climate Café. ☕️\nDon’t miss this chance to meet two species of native owls up close!
URL:https://visit-marlborough.com/event/climate-cafe-owl-hour/
LOCATION:Marlborough Public Library\, 35 West Main Street\, Marlborough\, MA\, 01752\, United States
ATTACH;FMTTYPE=image/jpeg:https://visit-marlborough.com/wp-content/uploads/2025/11/owl-hour.jpg
ORGANIZER;CN="Giaquinto Wildlife Center":MAILTO:giaquintowildlifecenter@gmail.com
END:VEVENT
BEGIN:VEVENT
DTSTART;TZID=America/New_York:20251213T210000
DTEND;TZID=America/New_York:20251213T235900
DTSTAMP:20260425T180033
CREATED:20251124T215637Z
LAST-MODIFIED:20251124T215637Z
UID:216898-1765659600-1765670340@visit-marlborough.com
SUMMARY:Live Music @ Dante’s at Firefly's BBQ!
DESCRIPTION:Aquanett\nAquanett has been labeled “New England’s most authentic tribute to the 80s.” The band’s look\, authentic sound and dedication have been keeping their fans coming out again and again for over a decade!
URL:https://visit-marlborough.com/event/live-music-dantes-at-fireflys-bbq-168/
LOCATION:Firefly’s BBQ\, 350 East Main Street\, Marlborough\, MA\, 01752\, United States
END:VEVENT
BEGIN:VEVENT
DTSTART;TZID=America/New_York:20251217T193000
DTEND;TZID=America/New_York:20251217T213000
DTSTAMP:20260425T180033
CREATED:20251124T212320Z
LAST-MODIFIED:20251124T212320Z
UID:216864-1765999800-1766007000@visit-marlborough.com
SUMMARY:Trivia @ Tackle Box Brewing
DESCRIPTION:Join us every Wednesday for a fun-filled trivia night hosted by George! Bring your friends\, test your knowledge\, and enjoy great drinks at Tackle Box Brewing Co. Don’t miss out!
URL:https://visit-marlborough.com/event/trivia-tackle-box-brewing-108/
LOCATION:Tackle Box Brewing Company\, 416 Boston Post Road East\, Marlborough\, MA\, 01752\, United States
END:VEVENT
BEGIN:VEVENT
DTSTART;TZID=America/New_York:20251219T210000
DTEND;TZID=America/New_York:20251219T230000
DTSTAMP:20260425T180033
CREATED:20251124T215843Z
LAST-MODIFIED:20251124T215843Z
UID:216900-1766178000-1766185200@visit-marlborough.com
SUMMARY:Live Music @ Dante’s at Firefly's BBQ!
DESCRIPTION:The Zen Music Men\nA unique cover band performing Rock n’ Roll songs spanning the 60s right up to today!
URL:https://visit-marlborough.com/event/live-music-dantes-at-fireflys-bbq-169/
LOCATION:Firefly’s BBQ\, 350 East Main Street\, Marlborough\, MA\, 01752\, United States
END:VEVENT
BEGIN:VEVENT
DTSTART;TZID=America/New_York:20251220T210000
DTEND;TZID=America/New_York:20251220T230000
DTSTAMP:20260425T180033
CREATED:20251124T220024Z
LAST-MODIFIED:20251124T220024Z
UID:216902-1766264400-1766271600@visit-marlborough.com
SUMMARY:Live Music @ Dante’s at Firefly's BBQ!
DESCRIPTION:Hot Acoustics\nRockin’ electric tunes to keep you on the dance floor all night long!
URL:https://visit-marlborough.com/event/live-music-dantes-at-fireflys-bbq-170/
LOCATION:Firefly’s BBQ\, 350 East Main Street\, Marlborough\, MA\, 01752\, United States
END:VEVENT
BEGIN:VEVENT
DTSTART;TZID=America/New_York:20251226T210000
DTEND;TZID=America/New_York:20251226T230000
DTSTAMP:20260425T180033
CREATED:20251124T220132Z
LAST-MODIFIED:20251124T220132Z
UID:216904-1766782800-1766790000@visit-marlborough.com
SUMMARY:Live Music @ Dante’s at Firefly's BBQ!
DESCRIPTION:Black Suede\nMarlborough’s own hometown Hard Rock band!
URL:https://visit-marlborough.com/event/live-music-dantes-at-fireflys-bbq-171/
LOCATION:Firefly’s BBQ\, 350 East Main Street\, Marlborough\, MA\, 01752\, United States
END:VEVENT
BEGIN:VEVENT
DTSTART;TZID=America/New_York:20251227T210000
DTEND;TZID=America/New_York:20251227T230000
DTSTAMP:20260425T180033
CREATED:20251124T220237Z
LAST-MODIFIED:20251124T220237Z
UID:216906-1766869200-1766876400@visit-marlborough.com
SUMMARY:Live Music @ Dante’s at Firefly's BBQ!
DESCRIPTION:Billy & The Jets\nPiano player and singer Chris Brunelle fronts the band Billy & The Jets\, playing the hits of Elton John and Billy Joel. Come enjoy the insane amount of hits these two amazing stars have created over the course of their illustrious careers!
URL:https://visit-marlborough.com/event/live-music-dantes-at-fireflys-bbq-172/
LOCATION:Firefly’s BBQ\, 350 East Main Street\, Marlborough\, MA\, 01752\, United States
END:VEVENT
BEGIN:VEVENT
DTSTART;TZID=America/New_York:20251228T170000
DTEND;TZID=America/New_York:20251228T190000
DTSTAMP:20260425T180033
CREATED:20251124T165634Z
LAST-MODIFIED:20251124T165634Z
UID:216784-1766941200-1766948400@visit-marlborough.com
SUMMARY:Drag Bingo @ Lost Shoe
DESCRIPTION:Join us for Drag Bingo! The queens will put on a spectacular performance while you play Bingo to win prizes! This event is 18+. Must be 21+ to consume alcohol.\nA ticket is required to attend this event. Doors open at 4:00PM\, shows start at 5PM. Ticket includes entry into the event. Seating is on a first come\, first serve basis. No need to print your tickets – check in with the host with the name on your reservation. Additional bingo cards can be purchased for more chances to win!
URL:https://visit-marlborough.com/event/drag-bingo-lost-shoe-4/
LOCATION:Lost Shoe Brewing & Roasting Co.\, 19 Weed Street\, Marlborough\, MA\, 01752\, United States
END:VEVENT
BEGIN:VEVENT
DTSTART;TZID=America/New_York:20251231T200000
DTEND;TZID=America/New_York:20251231T235900
DTSTAMP:20260425T180033
CREATED:20251230T154548Z
LAST-MODIFIED:20251230T154548Z
UID:216987-1767211200-1767225540@visit-marlborough.com
SUMMARY:New Year's Eve @ Picco Marlborough
DESCRIPTION:Join us on Wednesday\, December 31\, 2025\, for a fun and festive New Year’s Eve party – a night filled with great music\, fantastic cocktails\, and warm company as we celebrate with friends\, neighbors\, and our community right here in Downtown Marlborough. ✨\nEvent Details\n📍 Picco – 179 Main St.\, Marlborough\, MA\n📅 December 31\, 2025\n⏰ 21+ after 9:00 PM\n🍸Festive Cocktails\n💿 DJ Dan spinning 8p-12:30a\n💵 $20 cover – includes champagne toast at midnight & bar snacks all night\n🍽 Cover is waived with a dinner reservation\nMake a night of it with dinner\, then stay for the party – or stop in just for the celebration. Dinner reservations are available\, and event walk-ins are welcome.\nGrab your friends\, put on your sparkliest outfit\, and let’s toast to the New Year together at Picco! 🥂
URL:https://visit-marlborough.com/event/new-years-eve-picco-marlborough/
LOCATION:Picco Marlborough\, 179 Main Street\, Marlborough\, MA\, 01752\, United States
ATTACH;FMTTYPE=image/jpeg:https://visit-marlborough.com/wp-content/uploads/2025/12/Picco-NYE.jpg
ORGANIZER;CN="Picco Marlborough":MAILTO:piccomarlboro@gmail.com
END:VEVENT
BEGIN:VEVENT
DTSTART;TZID=America/New_York:20251231T210000
DTEND;TZID=America/New_York:20251231T235900
DTSTAMP:20260425T180033
CREATED:20251124T220457Z
LAST-MODIFIED:20251124T220457Z
UID:216908-1767214800-1767225540@visit-marlborough.com
SUMMARY:New Year's Eve Party at Firefly's BBQ!
DESCRIPTION:New Year’s Eve Party with XS Band\nDance! Dance! Dance! And Celebrate with New Year’s Eve Party paraphernalia and a Champagne Toast at Midnight! Ring in the New Year with this 7-piece band featuring R&B\, Funk\, Soul and Hip Hop!\n$25* \n*Cover includes champagne toast at midnight and New Year’s Eve swag! \n*Dinner & Show ticket options do not include cost of food or beverages (food and beverage purchases are not included in ticket cost). Any dinner reservations arriving more than 15 minutes late will lose table seating. \n**For Standing Room tickets\, seating is first-come-first-served. \nMust be 21+ to attend this event.
URL:https://visit-marlborough.com/event/new-years-eve-party-at-fireflys-bbq/
LOCATION:Firefly’s BBQ\, 350 East Main Street\, Marlborough\, MA\, 01752\, United States
END:VEVENT
END:VCALENDAR