BEGIN:VCALENDAR
VERSION:2.0
PRODID:-//Visit Marlborough - ECPv6.15.20//NONSGML v1.0//EN
CALSCALE:GREGORIAN
METHOD:PUBLISH
X-WR-CALNAME:Visit Marlborough
X-ORIGINAL-URL:https://visit-marlborough.com
X-WR-CALDESC:Events for Visit Marlborough
REFRESH-INTERVAL;VALUE=DURATION:PT1H
X-Robots-Tag:noindex
X-PUBLISHED-TTL:PT1H
BEGIN:VTIMEZONE
TZID:America/New_York
BEGIN:DAYLIGHT
TZOFFSETFROM:-0500
TZOFFSETTO:-0400
TZNAME:EDT
DTSTART:20240310T070000
END:DAYLIGHT
BEGIN:STANDARD
TZOFFSETFROM:-0400
TZOFFSETTO:-0500
TZNAME:EST
DTSTART:20241103T060000
END:STANDARD
BEGIN:DAYLIGHT
TZOFFSETFROM:-0500
TZOFFSETTO:-0400
TZNAME:EDT
DTSTART:20250309T070000
END:DAYLIGHT
BEGIN:STANDARD
TZOFFSETFROM:-0400
TZOFFSETTO:-0500
TZNAME:EST
DTSTART:20251102T060000
END:STANDARD
BEGIN:DAYLIGHT
TZOFFSETFROM:-0500
TZOFFSETTO:-0400
TZNAME:EDT
DTSTART:20260308T070000
END:DAYLIGHT
BEGIN:STANDARD
TZOFFSETFROM:-0400
TZOFFSETTO:-0500
TZNAME:EST
DTSTART:20261101T060000
END:STANDARD
END:VTIMEZONE
BEGIN:VEVENT
DTSTART;TZID=America/New_York:20251001T193000
DTEND;TZID=America/New_York:20251001T213000
DTSTAMP:20260425T214332
CREATED:20250924T151038Z
LAST-MODIFIED:20250924T151038Z
UID:216467-1759347000-1759354200@visit-marlborough.com
SUMMARY:Trivia @ Tackle Box Brewing
DESCRIPTION:Join us every Wednesday for a fun-filled trivia night hosted by George! Bring your friends\, test your knowledge\, and enjoy great drinks at Tackle Box Brewing Co. Don’t miss out!
URL:https://visit-marlborough.com/event/trivia-tackle-box-brewing-97/
LOCATION:Tackle Box Brewing Company\, 416 Boston Post Road East\, Marlborough\, MA\, 01752\, United States
END:VEVENT
BEGIN:VEVENT
DTSTART;TZID=America/New_York:20251002T090000
DTEND;TZID=America/New_York:20251002T120000
DTSTAMP:20260425T214332
CREATED:20250728T175538Z
LAST-MODIFIED:20250728T175538Z
UID:216102-1759395600-1759406400@visit-marlborough.com
SUMMARY:Beats & Brews with JP @ Lost Shoe
DESCRIPTION:Enjoy a beverage while listening to owner/brewer JP spin some beats. The perfect way to get the weekend ignited!
URL:https://visit-marlborough.com/event/beats-brews-with-jp-lost-shoe-43/
LOCATION:Lost Shoe Brewing & Roasting Co.\, 19 Weed Street\, Marlborough\, MA\, 01752\, United States
END:VEVENT
BEGIN:VEVENT
DTSTART;TZID=America/New_York:20251003T210000
DTEND;TZID=America/New_York:20251003T230000
DTSTAMP:20260425T214332
CREATED:20250924T141547Z
LAST-MODIFIED:20250924T141547Z
UID:216443-1759525200-1759532400@visit-marlborough.com
SUMMARY:Live Music @ Dante’s at Firefly's BBQ!
DESCRIPTION:Crossroad \nOne of Greater Boston’s hottest fun-time party bands\, Crossroad performs Classic Rock covers that speak to fans across the musical spectrum!
URL:https://visit-marlborough.com/event/live-music-dantes-at-fireflys-bbq-154/
LOCATION:Firefly’s BBQ\, 350 East Main Street\, Marlborough\, MA\, 01752\, United States
END:VEVENT
BEGIN:VEVENT
DTSTART;TZID=America/New_York:20251004T090000
DTEND;TZID=America/New_York:20251004T130000
DTSTAMP:20260425T214332
CREATED:20250728T190537Z
LAST-MODIFIED:20250728T190537Z
UID:216161-1759568400-1759582800@visit-marlborough.com
SUMMARY:Marlborough Farmers Market
DESCRIPTION:Saturdays 9am – 1pm\nBehind City Hall\nJune 14th – October 4th
URL:https://visit-marlborough.com/event/marlborough-farmers-market-55/
LOCATION:Marlborough City Hall\, 140 Main Street\, Marlborough\, MA\, 01752\, United States
END:VEVENT
BEGIN:VEVENT
DTSTART;TZID=America/New_York:20251004T210000
DTEND;TZID=America/New_York:20251004T230000
DTSTAMP:20260425T214332
CREATED:20250924T141727Z
LAST-MODIFIED:20250924T141727Z
UID:216445-1759611600-1759618800@visit-marlborough.com
SUMMARY:Live Music @ Dante’s at Firefly's BBQ!
DESCRIPTION:Billy & The Jets \nPiano player and singer Chris Brunelle fronts the band Billy & The Jets\, playing the hits of Elton John and Billy Joel. Come enjoy the insane amount of hits these two amazing stars have created over the course of their illustrious careers!
URL:https://visit-marlborough.com/event/live-music-dantes-at-fireflys-bbq-155/
LOCATION:Firefly’s BBQ\, 350 East Main Street\, Marlborough\, MA\, 01752\, United States
END:VEVENT
BEGIN:VEVENT
DTSTART;TZID=America/New_York:20251005T090000
DTEND;TZID=America/New_York:20251005T100000
DTSTAMP:20260425T214332
CREATED:20250728T181947Z
LAST-MODIFIED:20250728T181947Z
UID:216131-1759654800-1759658400@visit-marlborough.com
SUMMARY:Rise & Grind Yoga - Community Class
DESCRIPTION:FREE CLASS! Bring your own yoga mat! In the courtyard behind City Hall. Donations welcome and will benefit the Metrowest Boys & Girls Club.  \nInstructor Bio:\nCait is an RYT-200 yoga teacher who offers energizing vinyasa flow classes grounded in strength\, breath\, and joy. Her dynamic sequences are crafted to challenge and inspire\, blending mindful movement with a spirit of play and curiosity. Cait’s classes are known for their uplifting energy\, creative transitions\, and moments of lightness and laughter\, inviting students to explore their edges while staying connected to the heart of their practice.
URL:https://visit-marlborough.com/event/rise-grind-yoga-community-class-10/
LOCATION:Marlborough City Hall\, 140 Main Street\, Marlborough\, MA\, 01752\, United States
END:VEVENT
BEGIN:VEVENT
DTSTART;TZID=America/New_York:20251008T193000
DTEND;TZID=America/New_York:20251008T213000
DTSTAMP:20260425T214332
CREATED:20250924T151158Z
LAST-MODIFIED:20250924T151158Z
UID:216471-1759951800-1759959000@visit-marlborough.com
SUMMARY:Trivia @ Tackle Box Brewing
DESCRIPTION:Join us every Wednesday for a fun-filled trivia night hosted by George! Bring your friends\, test your knowledge\, and enjoy great drinks at Tackle Box Brewing Co. Don’t miss out!
URL:https://visit-marlborough.com/event/trivia-tackle-box-brewing-98/
LOCATION:Tackle Box Brewing Company\, 416 Boston Post Road East\, Marlborough\, MA\, 01752\, United States
END:VEVENT
BEGIN:VEVENT
DTSTART;TZID=America/New_York:20251009T090000
DTEND;TZID=America/New_York:20251009T120000
DTSTAMP:20260425T214332
CREATED:20250728T175631Z
LAST-MODIFIED:20250728T175631Z
UID:216104-1760000400-1760011200@visit-marlborough.com
SUMMARY:Beats & Brews with JP @ Lost Shoe
DESCRIPTION:Enjoy a beverage while listening to owner/brewer JP spin some beats. The perfect way to get the weekend ignited!
URL:https://visit-marlborough.com/event/beats-brews-with-jp-lost-shoe-44/
LOCATION:Lost Shoe Brewing & Roasting Co.\, 19 Weed Street\, Marlborough\, MA\, 01752\, United States
END:VEVENT
BEGIN:VEVENT
DTSTART;TZID=America/New_York:20251010T210000
DTEND;TZID=America/New_York:20251010T230000
DTSTAMP:20260425T214332
CREATED:20250924T141839Z
LAST-MODIFIED:20250924T141839Z
UID:216447-1760130000-1760137200@visit-marlborough.com
SUMMARY:Live Music @ Dante’s at Firefly's BBQ!
DESCRIPTION:Crash & Burn \nCrash & Burn is a female fronted Rock ‘n’ Roll cover band playing Rock/Pop/Blues hits from the 70s to now!
URL:https://visit-marlborough.com/event/live-music-dantes-at-fireflys-bbq-156/
LOCATION:Firefly’s BBQ\, 350 East Main Street\, Marlborough\, MA\, 01752\, United States
END:VEVENT
BEGIN:VEVENT
DTSTART;TZID=America/New_York:20251011T210000
DTEND;TZID=America/New_York:20251011T230000
DTSTAMP:20260425T214332
CREATED:20250924T142057Z
LAST-MODIFIED:20250924T142057Z
UID:216449-1760216400-1760223600@visit-marlborough.com
SUMMARY:Live Music @ Dante’s at Firefly's BBQ!
DESCRIPTION:XS Band \nDance! Dance! Dance! With this 7-piece band featuring R&B\, Funk\, Soul\, and Hip Hop!
URL:https://visit-marlborough.com/event/live-music-dantes-at-fireflys-bbq-157/
LOCATION:Firefly’s BBQ\, 350 East Main Street\, Marlborough\, MA\, 01752\, United States
END:VEVENT
BEGIN:VEVENT
DTSTART;TZID=America/New_York:20251012T090000
DTEND;TZID=America/New_York:20251012T100000
DTSTAMP:20260425T214332
CREATED:20250728T182238Z
LAST-MODIFIED:20250728T182238Z
UID:216133-1760259600-1760263200@visit-marlborough.com
SUMMARY:Rise & Grind Yoga - Community Class
DESCRIPTION:FREE CLASS! Bring your own yoga mat! In the courtyard behind City Hall. Donations welcome and will benefit the Metrowest Boys & Girls Club.  \nInstructor Bio:\nCait is an RYT-200 yoga teacher who offers energizing vinyasa flow classes grounded in strength\, breath\, and joy. Her dynamic sequences are crafted to challenge and inspire\, blending mindful movement with a spirit of play and curiosity. Cait’s classes are known for their uplifting energy\, creative transitions\, and moments of lightness and laughter\, inviting students to explore their edges while staying connected to the heart of their practice.
URL:https://visit-marlborough.com/event/rise-grind-yoga-community-class-11/
LOCATION:Marlborough City Hall\, 140 Main Street\, Marlborough\, MA\, 01752\, United States
END:VEVENT
BEGIN:VEVENT
DTSTART;TZID=America/New_York:20251015T193000
DTEND;TZID=America/New_York:20251015T213000
DTSTAMP:20260425T214332
CREATED:20250924T151328Z
LAST-MODIFIED:20250924T151328Z
UID:216473-1760556600-1760563800@visit-marlborough.com
SUMMARY:Trivia @ Tackle Box Brewing
DESCRIPTION:Join us every Wednesday for a fun-filled trivia night hosted by George! Bring your friends\, test your knowledge\, and enjoy great drinks at Tackle Box Brewing Co. Don’t miss out!
URL:https://visit-marlborough.com/event/trivia-tackle-box-brewing-99/
LOCATION:Tackle Box Brewing Company\, 416 Boston Post Road East\, Marlborough\, MA\, 01752\, United States
END:VEVENT
BEGIN:VEVENT
DTSTART;TZID=America/New_York:20251016T090000
DTEND;TZID=America/New_York:20251016T120000
DTSTAMP:20260425T214332
CREATED:20250728T175716Z
LAST-MODIFIED:20250728T175716Z
UID:216106-1760605200-1760616000@visit-marlborough.com
SUMMARY:Beats & Brews with JP @ Lost Shoe
DESCRIPTION:Enjoy a beverage while listening to owner/brewer JP spin some beats. The perfect way to get the weekend ignited!
URL:https://visit-marlborough.com/event/beats-brews-with-jp-lost-shoe-45/
LOCATION:Lost Shoe Brewing & Roasting Co.\, 19 Weed Street\, Marlborough\, MA\, 01752\, United States
END:VEVENT
BEGIN:VEVENT
DTSTART;TZID=America/New_York:20251017T180000
DTEND;TZID=America/New_York:20251017T210000
DTSTAMP:20260425T214332
CREATED:20250728T195854Z
LAST-MODIFIED:20250728T195854Z
UID:216184-1760724000-1760734800@visit-marlborough.com
SUMMARY:Acoustic Open Mic Night @ Flying Dreams
DESCRIPTION:Sign ups start at 5:30pm\nMusic starts at 6pm\n3 songs
URL:https://visit-marlborough.com/event/acoustic-open-mic-night-flying-dreams-3/
LOCATION:Flying Dreams Brewing Co.\, 277 Main Street\, Marlborough\, MA\, 01752\, United States
END:VEVENT
BEGIN:VEVENT
DTSTART;TZID=America/New_York:20251017T210000
DTEND;TZID=America/New_York:20251017T230000
DTSTAMP:20260425T214332
CREATED:20250924T142512Z
LAST-MODIFIED:20250924T142512Z
UID:216451-1760734800-1760742000@visit-marlborough.com
SUMMARY:Live Music @ Dante’s at Firefly's BBQ!
DESCRIPTION:8-Track Mind \n8-Track Mind is a collective force of 5 groovy area musicians playing all of those songs you forgot about from the 8-Track era. Think “Have a Nice Day…” and FM radio from the 70s!
URL:https://visit-marlborough.com/event/live-music-dantes-at-fireflys-bbq-158/
LOCATION:Firefly’s BBQ\, 350 East Main Street\, Marlborough\, MA\, 01752\, United States
END:VEVENT
BEGIN:VEVENT
DTSTART;TZID=America/New_York:20251018T210000
DTEND;TZID=America/New_York:20251018T235900
DTSTAMP:20260425T214332
CREATED:20250924T142721Z
LAST-MODIFIED:20250924T142721Z
UID:216453-1760821200-1760831940@visit-marlborough.com
SUMMARY:Live Music @ Dante’s at Firefly's BBQ!
DESCRIPTION:The Great Escape \nPerforming the timeless music of Journey with precision\, high energy\, and genuine passion\, each and every time they hit the stage\, The Great Escape has a rapidly growing following\, adding more and more loyal fans each time they perform!
URL:https://visit-marlborough.com/event/live-music-dantes-at-fireflys-bbq-159/
LOCATION:Firefly’s BBQ\, 350 East Main Street\, Marlborough\, MA\, 01752\, United States
END:VEVENT
BEGIN:VEVENT
DTSTART;TZID=America/New_York:20251019T090000
DTEND;TZID=America/New_York:20251019T100000
DTSTAMP:20260425T214332
CREATED:20250728T182322Z
LAST-MODIFIED:20250728T182322Z
UID:216135-1760864400-1760868000@visit-marlborough.com
SUMMARY:Rise & Grind Yoga - Community Class
DESCRIPTION:FREE CLASS! Bring your own yoga mat! In the courtyard behind City Hall. Donations welcome and will benefit the Metrowest Boys & Girls Club.  \nInstructor Bio:\nCait is an RYT-200 yoga teacher who offers energizing vinyasa flow classes grounded in strength\, breath\, and joy. Her dynamic sequences are crafted to challenge and inspire\, blending mindful movement with a spirit of play and curiosity. Cait’s classes are known for their uplifting energy\, creative transitions\, and moments of lightness and laughter\, inviting students to explore their edges while staying connected to the heart of their practice.
URL:https://visit-marlborough.com/event/rise-grind-yoga-community-class-12/
LOCATION:Marlborough City Hall\, 140 Main Street\, Marlborough\, MA\, 01752\, United States
END:VEVENT
BEGIN:VEVENT
DTSTART;TZID=America/New_York:20251022T193000
DTEND;TZID=America/New_York:20251022T213000
DTSTAMP:20260425T214332
CREATED:20250924T151446Z
LAST-MODIFIED:20250924T151446Z
UID:216475-1761161400-1761168600@visit-marlborough.com
SUMMARY:Trivia @ Tackle Box Brewing
DESCRIPTION:Join us every Wednesday for a fun-filled trivia night hosted by George! Bring your friends\, test your knowledge\, and enjoy great drinks at Tackle Box Brewing Co. Don’t miss out!
URL:https://visit-marlborough.com/event/trivia-tackle-box-brewing-100/
LOCATION:Tackle Box Brewing Company\, 416 Boston Post Road East\, Marlborough\, MA\, 01752\, United States
END:VEVENT
BEGIN:VEVENT
DTSTART;TZID=America/New_York:20251023T090000
DTEND;TZID=America/New_York:20251023T120000
DTSTAMP:20260425T214332
CREATED:20250728T175754Z
LAST-MODIFIED:20250728T175754Z
UID:216108-1761210000-1761220800@visit-marlborough.com
SUMMARY:Beats & Brews with JP @ Lost Shoe
DESCRIPTION:Enjoy a beverage while listening to owner/brewer JP spin some beats. The perfect way to get the weekend ignited!
URL:https://visit-marlborough.com/event/beats-brews-with-jp-lost-shoe-46/
LOCATION:Lost Shoe Brewing & Roasting Co.\, 19 Weed Street\, Marlborough\, MA\, 01752\, United States
END:VEVENT
BEGIN:VEVENT
DTSTART;TZID=America/New_York:20251024T210000
DTEND;TZID=America/New_York:20251024T230000
DTSTAMP:20260425T214332
CREATED:20250924T144450Z
LAST-MODIFIED:20250924T144450Z
UID:216457-1761339600-1761346800@visit-marlborough.com
SUMMARY:Live Music @ Dante’s at Firefly's BBQ!
DESCRIPTION:True North \nTrue North commands the stage with powerful Classic Rock tunes. All night long\, their energy is amazing — each member of the band delivers a high level of performance\, so you can rock the night away!
URL:https://visit-marlborough.com/event/live-music-dantes-at-fireflys-bbq-161/
LOCATION:Firefly’s BBQ\, 350 East Main Street\, Marlborough\, MA\, 01752\, United States
END:VEVENT
BEGIN:VEVENT
DTSTART;TZID=America/New_York:20251025T120000
DTEND;TZID=America/New_York:20251025T180000
DTSTAMP:20260425T214332
CREATED:20251001T184705Z
LAST-MODIFIED:20251001T184705Z
UID:216564-1761393600-1761415200@visit-marlborough.com
SUMMARY:Halloween Street Fair @ Lost Shoe
DESCRIPTION:Grab your costumes and be there if you dare! \nWe will be hosting our Halloween Street Fair on Saturday\, 10/25 from 12-6PM in front of our taproom at 19 Weed Street. There will be specialty street vendors\, music\, food\, FREE face painting and so much more! \nEvent will be held outside and is weather permitting
URL:https://visit-marlborough.com/event/halloween-street-fair-lost-shoe-2/
LOCATION:Lost Shoe Brewing & Roasting Co.\, 19 Weed Street\, Marlborough\, MA\, 01752\, United States
END:VEVENT
BEGIN:VEVENT
DTSTART;TZID=America/New_York:20251025T210000
DTEND;TZID=America/New_York:20251025T230000
DTSTAMP:20260425T214332
CREATED:20250924T143816Z
LAST-MODIFIED:20250924T144555Z
UID:216454-1761426000-1761433200@visit-marlborough.com
SUMMARY:Live Music @ Dante’s at Firefly's BBQ!
DESCRIPTION:Rumour Hazit \nThis 6-piece band from the MetroWest area brings you classic Rock and Pop\, playing your favorite hits from Queen to Pink! “Great local band\, great sound\, great set lists!”
URL:https://visit-marlborough.com/event/live-music-dantes-at-fireflys-bbq-160/
LOCATION:Firefly’s BBQ\, 350 East Main Street\, Marlborough\, MA\, 01752\, United States
END:VEVENT
BEGIN:VEVENT
DTSTART;TZID=America/New_York:20251026T090000
DTEND;TZID=America/New_York:20251026T100000
DTSTAMP:20260425T214332
CREATED:20250728T182356Z
LAST-MODIFIED:20250728T182356Z
UID:216137-1761469200-1761472800@visit-marlborough.com
SUMMARY:Rise & Grind Yoga - Community Class
DESCRIPTION:FREE CLASS! Bring your own yoga mat! In the courtyard behind City Hall. Donations welcome and will benefit the Metrowest Boys & Girls Club.  \nInstructor Bio:\nCait is an RYT-200 yoga teacher who offers energizing vinyasa flow classes grounded in strength\, breath\, and joy. Her dynamic sequences are crafted to challenge and inspire\, blending mindful movement with a spirit of play and curiosity. Cait’s classes are known for their uplifting energy\, creative transitions\, and moments of lightness and laughter\, inviting students to explore their edges while staying connected to the heart of their practice.
URL:https://visit-marlborough.com/event/rise-grind-yoga-community-class-13/
LOCATION:Marlborough City Hall\, 140 Main Street\, Marlborough\, MA\, 01752\, United States
END:VEVENT
BEGIN:VEVENT
DTSTART;TZID=America/New_York:20251029T193000
DTEND;TZID=America/New_York:20251029T193000
DTSTAMP:20260425T214332
CREATED:20250924T152118Z
LAST-MODIFIED:20250924T152118Z
UID:216477-1761766200-1761766200@visit-marlborough.com
SUMMARY:Trivia @ Tackle Box Brewing
DESCRIPTION:Join us every Wednesday for a fun-filled trivia night hosted by George! Bring your friends\, test your knowledge\, and enjoy great drinks at Tackle Box Brewing Co. Don’t miss out!
URL:https://visit-marlborough.com/event/trivia-tackle-box-brewing-101/
LOCATION:Tackle Box Brewing Company\, 416 Boston Post Road East\, Marlborough\, MA\, 01752\, United States
END:VEVENT
BEGIN:VEVENT
DTSTART;TZID=America/New_York:20251030T090000
DTEND;TZID=America/New_York:20251030T120000
DTSTAMP:20260425T214332
CREATED:20250728T175948Z
LAST-MODIFIED:20250728T175948Z
UID:216110-1761814800-1761825600@visit-marlborough.com
SUMMARY:Beats & Brews with JP @ Lost Shoe
DESCRIPTION:Enjoy a beverage while listening to owner/brewer JP spin some beats. The perfect way to get the weekend ignited!
URL:https://visit-marlborough.com/event/beats-brews-with-jp-lost-shoe-47/
LOCATION:Lost Shoe Brewing & Roasting Co.\, 19 Weed Street\, Marlborough\, MA\, 01752\, United States
END:VEVENT
BEGIN:VEVENT
DTSTART;TZID=America/New_York:20251031T200000
DTEND;TZID=America/New_York:20251031T230000
DTSTAMP:20260425T214332
CREATED:20250924T144735Z
LAST-MODIFIED:20250924T144735Z
UID:216460-1761940800-1761951600@visit-marlborough.com
SUMMARY:Live Music @ Dante’s at Firefly's BBQ!
DESCRIPTION:DJ Dance Party \nA spirited night of dancing with DJ Nando serving up a magical mix of Brazilian\, Electronic\, and Pop Rock!
URL:https://visit-marlborough.com/event/live-music-dantes-at-fireflys-bbq-162/
LOCATION:Firefly’s BBQ\, 350 East Main Street\, Marlborough\, MA\, 01752\, United States
END:VEVENT
END:VCALENDAR