BEGIN:VCALENDAR
VERSION:2.0
PRODID:-//Visit Marlborough - ECPv6.15.20//NONSGML v1.0//EN
CALSCALE:GREGORIAN
METHOD:PUBLISH
X-WR-CALNAME:Visit Marlborough
X-ORIGINAL-URL:https://visit-marlborough.com
X-WR-CALDESC:Events for Visit Marlborough
REFRESH-INTERVAL;VALUE=DURATION:PT1H
X-Robots-Tag:noindex
X-PUBLISHED-TTL:PT1H
BEGIN:VTIMEZONE
TZID:America/New_York
BEGIN:DAYLIGHT
TZOFFSETFROM:-0500
TZOFFSETTO:-0400
TZNAME:EDT
DTSTART:20230312T070000
END:DAYLIGHT
BEGIN:STANDARD
TZOFFSETFROM:-0400
TZOFFSETTO:-0500
TZNAME:EST
DTSTART:20231105T060000
END:STANDARD
BEGIN:DAYLIGHT
TZOFFSETFROM:-0500
TZOFFSETTO:-0400
TZNAME:EDT
DTSTART:20240310T070000
END:DAYLIGHT
BEGIN:STANDARD
TZOFFSETFROM:-0400
TZOFFSETTO:-0500
TZNAME:EST
DTSTART:20241103T060000
END:STANDARD
BEGIN:DAYLIGHT
TZOFFSETFROM:-0500
TZOFFSETTO:-0400
TZNAME:EDT
DTSTART:20250309T070000
END:DAYLIGHT
BEGIN:STANDARD
TZOFFSETFROM:-0400
TZOFFSETTO:-0500
TZNAME:EST
DTSTART:20251102T060000
END:STANDARD
END:VTIMEZONE
BEGIN:VEVENT
DTSTART;TZID=America/New_York:20240614T190000
DTEND;TZID=America/New_York:20240614T210000
DTSTAMP:20260422T230219
CREATED:20240523T153113Z
LAST-MODIFIED:20240523T153804Z
UID:214536-1718391600-1718398800@visit-marlborough.com
SUMMARY:Flip Circus
DESCRIPTION:Created by the imagination of the Vazquez family. CREATIVITY – Years of experience has given us the ability to create a new and exciting show with a modern\, yet vintage feel. IMAGINATION – Imagine a show where your seat gives you an intimate\, up close and personal interaction with the artists. That is Fl!p CIrcus! FAMILY – For over 50 years and four generations\, the Vazquez family has provided quality circus throughout North and South America. Bringing many smiles and memories to the families that have visited Circus Vazquez. Come see what we are doing! \nWith our enormous red and white circus tent! See the great motorcycles inside the Globe of Steel\, and laugh like you never have before with our gleeful clowns. We are excited to have you join our community. Thank you for being of our magical world. Welcome to Fl!p Circus!
URL:https://visit-marlborough.com/event/flip-circus/
LOCATION:Solomon Pond Mall\, 601 Donald Lynch Blvd\, Marlborough\, MA\, 01752\, United States
END:VEVENT
BEGIN:VEVENT
DTSTART;TZID=America/New_York:20240615T130000
DTEND;TZID=America/New_York:20240615T150000
DTSTAMP:20260422T230219
CREATED:20240523T153216Z
LAST-MODIFIED:20240523T153855Z
UID:214539-1718456400-1718463600@visit-marlborough.com
SUMMARY:Flip Circus
DESCRIPTION:Created by the imagination of the Vazquez family. CREATIVITY – Years of experience has given us the ability to create a new and exciting show with a modern\, yet vintage feel. IMAGINATION – Imagine a show where your seat gives you an intimate\, up close and personal interaction with the artists. That is Fl!p CIrcus! FAMILY – For over 50 years and four generations\, the Vazquez family has provided quality circus throughout North and South America. Bringing many smiles and memories to the families that have visited Circus Vazquez. Come see what we are doing! \nWith our enormous red and white circus tent! See the great motorcycles inside the Globe of Steel\, and laugh like you never have before with our gleeful clowns. We are excited to have you join our community. Thank you for being of our magical world. Welcome to Fl!p Circus!
URL:https://visit-marlborough.com/event/flip-circus-2/
LOCATION:Solomon Pond Mall\, 601 Donald Lynch Blvd\, Marlborough\, MA\, 01752\, United States
END:VEVENT
BEGIN:VEVENT
DTSTART;TZID=America/New_York:20240615T160000
DTEND;TZID=America/New_York:20240615T180000
DTSTAMP:20260422T230219
CREATED:20240523T153309Z
LAST-MODIFIED:20240523T153955Z
UID:214541-1718467200-1718474400@visit-marlborough.com
SUMMARY:Flip Circus
DESCRIPTION:Created by the imagination of the Vazquez family. CREATIVITY – Years of experience has given us the ability to create a new and exciting show with a modern\, yet vintage feel. IMAGINATION – Imagine a show where your seat gives you an intimate\, up close and personal interaction with the artists. That is Fl!p CIrcus! FAMILY – For over 50 years and four generations\, the Vazquez family has provided quality circus throughout North and South America. Bringing many smiles and memories to the families that have visited Circus Vazquez. Come see what we are doing! \nWith our enormous red and white circus tent! See the great motorcycles inside the Globe of Steel\, and laugh like you never have before with our gleeful clowns. We are excited to have you join our community. Thank you for being of our magical world. Welcome to Fl!p Circus!
URL:https://visit-marlborough.com/event/flip-circus-3/
LOCATION:Solomon Pond Mall\, 601 Donald Lynch Blvd\, Marlborough\, MA\, 01752\, United States
END:VEVENT
BEGIN:VEVENT
DTSTART;TZID=America/New_York:20240615T190000
DTEND;TZID=America/New_York:20240615T210000
DTSTAMP:20260422T230219
CREATED:20240523T153415Z
LAST-MODIFIED:20240523T154059Z
UID:214543-1718478000-1718485200@visit-marlborough.com
SUMMARY:Flip Circus
DESCRIPTION:Created by the imagination of the Vazquez family. CREATIVITY – Years of experience has given us the ability to create a new and exciting show with a modern\, yet vintage feel. IMAGINATION – Imagine a show where your seat gives you an intimate\, up close and personal interaction with the artists. That is Fl!p CIrcus! FAMILY – For over 50 years and four generations\, the Vazquez family has provided quality circus throughout North and South America. Bringing many smiles and memories to the families that have visited Circus Vazquez. Come see what we are doing! \nWith our enormous red and white circus tent! See the great motorcycles inside the Globe of Steel\, and laugh like you never have before with our gleeful clowns. We are excited to have you join our community. Thank you for being of our magical world. Welcome to Fl!p Circus!
URL:https://visit-marlborough.com/event/flip-circus-4/
LOCATION:Solomon Pond Mall\, 601 Donald Lynch Blvd\, Marlborough\, MA\, 01752\, United States
END:VEVENT
BEGIN:VEVENT
DTSTART;TZID=America/New_York:20240616T120000
DTEND;TZID=America/New_York:20240616T140000
DTSTAMP:20260422T230219
CREATED:20240523T154209Z
LAST-MODIFIED:20240523T154209Z
UID:214545-1718539200-1718546400@visit-marlborough.com
SUMMARY:Flip Circus
DESCRIPTION:Created by the imagination of the Vazquez family. CREATIVITY – Years of experience has given us the ability to create a new and exciting show with a modern\, yet vintage feel. IMAGINATION – Imagine a show where your seat gives you an intimate\, up close and personal interaction with the artists. That is Fl!p CIrcus! FAMILY – For over 50 years and four generations\, the Vazquez family has provided quality circus throughout North and South America. Bringing many smiles and memories to the families that have visited Circus Vazquez. Come see what we are doing! \nWith our enormous red and white circus tent! See the great motorcycles inside the Globe of Steel\, and laugh like you never have before with our gleeful clowns. We are excited to have you join our community. Thank you for being of our magical world. Welcome to Fl!p Circus!
URL:https://visit-marlborough.com/event/flip-circus-5/
LOCATION:Solomon Pond Mall\, 601 Donald Lynch Blvd\, Marlborough\, MA\, 01752\, United States
END:VEVENT
BEGIN:VEVENT
DTSTART;TZID=America/New_York:20240616T150000
DTEND;TZID=America/New_York:20240616T170000
DTSTAMP:20260422T230219
CREATED:20240523T154257Z
LAST-MODIFIED:20240523T154314Z
UID:214547-1718550000-1718557200@visit-marlborough.com
SUMMARY:Flip Circus
DESCRIPTION:Created by the imagination of the Vazquez family. CREATIVITY – Years of experience has given us the ability to create a new and exciting show with a modern\, yet vintage feel. IMAGINATION – Imagine a show where your seat gives you an intimate\, up close and personal interaction with the artists. That is Fl!p CIrcus! FAMILY – For over 50 years and four generations\, the Vazquez family has provided quality circus throughout North and South America. Bringing many smiles and memories to the families that have visited Circus Vazquez. Come see what we are doing! \nWith our enormous red and white circus tent! See the great motorcycles inside the Globe of Steel\, and laugh like you never have before with our gleeful clowns. We are excited to have you join our community. Thank you for being of our magical world. Welcome to Fl!p Circus!
URL:https://visit-marlborough.com/event/flip-circus-6/
LOCATION:Solomon Pond Mall\, 601 Donald Lynch Blvd\, Marlborough\, MA\, 01752\, United States
END:VEVENT
BEGIN:VEVENT
DTSTART;TZID=America/New_York:20240616T200000
DTEND;TZID=America/New_York:20240616T220000
DTSTAMP:20260422T230219
CREATED:20240523T154354Z
LAST-MODIFIED:20240523T154354Z
UID:214549-1718568000-1718575200@visit-marlborough.com
SUMMARY:Flip Circus
DESCRIPTION:Created by the imagination of the Vazquez family. CREATIVITY – Years of experience has given us the ability to create a new and exciting show with a modern\, yet vintage feel. IMAGINATION – Imagine a show where your seat gives you an intimate\, up close and personal interaction with the artists. That is Fl!p CIrcus! FAMILY – For over 50 years and four generations\, the Vazquez family has provided quality circus throughout North and South America. Bringing many smiles and memories to the families that have visited Circus Vazquez. Come see what we are doing! \nWith our enormous red and white circus tent! See the great motorcycles inside the Globe of Steel\, and laugh like you never have before with our gleeful clowns. We are excited to have you join our community. Thank you for being of our magical world. Welcome to Fl!p Circus!
URL:https://visit-marlborough.com/event/flip-circus-7/
LOCATION:Solomon Pond Mall\, 601 Donald Lynch Blvd\, Marlborough\, MA\, 01752\, United States
END:VEVENT
BEGIN:VEVENT
DTSTART;TZID=America/New_York:20240617T190000
DTEND;TZID=America/New_York:20240617T210000
DTSTAMP:20260422T230219
CREATED:20240523T154451Z
LAST-MODIFIED:20240523T154451Z
UID:214551-1718650800-1718658000@visit-marlborough.com
SUMMARY:Flip Circus
DESCRIPTION:Created by the imagination of the Vazquez family. CREATIVITY – Years of experience has given us the ability to create a new and exciting show with a modern\, yet vintage feel. IMAGINATION – Imagine a show where your seat gives you an intimate\, up close and personal interaction with the artists. That is Fl!p CIrcus! FAMILY – For over 50 years and four generations\, the Vazquez family has provided quality circus throughout North and South America. Bringing many smiles and memories to the families that have visited Circus Vazquez. Come see what we are doing! \nWith our enormous red and white circus tent! See the great motorcycles inside the Globe of Steel\, and laugh like you never have before with our gleeful clowns. We are excited to have you join our community. Thank you for being of our magical world. Welcome to Fl!p Circus!
URL:https://visit-marlborough.com/event/flip-circus-8/
LOCATION:Solomon Pond Mall\, 601 Donald Lynch Blvd\, Marlborough\, MA\, 01752\, United States
END:VEVENT
BEGIN:VEVENT
DTSTART;TZID=America/New_York:20240618T190000
DTEND;TZID=America/New_York:20240618T210000
DTSTAMP:20260422T230219
CREATED:20240523T154600Z
LAST-MODIFIED:20240523T154600Z
UID:214553-1718737200-1718744400@visit-marlborough.com
SUMMARY:Flip Circus
DESCRIPTION:Created by the imagination of the Vazquez family. CREATIVITY – Years of experience has given us the ability to create a new and exciting show with a modern\, yet vintage feel. IMAGINATION – Imagine a show where your seat gives you an intimate\, up close and personal interaction with the artists. That is Fl!p CIrcus! FAMILY – For over 50 years and four generations\, the Vazquez family has provided quality circus throughout North and South America. Bringing many smiles and memories to the families that have visited Circus Vazquez. Come see what we are doing! \nWith our enormous red and white circus tent! See the great motorcycles inside the Globe of Steel\, and laugh like you never have before with our gleeful clowns. We are excited to have you join our community. Thank you for being of our magical world. Welcome to Fl!p Circus!
URL:https://visit-marlborough.com/event/flip-circus-9/
LOCATION:Solomon Pond Mall\, 601 Donald Lynch Blvd\, Marlborough\, MA\, 01752\, United States
END:VEVENT
BEGIN:VEVENT
DTSTART;TZID=America/New_York:20240619T190000
DTEND;TZID=America/New_York:20240619T210000
DTSTAMP:20260422T230219
CREATED:20240523T154644Z
LAST-MODIFIED:20240523T154644Z
UID:214555-1718823600-1718830800@visit-marlborough.com
SUMMARY:Flip Circus
DESCRIPTION:Created by the imagination of the Vazquez family. CREATIVITY – Years of experience has given us the ability to create a new and exciting show with a modern\, yet vintage feel. IMAGINATION – Imagine a show where your seat gives you an intimate\, up close and personal interaction with the artists. That is Fl!p CIrcus! FAMILY – For over 50 years and four generations\, the Vazquez family has provided quality circus throughout North and South America. Bringing many smiles and memories to the families that have visited Circus Vazquez. Come see what we are doing! \nWith our enormous red and white circus tent! See the great motorcycles inside the Globe of Steel\, and laugh like you never have before with our gleeful clowns. We are excited to have you join our community. Thank you for being of our magical world. Welcome to Fl!p Circus!
URL:https://visit-marlborough.com/event/flip-circus-10/
LOCATION:Solomon Pond Mall\, 601 Donald Lynch Blvd\, Marlborough\, MA\, 01752\, United States
END:VEVENT
BEGIN:VEVENT
DTSTART;TZID=America/New_York:20240620T190000
DTEND;TZID=America/New_York:20240620T210000
DTSTAMP:20260422T230219
CREATED:20240523T154745Z
LAST-MODIFIED:20240523T154818Z
UID:214557-1718910000-1718917200@visit-marlborough.com
SUMMARY:Flip Circus
DESCRIPTION:Created by the imagination of the Vazquez family. CREATIVITY – Years of experience has given us the ability to create a new and exciting show with a modern\, yet vintage feel. IMAGINATION – Imagine a show where your seat gives you an intimate\, up close and personal interaction with the artists. That is Fl!p Circus! FAMILY – For over 50 years and four generations\, the Vazquez family has provided quality circus throughout North and South America. Bringing many smiles and memories to the families that have visited Circus Vazquez. Come see what we are doing! \nWith our enormous red and white circus tent! See the great motorcycles inside the Globe of Steel\, and laugh like you never have before with our gleeful clowns. We are excited to have you join our community. Thank you for being of our magical world. Welcome to Fl!p Circus!
URL:https://visit-marlborough.com/event/flip-circus-11/
LOCATION:Solomon Pond Mall\, 601 Donald Lynch Blvd\, Marlborough\, MA\, 01752\, United States
END:VEVENT
BEGIN:VEVENT
DTSTART;TZID=America/New_York:20240621T190000
DTEND;TZID=America/New_York:20240621T210000
DTSTAMP:20260422T230219
CREATED:20240523T154908Z
LAST-MODIFIED:20240523T154908Z
UID:214560-1718996400-1719003600@visit-marlborough.com
SUMMARY:Flip Circus
DESCRIPTION:Created by the imagination of the Vazquez family. CREATIVITY – Years of experience has given us the ability to create a new and exciting show with a modern\, yet vintage feel. IMAGINATION – Imagine a show where your seat gives you an intimate\, up close and personal interaction with the artists. That is Fl!p Circus! FAMILY – For over 50 years and four generations\, the Vazquez family has provided quality circus throughout North and South America. Bringing many smiles and memories to the families that have visited Circus Vazquez. Come see what we are doing! \nWith our enormous red and white circus tent! See the great motorcycles inside the Globe of Steel\, and laugh like you never have before with our gleeful clowns. We are excited to have you join our community. Thank you for being of our magical world. Welcome to Fl!p Circus!
URL:https://visit-marlborough.com/event/flip-circus-12/
LOCATION:Solomon Pond Mall\, 601 Donald Lynch Blvd\, Marlborough\, MA\, 01752\, United States
END:VEVENT
BEGIN:VEVENT
DTSTART;TZID=America/New_York:20240622T130000
DTEND;TZID=America/New_York:20240622T150000
DTSTAMP:20260422T230219
CREATED:20240523T155026Z
LAST-MODIFIED:20240523T155026Z
UID:214562-1719061200-1719068400@visit-marlborough.com
SUMMARY:Flip Circus
DESCRIPTION:Created by the imagination of the Vazquez family. CREATIVITY – Years of experience has given us the ability to create a new and exciting show with a modern\, yet vintage feel. IMAGINATION – Imagine a show where your seat gives you an intimate\, up close and personal interaction with the artists. That is Fl!p Circus! FAMILY – For over 50 years and four generations\, the Vazquez family has provided quality circus throughout North and South America. Bringing many smiles and memories to the families that have visited Circus Vazquez. Come see what we are doing! \nWith our enormous red and white circus tent! See the great motorcycles inside the Globe of Steel\, and laugh like you never have before with our gleeful clowns. We are excited to have you join our community. Thank you for being of our magical world. Welcome to Fl!p Circus!
URL:https://visit-marlborough.com/event/flip-circus-13/
LOCATION:Solomon Pond Mall\, 601 Donald Lynch Blvd\, Marlborough\, MA\, 01752\, United States
END:VEVENT
BEGIN:VEVENT
DTSTART;TZID=America/New_York:20240622T160000
DTEND;TZID=America/New_York:20240622T180000
DTSTAMP:20260422T230219
CREATED:20240523T155132Z
LAST-MODIFIED:20240523T155132Z
UID:214564-1719072000-1719079200@visit-marlborough.com
SUMMARY:Flip Circus
DESCRIPTION:Created by the imagination of the Vazquez family. CREATIVITY – Years of experience has given us the ability to create a new and exciting show with a modern\, yet vintage feel. IMAGINATION – Imagine a show where your seat gives you an intimate\, up close and personal interaction with the artists. That is Fl!p Circus! FAMILY – For over 50 years and four generations\, the Vazquez family has provided quality circus throughout North and South America. Bringing many smiles and memories to the families that have visited Circus Vazquez. Come see what we are doing! \nWith our enormous red and white circus tent! See the great motorcycles inside the Globe of Steel\, and laugh like you never have before with our gleeful clowns. We are excited to have you join our community. Thank you for being of our magical world. Welcome to Fl!p Circus!
URL:https://visit-marlborough.com/event/flip-circus-14/
LOCATION:Solomon Pond Mall\, 601 Donald Lynch Blvd\, Marlborough\, MA\, 01752\, United States
END:VEVENT
BEGIN:VEVENT
DTSTART;TZID=America/New_York:20240622T190000
DTEND;TZID=America/New_York:20240622T210000
DTSTAMP:20260422T230219
CREATED:20240523T155215Z
LAST-MODIFIED:20240523T155215Z
UID:214566-1719082800-1719090000@visit-marlborough.com
SUMMARY:Flip Circus
DESCRIPTION:Created by the imagination of the Vazquez family. CREATIVITY – Years of experience has given us the ability to create a new and exciting show with a modern\, yet vintage feel. IMAGINATION – Imagine a show where your seat gives you an intimate\, up close and personal interaction with the artists. That is Fl!p Circus! FAMILY – For over 50 years and four generations\, the Vazquez family has provided quality circus throughout North and South America. Bringing many smiles and memories to the families that have visited Circus Vazquez. Come see what we are doing! \nWith our enormous red and white circus tent! See the great motorcycles inside the Globe of Steel\, and laugh like you never have before with our gleeful clowns. We are excited to have you join our community. Thank you for being of our magical world. Welcome to Fl!p Circus!
URL:https://visit-marlborough.com/event/flip-circus-15/
LOCATION:Solomon Pond Mall\, 601 Donald Lynch Blvd\, Marlborough\, MA\, 01752\, United States
END:VEVENT
BEGIN:VEVENT
DTSTART;TZID=America/New_York:20240623T120000
DTEND;TZID=America/New_York:20240623T140000
DTSTAMP:20260422T230219
CREATED:20240523T155315Z
LAST-MODIFIED:20240523T155315Z
UID:214568-1719144000-1719151200@visit-marlborough.com
SUMMARY:Flip Circus
DESCRIPTION:Created by the imagination of the Vazquez family. CREATIVITY – Years of experience has given us the ability to create a new and exciting show with a modern\, yet vintage feel. IMAGINATION – Imagine a show where your seat gives you an intimate\, up close and personal interaction with the artists. That is Fl!p Circus! FAMILY – For over 50 years and four generations\, the Vazquez family has provided quality circus throughout North and South America. Bringing many smiles and memories to the families that have visited Circus Vazquez. Come see what we are doing! \nWith our enormous red and white circus tent! See the great motorcycles inside the Globe of Steel\, and laugh like you never have before with our gleeful clowns. We are excited to have you join our community. Thank you for being of our magical world. Welcome to Fl!p Circus!
URL:https://visit-marlborough.com/event/flip-circus-16/
LOCATION:Solomon Pond Mall\, 601 Donald Lynch Blvd\, Marlborough\, MA\, 01752\, United States
END:VEVENT
BEGIN:VEVENT
DTSTART;TZID=America/New_York:20240623T150000
DTEND;TZID=America/New_York:20240623T170000
DTSTAMP:20260422T230219
CREATED:20240523T155505Z
LAST-MODIFIED:20240523T155505Z
UID:214570-1719154800-1719162000@visit-marlborough.com
SUMMARY:Flip Circus
DESCRIPTION:Created by the imagination of the Vazquez family. CREATIVITY – Years of experience has given us the ability to create a new and exciting show with a modern\, yet vintage feel. IMAGINATION – Imagine a show where your seat gives you an intimate\, up close and personal interaction with the artists. That is Fl!p Circus! FAMILY – For over 50 years and four generations\, the Vazquez family has provided quality circus throughout North and South America. Bringing many smiles and memories to the families that have visited Circus Vazquez. Come see what we are doing! \nWith our enormous red and white circus tent! See the great motorcycles inside the Globe of Steel\, and laugh like you never have before with our gleeful clowns. We are excited to have you join our community. Thank you for being of our magical world. Welcome to Fl!p Circus!
URL:https://visit-marlborough.com/event/flip-circus-17/
LOCATION:Solomon Pond Mall\, 601 Donald Lynch Blvd\, Marlborough\, MA\, 01752\, United States
END:VEVENT
BEGIN:VEVENT
DTSTART;TZID=America/New_York:20240623T200000
DTEND;TZID=America/New_York:20240623T220000
DTSTAMP:20260422T230219
CREATED:20240523T155609Z
LAST-MODIFIED:20240523T155609Z
UID:214572-1719172800-1719180000@visit-marlborough.com
SUMMARY:Flip Circus
DESCRIPTION:Created by the imagination of the Vazquez family. CREATIVITY – Years of experience has given us the ability to create a new and exciting show with a modern\, yet vintage feel. IMAGINATION – Imagine a show where your seat gives you an intimate\, up close and personal interaction with the artists. That is Fl!p Circus! FAMILY – For over 50 years and four generations\, the Vazquez family has provided quality circus throughout North and South America. Bringing many smiles and memories to the families that have visited Circus Vazquez. Come see what we are doing! \nWith our enormous red and white circus tent! See the great motorcycles inside the Globe of Steel\, and laugh like you never have before with our gleeful clowns. We are excited to have you join our community. Thank you for being of our magical world. Welcome to Fl!p Circus!
URL:https://visit-marlborough.com/event/flip-circus-18/
LOCATION:Solomon Pond Mall\, 601 Donald Lynch Blvd\, Marlborough\, MA\, 01752\, United States
END:VEVENT
BEGIN:VEVENT
DTSTART;TZID=America/New_York:20240624T190000
DTEND;TZID=America/New_York:20240624T210000
DTSTAMP:20260422T230219
CREATED:20240523T155659Z
LAST-MODIFIED:20240523T155659Z
UID:214574-1719255600-1719262800@visit-marlborough.com
SUMMARY:Flip Circus
DESCRIPTION:Created by the imagination of the Vazquez family. CREATIVITY – Years of experience has given us the ability to create a new and exciting show with a modern\, yet vintage feel. IMAGINATION – Imagine a show where your seat gives you an intimate\, up close and personal interaction with the artists. That is Fl!p Circus! FAMILY – For over 50 years and four generations\, the Vazquez family has provided quality circus throughout North and South America. Bringing many smiles and memories to the families that have visited Circus Vazquez. Come see what we are doing! \nWith our enormous red and white circus tent! See the great motorcycles inside the Globe of Steel\, and laugh like you never have before with our gleeful clowns. We are excited to have you join our community. Thank you for being of our magical world. Welcome to Fl!p Circus!
URL:https://visit-marlborough.com/event/flip-circus-19/
LOCATION:Solomon Pond Mall\, 601 Donald Lynch Blvd\, Marlborough\, MA\, 01752\, United States
END:VEVENT
BEGIN:VEVENT
DTSTART;TZID=America/New_York:20240625T190000
DTEND;TZID=America/New_York:20240625T210000
DTSTAMP:20260422T230219
CREATED:20240523T155803Z
LAST-MODIFIED:20240523T155803Z
UID:214576-1719342000-1719349200@visit-marlborough.com
SUMMARY:Flip Circus
DESCRIPTION:Created by the imagination of the Vazquez family. CREATIVITY – Years of experience has given us the ability to create a new and exciting show with a modern\, yet vintage feel. IMAGINATION – Imagine a show where your seat gives you an intimate\, up close and personal interaction with the artists. That is Fl!p Circus! FAMILY – For over 50 years and four generations\, the Vazquez family has provided quality circus throughout North and South America. Bringing many smiles and memories to the families that have visited Circus Vazquez. Come see what we are doing! \nWith our enormous red and white circus tent! See the great motorcycles inside the Globe of Steel\, and laugh like you never have before with our gleeful clowns. We are excited to have you join our community. Thank you for being of our magical world. Welcome to Fl!p Circus!
URL:https://visit-marlborough.com/event/flip-circus-20/
LOCATION:Solomon Pond Mall\, 601 Donald Lynch Blvd\, Marlborough\, MA\, 01752\, United States
END:VEVENT
END:VCALENDAR