BEGIN:VCALENDAR
VERSION:2.0
PRODID:-//Visit Marlborough - ECPv6.15.20//NONSGML v1.0//EN
CALSCALE:GREGORIAN
METHOD:PUBLISH
X-WR-CALNAME:Visit Marlborough
X-ORIGINAL-URL:https://visit-marlborough.com
X-WR-CALDESC:Events for Visit Marlborough
REFRESH-INTERVAL;VALUE=DURATION:PT1H
X-Robots-Tag:noindex
X-PUBLISHED-TTL:PT1H
BEGIN:VTIMEZONE
TZID:America/New_York
BEGIN:DAYLIGHT
TZOFFSETFROM:-0500
TZOFFSETTO:-0400
TZNAME:EDT
DTSTART:20210314T070000
END:DAYLIGHT
BEGIN:STANDARD
TZOFFSETFROM:-0400
TZOFFSETTO:-0500
TZNAME:EST
DTSTART:20211107T060000
END:STANDARD
BEGIN:DAYLIGHT
TZOFFSETFROM:-0500
TZOFFSETTO:-0400
TZNAME:EDT
DTSTART:20220313T070000
END:DAYLIGHT
BEGIN:STANDARD
TZOFFSETFROM:-0400
TZOFFSETTO:-0500
TZNAME:EST
DTSTART:20221106T060000
END:STANDARD
BEGIN:DAYLIGHT
TZOFFSETFROM:-0500
TZOFFSETTO:-0400
TZNAME:EDT
DTSTART:20230312T070000
END:DAYLIGHT
BEGIN:STANDARD
TZOFFSETFROM:-0400
TZOFFSETTO:-0500
TZNAME:EST
DTSTART:20231105T060000
END:STANDARD
END:VTIMEZONE
BEGIN:VEVENT
DTSTART;TZID=America/New_York:20220604T180000
DTEND;TZID=America/New_York:20220604T213000
DTSTAMP:20260423T041318
CREATED:20220531T150210Z
LAST-MODIFIED:20220531T150210Z
UID:208558-1654365600-1654378200@visit-marlborough.com
SUMMARY:Live Music @ Bolton Street Tavern
DESCRIPTION:Playing is Wicked Betty & the Bad Habits! Live!
URL:https://visit-marlborough.com/event/live-music-bolton-street-tavern-8/
LOCATION:Bolton Street Tavern\, 587 Bolton Street\, Marlborough\, MA\, 01752\, United States
END:VEVENT
BEGIN:VEVENT
DTSTART;TZID=America/New_York:20220604T180000
DTEND;TZID=America/New_York:20220604T213000
DTSTAMP:20260423T041318
CREATED:20220531T150210Z
LAST-MODIFIED:20220531T150210Z
UID:210915-1654365600-1654378200@visit-marlborough.com
SUMMARY:Live Music @ Bolton Street Tavern
DESCRIPTION:Playing is Wicked Betty & the Bad Habits! Live!
URL:https://visit-marlborough.com/event/live-music-bolton-street-tavern-8-2/
LOCATION:Bolton Street Tavern\, 587 Bolton Street\, Marlborough\, MA\, 01752\, United States
END:VEVENT
BEGIN:VEVENT
DTSTART;TZID=America/New_York:20220604T210000
DTEND;TZID=America/New_York:20220605T000000
DTSTAMP:20260423T041318
CREATED:20220531T142430Z
LAST-MODIFIED:20220531T142623Z
UID:208542-1654376400-1654387200@visit-marlborough.com
SUMMARY:Live Music at Firefly's BBQ!
DESCRIPTION:Bone City\n\n\nBone City is a high energy rock band aimed at tickling your party bone. They love to get up on stage and have a good time\, while playing Rock songs you know from the 70s\, 80s and 90s to today!
URL:https://visit-marlborough.com/event/live-music-at-fireflys-bbq-2/
LOCATION:Firefly’s BBQ\, 350 East Main Street\, Marlborough\, MA\, 01752\, United States
END:VEVENT
BEGIN:VEVENT
DTSTART;TZID=America/New_York:20220604T210000
DTEND;TZID=America/New_York:20220605T000000
DTSTAMP:20260423T041318
CREATED:20220531T142430Z
LAST-MODIFIED:20220531T142430Z
UID:210908-1654376400-1654387200@visit-marlborough.com
SUMMARY:Live Music at Firefly's BBQ!
DESCRIPTION:Bone City\n\n\nBone City is a high energy rock band aimed at tickling your party bone. They love to get up on stage and have a good time\, while playing Rock songs you know from the 70s\, 80s and 90s to today!
URL:https://visit-marlborough.com/event/live-music-at-fireflys-bbq-2-2/
LOCATION:Firefly’s BBQ\, 350 East Main Street\, Marlborough\, MA\, 01752\, United States
END:VEVENT
END:VCALENDAR