BEGIN:VCALENDAR
VERSION:2.0
PRODID:-//Visit Marlborough - ECPv6.15.20//NONSGML v1.0//EN
CALSCALE:GREGORIAN
METHOD:PUBLISH
X-WR-CALNAME:Visit Marlborough
X-ORIGINAL-URL:https://visit-marlborough.com
X-WR-CALDESC:Events for Visit Marlborough
REFRESH-INTERVAL;VALUE=DURATION:PT1H
X-Robots-Tag:noindex
X-PUBLISHED-TTL:PT1H
BEGIN:VTIMEZONE
TZID:America/New_York
BEGIN:DAYLIGHT
TZOFFSETFROM:-0500
TZOFFSETTO:-0400
TZNAME:EDT
DTSTART:20210314T070000
END:DAYLIGHT
BEGIN:STANDARD
TZOFFSETFROM:-0400
TZOFFSETTO:-0500
TZNAME:EST
DTSTART:20211107T060000
END:STANDARD
BEGIN:DAYLIGHT
TZOFFSETFROM:-0500
TZOFFSETTO:-0400
TZNAME:EDT
DTSTART:20220313T070000
END:DAYLIGHT
BEGIN:STANDARD
TZOFFSETFROM:-0400
TZOFFSETTO:-0500
TZNAME:EST
DTSTART:20221106T060000
END:STANDARD
BEGIN:DAYLIGHT
TZOFFSETFROM:-0500
TZOFFSETTO:-0400
TZNAME:EDT
DTSTART:20230312T070000
END:DAYLIGHT
BEGIN:STANDARD
TZOFFSETFROM:-0400
TZOFFSETTO:-0500
TZNAME:EST
DTSTART:20231105T060000
END:STANDARD
END:VTIMEZONE
BEGIN:VEVENT
DTSTART;TZID=America/New_York:20220429T183000
DTEND;TZID=America/New_York:20220429T210000
DTSTAMP:20260423T230110
CREATED:20220407T191834Z
LAST-MODIFIED:20220407T191834Z
UID:208364-1651257000-1651266000@visit-marlborough.com
SUMMARY:Love Music @ Chill Kitchen and Bar
DESCRIPTION:Preforming @ Chill is TDB!
URL:https://visit-marlborough.com/event/love-music-chill-kitchen-and-bar-8/
LOCATION:Chill Kitchen and Bar\, 416 Boston Post Road East\, Marlborough\, MA\, 01752\, United States
END:VEVENT
BEGIN:VEVENT
DTSTART;TZID=America/New_York:20220429T183000
DTEND;TZID=America/New_York:20220429T210000
DTSTAMP:20260423T230110
CREATED:20220407T191834Z
LAST-MODIFIED:20220407T191834Z
UID:210842-1651257000-1651266000@visit-marlborough.com
SUMMARY:Love Music @ Chill Kitchen and Bar
DESCRIPTION:Preforming @ Chill is TDB!
URL:https://visit-marlborough.com/event/love-music-chill-kitchen-and-bar-8-2/
LOCATION:Chill Kitchen and Bar\, 416 Boston Post Road East\, Marlborough\, MA\, 01752\, United States
END:VEVENT
BEGIN:VEVENT
DTSTART;TZID=America/New_York:20220429T190000
DTEND;TZID=America/New_York:20220429T210000
DTSTAMP:20260423T230110
CREATED:20220404T164807Z
LAST-MODIFIED:20220404T164807Z
UID:208331-1651258800-1651266000@visit-marlborough.com
SUMMARY:Live Music Ft. Bar Rock @ Marlborough Country Club
DESCRIPTION:Join us for a night of tunes from Bar Rock on our deck overlooking the 18th green.
URL:https://visit-marlborough.com/event/live-music-ft-bar-rock-marlborough-country-club-2/
LOCATION:Marlborough Country Club\, 200 Concord Rd\, Marlborough\, MA\, 01752\, United States
END:VEVENT
BEGIN:VEVENT
DTSTART;TZID=America/New_York:20220429T190000
DTEND;TZID=America/New_York:20220429T210000
DTSTAMP:20260423T230110
CREATED:20220404T164807Z
LAST-MODIFIED:20220404T164807Z
UID:210828-1651258800-1651266000@visit-marlborough.com
SUMMARY:Live Music Ft. Bar Rock @ Marlborough Country Club
DESCRIPTION:Join us for a night of tunes from Bar Rock on our deck overlooking the 18th green.
URL:https://visit-marlborough.com/event/live-music-ft-bar-rock-marlborough-country-club-2-2/
LOCATION:Marlborough Country Club\, 200 Concord Rd\, Marlborough\, MA\, 01752\, United States
END:VEVENT
END:VCALENDAR