BEGIN:VCALENDAR
VERSION:2.0
PRODID:-//Visit Marlborough - ECPv6.15.20//NONSGML v1.0//EN
CALSCALE:GREGORIAN
METHOD:PUBLISH
X-WR-CALNAME:Visit Marlborough
X-ORIGINAL-URL:https://visit-marlborough.com
X-WR-CALDESC:Events for Visit Marlborough
REFRESH-INTERVAL;VALUE=DURATION:PT1H
X-Robots-Tag:noindex
X-PUBLISHED-TTL:PT1H
BEGIN:VTIMEZONE
TZID:America/New_York
BEGIN:DAYLIGHT
TZOFFSETFROM:-0500
TZOFFSETTO:-0400
TZNAME:EDT
DTSTART:20210314T070000
END:DAYLIGHT
BEGIN:STANDARD
TZOFFSETFROM:-0400
TZOFFSETTO:-0500
TZNAME:EST
DTSTART:20211107T060000
END:STANDARD
BEGIN:DAYLIGHT
TZOFFSETFROM:-0500
TZOFFSETTO:-0400
TZNAME:EDT
DTSTART:20220313T070000
END:DAYLIGHT
BEGIN:STANDARD
TZOFFSETFROM:-0400
TZOFFSETTO:-0500
TZNAME:EST
DTSTART:20221106T060000
END:STANDARD
BEGIN:DAYLIGHT
TZOFFSETFROM:-0500
TZOFFSETTO:-0400
TZNAME:EDT
DTSTART:20230312T070000
END:DAYLIGHT
BEGIN:STANDARD
TZOFFSETFROM:-0400
TZOFFSETTO:-0500
TZNAME:EST
DTSTART:20231105T060000
END:STANDARD
END:VTIMEZONE
BEGIN:VEVENT
DTSTART;TZID=America/New_York:20220428T180000
DTEND;TZID=America/New_York:20220428T213000
DTSTAMP:20260424T002631
CREATED:20220317T161433Z
LAST-MODIFIED:20220317T161433Z
UID:208220-1651168800-1651181400@visit-marlborough.com
SUMMARY:2022 Scholar Bee
DESCRIPTION:The Bee is Back! Come join us for this fun event. The scholar bee is a spelling bee featuring some of Marlborough’s finest. This year’s bee is being held in honor of of our past president and volunteer Debbie Giroux.\n50 teams of 3 will compete to ‘bee” the Spelling Champions of Marlborough.\nAll funds raised will benefit CSF of Marlborough Dollars for Scholars Scholarship Fund.\nPlease see the flyer and scan the QR code to enter and/or sponsor a team.\nAny questions please email scholarbee01752@gmail.com
URL:https://visit-marlborough.com/event/2022-scholar-bee/
LOCATION:Apex Entertainment Center\, 21 Apex Drive\, Marlborough\, MA\, 01752\, United States
ORGANIZER;CN="CSF of Marlborough Dollars for Scholars":MAILTO:scholarbee01752@gmail.com
END:VEVENT
BEGIN:VEVENT
DTSTART;TZID=America/New_York:20220428T180000
DTEND;TZID=America/New_York:20220428T213000
DTSTAMP:20260424T002631
CREATED:20220317T161433Z
LAST-MODIFIED:20220317T161433Z
UID:210789-1651168800-1651181400@visit-marlborough.com
SUMMARY:2022 Scholar Bee
DESCRIPTION:The Bee is Back! Come join us for this fun event. The scholar bee is a spelling bee featuring some of Marlborough’s finest. This year’s bee is being held in honor of of our past president and volunteer Debbie Giroux.\n50 teams of 3 will compete to ‘bee” the Spelling Champions of Marlborough.\nAll funds raised will benefit CSF of Marlborough Dollars for Scholars Scholarship Fund.\nPlease see the flyer and scan the QR code to enter and/or sponsor a team.\nAny questions please email scholarbee01752@gmail.com
URL:https://visit-marlborough.com/event/2022-scholar-bee-2/
LOCATION:Apex Entertainment Center\, 21 Apex Drive\, Marlborough\, MA\, 01752\, United States
ORGANIZER;CN="CSF of Marlborough Dollars for Scholars":MAILTO:scholarbee01752@gmail.com
END:VEVENT
BEGIN:VEVENT
DTSTART;TZID=America/New_York:20220428T190000
DTEND;TZID=America/New_York:20220428T220000
DTSTAMP:20260424T002631
CREATED:20220404T141626Z
LAST-MODIFIED:20220404T141734Z
UID:208295-1651172400-1651183200@visit-marlborough.com
SUMMARY:Open Mic @ Tackle Box
DESCRIPTION:
URL:https://visit-marlborough.com/event/open-mic-tackle-box-9/
LOCATION:Tackle Box Brewing Company\, 416 Boston Post Road East\, Marlborough\, MA\, 01752\, United States
END:VEVENT
BEGIN:VEVENT
DTSTART;TZID=America/New_York:20220428T190000
DTEND;TZID=America/New_York:20220428T220000
DTSTAMP:20260424T002631
CREATED:20220404T141626Z
LAST-MODIFIED:20220404T141626Z
UID:210813-1651172400-1651183200@visit-marlborough.com
SUMMARY:Open Mic @ Tackle Box
DESCRIPTION:
URL:https://visit-marlborough.com/event/open-mic-tackle-box-9-2/
LOCATION:Tackle Box Brewing Company\, 416 Boston Post Road East\, Marlborough\, MA\, 01752\, United States
END:VEVENT
END:VCALENDAR