BEGIN:VCALENDAR
VERSION:2.0
PRODID:-//Visit Marlborough - ECPv6.15.20//NONSGML v1.0//EN
CALSCALE:GREGORIAN
METHOD:PUBLISH
X-ORIGINAL-URL:https://visit-marlborough.com
X-WR-CALDESC:Events for Visit Marlborough
REFRESH-INTERVAL;VALUE=DURATION:PT1H
X-Robots-Tag:noindex
X-PUBLISHED-TTL:PT1H
BEGIN:VTIMEZONE
TZID:America/New_York
BEGIN:DAYLIGHT
TZOFFSETFROM:-0500
TZOFFSETTO:-0400
TZNAME:EDT
DTSTART:20210314T070000
END:DAYLIGHT
BEGIN:STANDARD
TZOFFSETFROM:-0400
TZOFFSETTO:-0500
TZNAME:EST
DTSTART:20211107T060000
END:STANDARD
BEGIN:DAYLIGHT
TZOFFSETFROM:-0500
TZOFFSETTO:-0400
TZNAME:EDT
DTSTART:20220313T070000
END:DAYLIGHT
BEGIN:STANDARD
TZOFFSETFROM:-0400
TZOFFSETTO:-0500
TZNAME:EST
DTSTART:20221106T060000
END:STANDARD
BEGIN:DAYLIGHT
TZOFFSETFROM:-0500
TZOFFSETTO:-0400
TZNAME:EDT
DTSTART:20230312T070000
END:DAYLIGHT
BEGIN:STANDARD
TZOFFSETFROM:-0400
TZOFFSETTO:-0500
TZNAME:EST
DTSTART:20231105T060000
END:STANDARD
END:VTIMEZONE
BEGIN:VEVENT
DTSTART;TZID=America/New_York:20220423T183000
DTEND;TZID=America/New_York:20220423T210000
DTSTAMP:20260424T023907
CREATED:20220407T191744Z
LAST-MODIFIED:20220407T191744Z
UID:208362-1650738600-1650747600@visit-marlborough.com
SUMMARY:Love Music @ Chill Kitchen and Bar
DESCRIPTION:Preforming @ Chill is Tim Pacific!
URL:https://visit-marlborough.com/event/love-music-chill-kitchen-and-bar-7/
LOCATION:Chill Kitchen and Bar\, 416 Boston Post Road East\, Marlborough\, MA\, 01752\, United States
END:VEVENT
BEGIN:VEVENT
DTSTART;TZID=America/New_York:20220423T183000
DTEND;TZID=America/New_York:20220423T210000
DTSTAMP:20260424T023907
CREATED:20220407T191744Z
LAST-MODIFIED:20220407T191744Z
UID:210841-1650738600-1650747600@visit-marlborough.com
SUMMARY:Love Music @ Chill Kitchen and Bar
DESCRIPTION:Preforming @ Chill is Tim Pacific!
URL:https://visit-marlborough.com/event/love-music-chill-kitchen-and-bar-7-2/
LOCATION:Chill Kitchen and Bar\, 416 Boston Post Road East\, Marlborough\, MA\, 01752\, United States
END:VEVENT
BEGIN:VEVENT
DTSTART;TZID=America/New_York:20220423T190000
DTEND;TZID=America/New_York:20220423T210000
DTSTAMP:20260424T023907
CREATED:20220404T164640Z
LAST-MODIFIED:20220404T164640Z
UID:208329-1650740400-1650747600@visit-marlborough.com
SUMMARY:Live Music Ft. Little Black Dress @ Marlborough Country Club
DESCRIPTION:Join us for a night of tunes from Little Black Dress on our deck overlooking the 18th green.
URL:https://visit-marlborough.com/event/live-music-ft-little-black-dress-marlborough-country-club/
LOCATION:Marlborough Country Club\, 200 Concord Rd\, Marlborough\, MA\, 01752\, United States
END:VEVENT
BEGIN:VEVENT
DTSTART;TZID=America/New_York:20220423T190000
DTEND;TZID=America/New_York:20220423T210000
DTSTAMP:20260424T023907
CREATED:20220404T164640Z
LAST-MODIFIED:20220404T164640Z
UID:210827-1650740400-1650747600@visit-marlborough.com
SUMMARY:Live Music Ft. Little Black Dress @ Marlborough Country Club
DESCRIPTION:Join us for a night of tunes from Little Black Dress on our deck overlooking the 18th green.
URL:https://visit-marlborough.com/event/live-music-ft-little-black-dress-marlborough-country-club-2/
LOCATION:Marlborough Country Club\, 200 Concord Rd\, Marlborough\, MA\, 01752\, United States
END:VEVENT
END:VCALENDAR