BEGIN:VCALENDAR
VERSION:2.0
PRODID:-//Visit Marlborough - ECPv6.15.20//NONSGML v1.0//EN
CALSCALE:GREGORIAN
METHOD:PUBLISH
X-WR-CALNAME:Visit Marlborough
X-ORIGINAL-URL:https://visit-marlborough.com
X-WR-CALDESC:Events for Visit Marlborough
REFRESH-INTERVAL;VALUE=DURATION:PT1H
X-Robots-Tag:noindex
X-PUBLISHED-TTL:PT1H
BEGIN:VTIMEZONE
TZID:America/New_York
BEGIN:DAYLIGHT
TZOFFSETFROM:-0500
TZOFFSETTO:-0400
TZNAME:EDT
DTSTART:20210314T070000
END:DAYLIGHT
BEGIN:STANDARD
TZOFFSETFROM:-0400
TZOFFSETTO:-0500
TZNAME:EST
DTSTART:20211107T060000
END:STANDARD
BEGIN:DAYLIGHT
TZOFFSETFROM:-0500
TZOFFSETTO:-0400
TZNAME:EDT
DTSTART:20220313T070000
END:DAYLIGHT
BEGIN:STANDARD
TZOFFSETFROM:-0400
TZOFFSETTO:-0500
TZNAME:EST
DTSTART:20221106T060000
END:STANDARD
BEGIN:DAYLIGHT
TZOFFSETFROM:-0500
TZOFFSETTO:-0400
TZNAME:EDT
DTSTART:20230312T070000
END:DAYLIGHT
BEGIN:STANDARD
TZOFFSETFROM:-0400
TZOFFSETTO:-0500
TZNAME:EST
DTSTART:20231105T060000
END:STANDARD
END:VTIMEZONE
BEGIN:VEVENT
DTSTART;TZID=America/New_York:20220410T090000
DTEND;TZID=America/New_York:20220410T120000
DTSTAMP:20260424T002631
CREATED:20220304T184344Z
LAST-MODIFIED:20220317T160639Z
UID:208176-1649581200-1649592000@visit-marlborough.com
SUMMARY:Easter Bunny Egg Hunt @ Apex
DESCRIPTION:Enjoy a pancake breakfast with the Easter Bunny & Egg Hunt around Apex! \nTickets – $25 per family. Up to 6 people per family\, cost includes one photo and pancake breakfast. \n 
URL:https://visit-marlborough.com/event/easter-bunny-egg-hunt/
LOCATION:Apex Entertainment Center\, 21 Apex Drive\, Marlborough\, MA\, 01752\, United States
END:VEVENT
BEGIN:VEVENT
DTSTART;TZID=America/New_York:20220410T090000
DTEND;TZID=America/New_York:20220410T120000
DTSTAMP:20260424T002631
CREATED:20220304T184344Z
LAST-MODIFIED:20220304T184344Z
UID:210774-1649581200-1649592000@visit-marlborough.com
SUMMARY:Easter Bunny Egg Hunt @ Apex
DESCRIPTION:Enjoy a pancake breakfast with the Easter Bunny & Egg Hunt around Apex! \nTickets – $25 per family. Up to 6 people per family\, cost includes one photo and pancake breakfast. \n 
URL:https://visit-marlborough.com/event/easter-bunny-egg-hunt-2/
LOCATION:Apex Entertainment Center\, 21 Apex Drive\, Marlborough\, MA\, 01752\, United States
END:VEVENT
END:VCALENDAR