BEGIN:VCALENDAR
VERSION:2.0
PRODID:-//Visit Marlborough - ECPv6.15.20//NONSGML v1.0//EN
CALSCALE:GREGORIAN
METHOD:PUBLISH
X-ORIGINAL-URL:https://visit-marlborough.com
X-WR-CALDESC:Events for Visit Marlborough
REFRESH-INTERVAL;VALUE=DURATION:PT1H
X-Robots-Tag:noindex
X-PUBLISHED-TTL:PT1H
BEGIN:VTIMEZONE
TZID:America/New_York
BEGIN:DAYLIGHT
TZOFFSETFROM:-0500
TZOFFSETTO:-0400
TZNAME:EDT
DTSTART:20200308T070000
END:DAYLIGHT
BEGIN:STANDARD
TZOFFSETFROM:-0400
TZOFFSETTO:-0500
TZNAME:EST
DTSTART:20201101T060000
END:STANDARD
BEGIN:DAYLIGHT
TZOFFSETFROM:-0500
TZOFFSETTO:-0400
TZNAME:EDT
DTSTART:20210314T070000
END:DAYLIGHT
BEGIN:STANDARD
TZOFFSETFROM:-0400
TZOFFSETTO:-0500
TZNAME:EST
DTSTART:20211107T060000
END:STANDARD
BEGIN:DAYLIGHT
TZOFFSETFROM:-0500
TZOFFSETTO:-0400
TZNAME:EDT
DTSTART:20220313T070000
END:DAYLIGHT
BEGIN:STANDARD
TZOFFSETFROM:-0400
TZOFFSETTO:-0500
TZNAME:EST
DTSTART:20221106T060000
END:STANDARD
END:VTIMEZONE
BEGIN:VEVENT
DTSTART;TZID=America/New_York:20211231T200000
DTEND;TZID=America/New_York:20211231T233000
DTSTAMP:20260424T175511
CREATED:20211213T204647Z
LAST-MODIFIED:20211213T204647Z
UID:208092-1640980800-1640993400@visit-marlborough.com
SUMMARY:NYE Party @ Tackle Box Brewing
DESCRIPTION:New Year’s Eve! 80’s Prom! Come celebrate New Years in style! Radio Honey is rocking 80’s tunes! Price includes dinner (beef tenderloin dinner\, appetizers)\, 2 drink tickets\, and live music! $60 pp. This is a closed event. You must have a ticket to enter the brewery after 8pm.
URL:https://visit-marlborough.com/event/nye-party-tackle-box-brewing/
LOCATION:Tackle Box Brewing Company\, 416 Boston Post Road East\, Marlborough\, MA\, 01752\, United States
END:VEVENT
BEGIN:VEVENT
DTSTART;TZID=America/New_York:20211231T200000
DTEND;TZID=America/New_York:20211231T233000
DTSTAMP:20260424T175511
CREATED:20211213T204647Z
LAST-MODIFIED:20211213T204647Z
UID:210746-1640980800-1640993400@visit-marlborough.com
SUMMARY:NYE Party @ Tackle Box Brewing
DESCRIPTION:New Year’s Eve! 80’s Prom! Come celebrate New Years in style! Radio Honey is rocking 80’s tunes! Price includes dinner (beef tenderloin dinner\, appetizers)\, 2 drink tickets\, and live music! $60 pp. This is a closed event. You must have a ticket to enter the brewery after 8pm.
URL:https://visit-marlborough.com/event/nye-party-tackle-box-brewing-2/
LOCATION:Tackle Box Brewing Company\, 416 Boston Post Road East\, Marlborough\, MA\, 01752\, United States
END:VEVENT
BEGIN:VEVENT
DTSTART;TZID=America/New_York:20211231T210000
DTEND;TZID=America/New_York:20211231T233000
DTSTAMP:20260424T175511
CREATED:20211213T205557Z
LAST-MODIFIED:20211213T205557Z
UID:208094-1640984400-1640993400@visit-marlborough.com
SUMMARY:NYE @ Bolton Street Tavern
DESCRIPTION:Holly & the SOBs New Years Eve at Bolton St. Tavern
URL:https://visit-marlborough.com/event/nye-bolton-street-tavern/
LOCATION:Bolton Street Tavern\, 587 Bolton Street\, Marlborough\, MA\, 01752\, United States
END:VEVENT
BEGIN:VEVENT
DTSTART;TZID=America/New_York:20211231T210000
DTEND;TZID=America/New_York:20211231T233000
DTSTAMP:20260424T175511
CREATED:20211213T205557Z
LAST-MODIFIED:20211213T205557Z
UID:210747-1640984400-1640993400@visit-marlborough.com
SUMMARY:NYE @ Bolton Street Tavern
DESCRIPTION:Holly & the SOBs New Years Eve at Bolton St. Tavern
URL:https://visit-marlborough.com/event/nye-bolton-street-tavern-2/
LOCATION:Bolton Street Tavern\, 587 Bolton Street\, Marlborough\, MA\, 01752\, United States
END:VEVENT
END:VCALENDAR