BEGIN:VCALENDAR
VERSION:2.0
PRODID:-//Visit Marlborough - ECPv6.15.20//NONSGML v1.0//EN
CALSCALE:GREGORIAN
METHOD:PUBLISH
X-ORIGINAL-URL:https://visit-marlborough.com
X-WR-CALDESC:Events for Visit Marlborough
REFRESH-INTERVAL;VALUE=DURATION:PT1H
X-Robots-Tag:noindex
X-PUBLISHED-TTL:PT1H
BEGIN:VTIMEZONE
TZID:America/New_York
BEGIN:DAYLIGHT
TZOFFSETFROM:-0500
TZOFFSETTO:-0400
TZNAME:EDT
DTSTART:20200308T070000
END:DAYLIGHT
BEGIN:STANDARD
TZOFFSETFROM:-0400
TZOFFSETTO:-0500
TZNAME:EST
DTSTART:20201101T060000
END:STANDARD
BEGIN:DAYLIGHT
TZOFFSETFROM:-0500
TZOFFSETTO:-0400
TZNAME:EDT
DTSTART:20210314T070000
END:DAYLIGHT
BEGIN:STANDARD
TZOFFSETFROM:-0400
TZOFFSETTO:-0500
TZNAME:EST
DTSTART:20211107T060000
END:STANDARD
BEGIN:DAYLIGHT
TZOFFSETFROM:-0500
TZOFFSETTO:-0400
TZNAME:EDT
DTSTART:20220313T070000
END:DAYLIGHT
BEGIN:STANDARD
TZOFFSETFROM:-0400
TZOFFSETTO:-0500
TZNAME:EST
DTSTART:20221106T060000
END:STANDARD
END:VTIMEZONE
BEGIN:VEVENT
DTSTART;TZID=America/New_York:20211201T190000
DTEND;TZID=America/New_York:20211201T210000
DTSTAMP:20260424T160319
CREATED:20211123T202824Z
LAST-MODIFIED:20211123T202824Z
UID:208068-1638385200-1638392400@visit-marlborough.com
SUMMARY:Holiday Shopping Boutique
DESCRIPTION:9th Annual Holiday Shopping Boutique\nA fundraiser to support the Metrowest Princess Boutique.\nWe will be accepting donations of current style prom dresses\, shoes\, purses\, jewelry and makeup.\nCome and shop for unique gifts\, handmade soap\, jewelry\, skin care\, candles\, wine and so much more!\n~ No cost for admission – anyone is welcome to attend\n~ Cash bar and light hors d’oeuvres and desserts will be served\n~ Raffle prizes donated by each vendor including a chance to win\n$125 worth of scratch tickets\nVendors include:\nCB Jewelry\, Color Street\, Jennifer’s Handmade Soaps\, Maine Girl Cupcakes\, Mary Kay\, Norwex\, Pampered Chef\, Signs and Snippets\, Sips of the Vine\, Vibes Candles\, Whimsical Art by Wendy\, Wicked Tangled\, WiserLass Studio\, Wonders of the Waves\n(Space is sold out\, no longer accepting vendors for this event)\nWe look forward to seeing you on Wednesday\, December 1st!
URL:https://visit-marlborough.com/event/holiday-shopping-boutique/
LOCATION:Marlborough Country Club\, 200 Concord Rd\, Marlborough\, MA\, 01752\, United States
END:VEVENT
BEGIN:VEVENT
DTSTART;TZID=America/New_York:20211201T190000
DTEND;TZID=America/New_York:20211201T210000
DTSTAMP:20260424T160319
CREATED:20211123T202824Z
LAST-MODIFIED:20211123T202824Z
UID:210741-1638385200-1638392400@visit-marlborough.com
SUMMARY:Holiday Shopping Boutique
DESCRIPTION:9th Annual Holiday Shopping Boutique\nA fundraiser to support the Metrowest Princess Boutique.\nWe will be accepting donations of current style prom dresses\, shoes\, purses\, jewelry and makeup.\nCome and shop for unique gifts\, handmade soap\, jewelry\, skin care\, candles\, wine and so much more!\n~ No cost for admission – anyone is welcome to attend\n~ Cash bar and light hors d’oeuvres and desserts will be served\n~ Raffle prizes donated by each vendor including a chance to win\n$125 worth of scratch tickets\nVendors include:\nCB Jewelry\, Color Street\, Jennifer’s Handmade Soaps\, Maine Girl Cupcakes\, Mary Kay\, Norwex\, Pampered Chef\, Signs and Snippets\, Sips of the Vine\, Vibes Candles\, Whimsical Art by Wendy\, Wicked Tangled\, WiserLass Studio\, Wonders of the Waves\n(Space is sold out\, no longer accepting vendors for this event)\nWe look forward to seeing you on Wednesday\, December 1st!
URL:https://visit-marlborough.com/event/holiday-shopping-boutique-2/
LOCATION:Marlborough Country Club\, 200 Concord Rd\, Marlborough\, MA\, 01752\, United States
END:VEVENT
END:VCALENDAR