BEGIN:VCALENDAR
VERSION:2.0
PRODID:-//Visit Marlborough - ECPv6.15.20//NONSGML v1.0//EN
CALSCALE:GREGORIAN
METHOD:PUBLISH
X-WR-CALNAME:Visit Marlborough
X-ORIGINAL-URL:https://visit-marlborough.com
X-WR-CALDESC:Events for Visit Marlborough
REFRESH-INTERVAL;VALUE=DURATION:PT1H
X-Robots-Tag:noindex
X-PUBLISHED-TTL:PT1H
BEGIN:VTIMEZONE
TZID:America/New_York
BEGIN:DAYLIGHT
TZOFFSETFROM:-0500
TZOFFSETTO:-0400
TZNAME:EDT
DTSTART:20200308T070000
END:DAYLIGHT
BEGIN:STANDARD
TZOFFSETFROM:-0400
TZOFFSETTO:-0500
TZNAME:EST
DTSTART:20201101T060000
END:STANDARD
BEGIN:DAYLIGHT
TZOFFSETFROM:-0500
TZOFFSETTO:-0400
TZNAME:EDT
DTSTART:20210314T070000
END:DAYLIGHT
BEGIN:STANDARD
TZOFFSETFROM:-0400
TZOFFSETTO:-0500
TZNAME:EST
DTSTART:20211107T060000
END:STANDARD
BEGIN:DAYLIGHT
TZOFFSETFROM:-0500
TZOFFSETTO:-0400
TZNAME:EDT
DTSTART:20220313T070000
END:DAYLIGHT
BEGIN:STANDARD
TZOFFSETFROM:-0400
TZOFFSETTO:-0500
TZNAME:EST
DTSTART:20221106T060000
END:STANDARD
END:VTIMEZONE
BEGIN:VEVENT
DTSTART;VALUE=DATE:20210925
DTEND;VALUE=DATE:20210927
DTSTAMP:20260424T145956
CREATED:20210707T165359Z
LAST-MODIFIED:20210707T193929Z
UID:207703-1632528000-1632700799@visit-marlborough.com
SUMMARY:Firearm and Knife Show @ Royal Plaza Trade Center
DESCRIPTION:Marlborough Fall Firearm and Knife Show/Sale will be held on September 25-26\, 2021. You will find Modern Sporting\, handguns\, antique and collectible firearms\, swords\, ammo\, custom and high quality knives\, uniforms\, various militaria\, books and related memorabilia and more. Hours: Sat 9am-5pm; Sun 9am-3pm
URL:https://visit-marlborough.com/event/marlboro-firearm-and-knife-show/
LOCATION:Best Western Royal Plaza\, 181 Boston Post Road West\, Marlborough\, MA\, 01752\, United States
END:VEVENT
BEGIN:VEVENT
DTSTART;VALUE=DATE:20210925
DTEND;VALUE=DATE:20210927
DTSTAMP:20260424T145956
CREATED:20210707T165359Z
LAST-MODIFIED:20210707T165359Z
UID:210653-1632528000-1632700799@visit-marlborough.com
SUMMARY:Firearm and Knife Show @ Royal Plaza Trade Center
DESCRIPTION:Marlborough Fall Firearm and Knife Show/Sale will be held on September 25-26\, 2021. You will find Modern Sporting\, handguns\, antique and collectible firearms\, swords\, ammo\, custom and high quality knives\, uniforms\, various militaria\, books and related memorabilia and more. Hours: Sat 9am-5pm; Sun 9am-3pm
URL:https://visit-marlborough.com/event/marlboro-firearm-and-knife-show-2/
LOCATION:Best Western Royal Plaza\, 181 Boston Post Road West\, Marlborough\, MA\, 01752\, United States
END:VEVENT
END:VCALENDAR