BEGIN:VCALENDAR
VERSION:2.0
PRODID:-//Visit Marlborough - ECPv6.15.20//NONSGML v1.0//EN
CALSCALE:GREGORIAN
METHOD:PUBLISH
X-WR-CALNAME:Visit Marlborough
X-ORIGINAL-URL:https://visit-marlborough.com
X-WR-CALDESC:Events for Visit Marlborough
REFRESH-INTERVAL;VALUE=DURATION:PT1H
X-Robots-Tag:noindex
X-PUBLISHED-TTL:PT1H
BEGIN:VTIMEZONE
TZID:America/New_York
BEGIN:DAYLIGHT
TZOFFSETFROM:-0500
TZOFFSETTO:-0400
TZNAME:EDT
DTSTART:20250309T070000
END:DAYLIGHT
BEGIN:STANDARD
TZOFFSETFROM:-0400
TZOFFSETTO:-0500
TZNAME:EST
DTSTART:20251102T060000
END:STANDARD
BEGIN:DAYLIGHT
TZOFFSETFROM:-0500
TZOFFSETTO:-0400
TZNAME:EDT
DTSTART:20260308T070000
END:DAYLIGHT
BEGIN:STANDARD
TZOFFSETFROM:-0400
TZOFFSETTO:-0500
TZNAME:EST
DTSTART:20261101T060000
END:STANDARD
BEGIN:DAYLIGHT
TZOFFSETFROM:-0500
TZOFFSETTO:-0400
TZNAME:EDT
DTSTART:20270314T070000
END:DAYLIGHT
BEGIN:STANDARD
TZOFFSETFROM:-0400
TZOFFSETTO:-0500
TZNAME:EST
DTSTART:20271107T060000
END:STANDARD
END:VTIMEZONE
BEGIN:VEVENT
DTSTART;TZID=America/New_York:20260202T183000
DTEND;TZID=America/New_York:20260202T193000
DTSTAMP:20260424T121920
CREATED:20251124T162553Z
LAST-MODIFIED:20251124T162553Z
UID:216758-1770057000-1770060600@visit-marlborough.com
SUMMARY:Monday Night Run Club @ Lost Shoe
DESCRIPTION:Get your week started on the right foot! Join us every Monday at 6:30PM for Run Club. All levels welcome with 1\, 3 and 5 mile route options every week!
URL:https://visit-marlborough.com/event/monday-night-run-club-lost-shoe-89/
LOCATION:Lost Shoe Brewing & Roasting Co.\, 19 Weed Street\, Marlborough\, MA\, 01752\, United States
END:VEVENT
BEGIN:VEVENT
DTSTART;TZID=America/New_York:20260207T100000
DTEND;TZID=America/New_York:20260207T140000
DTSTAMP:20260424T121920
CREATED:20251230T155349Z
LAST-MODIFIED:20251230T155349Z
UID:216992-1770458400-1770472800@visit-marlborough.com
SUMMARY:Marlborough Farmers Market (Winter/Spring Season)
DESCRIPTION:The Marlborough Farmers Market returns for a special Winter/Spring Edition! ❄️🌷\nYou can find us at the Marlborough Public Library from 10AM-2PM on:\n• Saturday\, February 7th\n• Saturday\, March 7th\n• Saturday\, April 4th\n• Saturday\, May 2nd\nWe will have local produce\, meat and other specialty vendors that are all SNAP eligible (SNAP match included!) 🥬🥩\nMark those dates down and come shop local!
URL:https://visit-marlborough.com/event/marlborough-farmers-market-winter-spring-season-2/
LOCATION:Marlborough Public Library\, 35 West Main Street\, Marlborough\, MA\, 01752\, United States
END:VEVENT
BEGIN:VEVENT
DTSTART;TZID=America/New_York:20260209T183000
DTEND;TZID=America/New_York:20260209T193000
DTSTAMP:20260424T121920
CREATED:20260209T214926Z
LAST-MODIFIED:20260209T214926Z
UID:217086-1770661800-1770665400@visit-marlborough.com
SUMMARY:Monday Night Run Club @ Lost Shoe
DESCRIPTION:Get your week started on the right foot! Join us every Monday at 6:30PM for Run Club. All levels welcome with 1\, 3 and 5 mile route options every week!
URL:https://visit-marlborough.com/event/monday-night-run-club-lost-shoe-90/
LOCATION:Lost Shoe Brewing & Roasting Co.\, 19 Weed Street\, Marlborough\, MA\, 01752\, United States
END:VEVENT
BEGIN:VEVENT
DTSTART;TZID=America/New_York:20260210T080000
DTEND;TZID=America/New_York:20260210T170000
DTSTAMP:20260424T121920
CREATED:20260210T174238Z
LAST-MODIFIED:20260210T174238Z
UID:217118-1770710400-1770742800@visit-marlborough.com
SUMMARY:Dan Candell: Mind Reader & Hypnotist @ Lost Shoe
DESCRIPTION:Dan Candell presents his one-man show: “Going Mental.” Mind reading. Influence. Mayhem.  \nJoin us for a magical evening! As a captivating mind reader and master mentalist\, Dan creates moments of astonishment that leave audiences questioning what’s possible. His ability to seemingly read thoughts\, predict choices\, and influence decisions demonstrates a remarkable understanding of human psychology and creates unforgettable experiences that blend mystery\, humor\, and audience participation. \nYour ticket reserves a spot in the lounge for this event. Lounge seating will open at 6:30PM and the show will begin at 7:30PM. Bar seating and front of taproom seating is free but has an obstructed view and is on a first come\, first serve basis.
URL:https://visit-marlborough.com/event/dan-candell-mind-reader-hypnotist-lost-shoe/
LOCATION:Lost Shoe Brewing & Roasting Co.\, 19 Weed Street\, Marlborough\, MA\, 01752\, United States
END:VEVENT
BEGIN:VEVENT
DTSTART;TZID=America/New_York:20260211T183000
DTEND;TZID=America/New_York:20260211T203000
DTSTAMP:20260424T121920
CREATED:20260210T154539Z
LAST-MODIFIED:20260210T154539Z
UID:217104-1770834600-1770841800@visit-marlborough.com
SUMMARY:Divination with the Stars Astrology Workshop @ Lost Shoe
DESCRIPTION:Curious what the stars have to say about you? Join Read by Renee for an interactive astrology workshop that breaks things down in a way that actually makes sense—no prior astrology knowledge required. \nRenee will kick things off with a mini demonstration on how to find your natal chart\, then walk through the basics of chart interpretation and key concepts to know when reading your own. We’ll also touch on what Mercury Retrograde and Eclipse Season really mean for individual charts\, and how to navigate them with a little more clarity (and a lot less panic). \nCome learn\, ask questions\, and leave with a better understanding of your chart—and the cosmic timing around you. \n✨ All are welcome. Curiosity encouraged.
URL:https://visit-marlborough.com/event/divination-with-the-stars-astrology-workshop-lost-shoe/
LOCATION:Lost Shoe Brewing & Roasting Co.\, 19 Weed Street\, Marlborough\, MA\, 01752\, United States
ORGANIZER;CN="Read by Renee":MAILTO:renee@readbyreneetoday.com
END:VEVENT
BEGIN:VEVENT
DTSTART;TZID=America/New_York:20260211T193000
DTEND;TZID=America/New_York:20260211T213000
DTSTAMP:20260424T121920
CREATED:20260210T193734Z
LAST-MODIFIED:20260210T193734Z
UID:217132-1770838200-1770845400@visit-marlborough.com
SUMMARY:Trivia @ Tackle Box Brewing
DESCRIPTION:Join us every Wednesday for a fun-filled trivia night hosted by George! Bring your friends\, test your knowledge\, and enjoy great drinks at Tackle Box Brewing Co. Don’t miss out!
URL:https://visit-marlborough.com/event/trivia-tackle-box-brewing-113/
LOCATION:Tackle Box Brewing Company\, 416 Boston Post Road East\, Marlborough\, MA\, 01752\, United States
END:VEVENT
BEGIN:VEVENT
DTSTART;TZID=America/New_York:20260212T180000
DTEND;TZID=America/New_York:20260212T200000
DTSTAMP:20260424T121920
CREATED:20260210T195103Z
LAST-MODIFIED:20260210T195103Z
UID:217146-1770919200-1770926400@visit-marlborough.com
SUMMARY:Sip & Paint @ Tackle Box Brewery
DESCRIPTION:Get ready to unleash your creativity while sipping on cold brews at Tackle Box Brewery\, where DIY projects meet good times! \nWelcome to Sip & Paint Night! Join us at Tackle Box Brewery\, 416 Boston Post Rd East\, Marlborough\, MA on February 12\, 2026 at 6:00 PM (Eastern Time) for a fun evening of crafting and enjoying some cold brews. Whether you’re a seasoned crafter or just looking to try something new\, this event is perfect for everyone. Get ready to unleash your creativity while sipping on your favorite drinks. 5 Projects to choose from starting at $30 to $45. Don’t miss out on this exciting opportunity to mingle with fellow craft enthusiasts and have a blast. Mark your calendars and we’ll see you there! Registration required by 2/10 since all projects are cut to order. Receive the FREE 5″ Bunny to paint at the event when you register (1 per customer). Call 978-204-3430 with any questions.
URL:https://visit-marlborough.com/event/sip-paint-tackle-box-brewery/
LOCATION:Tackle Box Brewing Company\, 416 Boston Post Road East\, Marlborough\, MA\, 01752\, United States
END:VEVENT
BEGIN:VEVENT
DTSTART;TZID=America/New_York:20260213T183000
DTEND;TZID=America/New_York:20260213T213000
DTSTAMP:20260424T121920
CREATED:20260210T175105Z
LAST-MODIFIED:20260210T175105Z
UID:217120-1771007400-1771018200@visit-marlborough.com
SUMMARY:Live Music @ Dante’s at Firefly's BBQ!
DESCRIPTION:Jared Hanrahan \nThis talented young singer/songwriter has a voice like an angel and the looks to match! Jared hails from right here in Marlborough\, MA and is rapidly gaining international fame!
URL:https://visit-marlborough.com/event/live-music-dantes-at-fireflys-bbq-183/
LOCATION:Firefly’s BBQ\, 350 East Main Street\, Marlborough\, MA\, 01752\, United States
END:VEVENT
BEGIN:VEVENT
DTSTART;TZID=America/New_York:20260214T120000
DTEND;TZID=America/New_York:20260214T180000
DTSTAMP:20260424T121920
CREATED:20260210T154735Z
LAST-MODIFIED:20260210T154735Z
UID:217107-1771070400-1771092000@visit-marlborough.com
SUMMARY:Oliver's Wands Pop-Up @ Lost Shoe
DESCRIPTION:Join us every Saturday from 12-6PM in The Forbidden Forest for a magical pop-up by Oliver’s Wands and Wizarding Wares! \nDiscover unique wands and enchanting treasures for every witch\, wizard\, and magical being. Whether you’re looking for the perfect wand or something special for your collection\, you won’t want to miss this magical experience!
URL:https://visit-marlborough.com/event/olivers-wands-pop-up-lost-shoe-5/
LOCATION:Lost Shoe Brewing & Roasting Co.\, 19 Weed Street\, Marlborough\, MA\, 01752\, United States
END:VEVENT
BEGIN:VEVENT
DTSTART;TZID=America/New_York:20260214T210000
DTEND;TZID=America/New_York:20260214T230000
DTSTAMP:20260424T121920
CREATED:20260210T181249Z
LAST-MODIFIED:20260210T181249Z
UID:217122-1771102800-1771110000@visit-marlborough.com
SUMMARY:Live Music @ Dante’s at Firefly's BBQ!
DESCRIPTION:The Deloreans \nHeadquartered in Worcester\, Massachusetts\, The Deloreans fills the stage with brass-kickin’ Rock and Soul from the 70s and 80s!
URL:https://visit-marlborough.com/event/live-music-dantes-at-fireflys-bbq-184/
LOCATION:Firefly’s BBQ\, 350 East Main Street\, Marlborough\, MA\, 01752\, United States
END:VEVENT
BEGIN:VEVENT
DTSTART;TZID=America/New_York:20260216T183000
DTEND;TZID=America/New_York:20260216T193000
DTSTAMP:20260424T121920
CREATED:20260209T214951Z
LAST-MODIFIED:20260209T214951Z
UID:217088-1771266600-1771270200@visit-marlborough.com
SUMMARY:Monday Night Run Club @ Lost Shoe
DESCRIPTION:Get your week started on the right foot! Join us every Monday at 6:30PM for Run Club. All levels welcome with 1\, 3 and 5 mile route options every week!
URL:https://visit-marlborough.com/event/monday-night-run-club-lost-shoe-91/
LOCATION:Lost Shoe Brewing & Roasting Co.\, 19 Weed Street\, Marlborough\, MA\, 01752\, United States
END:VEVENT
BEGIN:VEVENT
DTSTART;TZID=America/New_York:20260218T193000
DTEND;TZID=America/New_York:20260218T213000
DTSTAMP:20260424T121920
CREATED:20260210T193855Z
LAST-MODIFIED:20260210T193855Z
UID:217134-1771443000-1771450200@visit-marlborough.com
SUMMARY:Trivia @ Tackle Box Brewing
DESCRIPTION:Join us every Wednesday for a fun-filled trivia night hosted by George! Bring your friends\, test your knowledge\, and enjoy great drinks at Tackle Box Brewing Co. Don’t miss out!
URL:https://visit-marlborough.com/event/trivia-tackle-box-brewing-114/
LOCATION:Tackle Box Brewing Company\, 416 Boston Post Road East\, Marlborough\, MA\, 01752\, United States
END:VEVENT
BEGIN:VEVENT
DTSTART;TZID=America/New_York:20260220T183000
DTEND;TZID=America/New_York:20260220T213000
DTSTAMP:20260424T121920
CREATED:20260210T181556Z
LAST-MODIFIED:20260210T181556Z
UID:217124-1771612200-1771623000@visit-marlborough.com
SUMMARY:Live Music @ Dante’s at Firefly's BBQ!
DESCRIPTION:Stephen George \nStephen George is a singer/songwriter from Massachusetts\, who always gets the party going with a fun\, happy\, energetic experience!
URL:https://visit-marlborough.com/event/live-music-dantes-at-fireflys-bbq-185/
LOCATION:Firefly’s BBQ\, 350 East Main Street\, Marlborough\, MA\, 01752\, United States
END:VEVENT
BEGIN:VEVENT
DTSTART;TZID=America/New_York:20260221T120000
DTEND;TZID=America/New_York:20260221T180000
DTSTAMP:20260424T121920
CREATED:20260210T154824Z
LAST-MODIFIED:20260210T154824Z
UID:217109-1771675200-1771696800@visit-marlborough.com
SUMMARY:Oliver's Wands Pop-Up @ Lost Shoe
DESCRIPTION:Join us every Saturday from 12-6PM in The Forbidden Forest for a magical pop-up by Oliver’s Wands and Wizarding Wares! \nDiscover unique wands and enchanting treasures for every witch\, wizard\, and magical being. Whether you’re looking for the perfect wand or something special for your collection\, you won’t want to miss this magical experience!
URL:https://visit-marlborough.com/event/olivers-wands-pop-up-lost-shoe-6/
LOCATION:Lost Shoe Brewing & Roasting Co.\, 19 Weed Street\, Marlborough\, MA\, 01752\, United States
END:VEVENT
BEGIN:VEVENT
DTSTART;TZID=America/New_York:20260221T210000
DTEND;TZID=America/New_York:20260221T230000
DTSTAMP:20260424T121920
CREATED:20260210T182723Z
LAST-MODIFIED:20260210T182723Z
UID:217126-1771707600-1771714800@visit-marlborough.com
SUMMARY:Live Music @ Dante’s at Firefly's BBQ!
DESCRIPTION:No Alibi \nInfectious beats\, killer riffs\, rock with no excuses! Grab your dancin’ shoes and get ready for a great time!
URL:https://visit-marlborough.com/event/live-music-dantes-at-fireflys-bbq-186/
LOCATION:Firefly’s BBQ\, 350 East Main Street\, Marlborough\, MA\, 01752\, United States
END:VEVENT
BEGIN:VEVENT
DTSTART;TZID=America/New_York:20260222T120000
DTEND;TZID=America/New_York:20260222T160000
DTSTAMP:20260424T121920
CREATED:20260210T155050Z
LAST-MODIFIED:20260210T155050Z
UID:217113-1771761600-1771776000@visit-marlborough.com
SUMMARY:Moeshmallows Pop-Up @ Lost Shoe
DESCRIPTION:Moeshmallows will be here with sweet treats\, including her themed Harry Potter specials!
URL:https://visit-marlborough.com/event/moeshmallows-pop-up-lost-shoe-4/
LOCATION:Lost Shoe Brewing & Roasting Co.\, 19 Weed Street\, Marlborough\, MA\, 01752\, United States
END:VEVENT
BEGIN:VEVENT
DTSTART;TZID=America/New_York:20260223T183000
DTEND;TZID=America/New_York:20260223T193000
DTSTAMP:20260424T121920
CREATED:20260209T215125Z
LAST-MODIFIED:20260209T215125Z
UID:217090-1771871400-1771875000@visit-marlborough.com
SUMMARY:Monday Night Run Club @ Lost Shoe
DESCRIPTION:Get your week started on the right foot! Join us every Monday at 6:30PM for Run Club. All levels welcome with 1\, 3 and 5 mile route options every week!
URL:https://visit-marlborough.com/event/monday-night-run-club-lost-shoe-92/
LOCATION:Lost Shoe Brewing & Roasting Co.\, 19 Weed Street\, Marlborough\, MA\, 01752\, United States
END:VEVENT
BEGIN:VEVENT
DTSTART;TZID=America/New_York:20260225T183000
DTEND;TZID=America/New_York:20260225T203000
DTSTAMP:20260424T121920
CREATED:20260210T155628Z
LAST-MODIFIED:20260210T155628Z
UID:217115-1772044200-1772051400@visit-marlborough.com
SUMMARY:Potion Making Candle Class @ Lost Shoe
DESCRIPTION:Are you ready to hang out with some awesome people and learn how to make a candle?! \nCome to the Forbidden Forest and make your own magical potion in a cauldron! Create your own magic with us and bring it home to enchant your entire house! \nCome hang with us at the Lost Shoe Brewing and learn the basics of candle making\, all while having a delicious craft beer (or other beverage!)\, eating some snacks and other tasty foods\, and having fun! \nWith a selection of over 50+ scents\, create your own custom blended scent\, or just go with the tried and true!
URL:https://visit-marlborough.com/event/potion-making-candle-class-lost-shoe-2/
LOCATION:Lost Shoe Brewing & Roasting Co.\, 19 Weed Street\, Marlborough\, MA\, 01752\, United States
END:VEVENT
BEGIN:VEVENT
DTSTART;TZID=America/New_York:20260225T193000
DTEND;TZID=America/New_York:20260225T213000
DTSTAMP:20260424T121920
CREATED:20260210T194002Z
LAST-MODIFIED:20260210T194002Z
UID:217136-1772047800-1772055000@visit-marlborough.com
SUMMARY:Trivia @ Tackle Box Brewing
DESCRIPTION:Join us every Wednesday for a fun-filled trivia night hosted by George! Bring your friends\, test your knowledge\, and enjoy great drinks at Tackle Box Brewing Co. Don’t miss out!
URL:https://visit-marlborough.com/event/trivia-tackle-box-brewing-115/
LOCATION:Tackle Box Brewing Company\, 416 Boston Post Road East\, Marlborough\, MA\, 01752\, United States
END:VEVENT
BEGIN:VEVENT
DTSTART;TZID=America/New_York:20260227T210000
DTEND;TZID=America/New_York:20260227T230000
DTSTAMP:20260424T121920
CREATED:20260210T182918Z
LAST-MODIFIED:20260210T182918Z
UID:217128-1772226000-1772233200@visit-marlborough.com
SUMMARY:Live Music @ Dante’s at Firefly's BBQ!
DESCRIPTION:Z Company \n5 seasoned musicians playing Peter Zicko’s originals\, along with covers from all “zhanras.”
URL:https://visit-marlborough.com/event/live-music-dantes-at-fireflys-bbq-187/
LOCATION:Firefly’s BBQ\, 350 East Main Street\, Marlborough\, MA\, 01752\, United States
END:VEVENT
BEGIN:VEVENT
DTSTART;TZID=America/New_York:20260228T120000
DTEND;TZID=America/New_York:20260228T180000
DTSTAMP:20260424T121920
CREATED:20260210T154852Z
LAST-MODIFIED:20260210T154852Z
UID:217111-1772280000-1772301600@visit-marlborough.com
SUMMARY:Oliver's Wands Pop-Up @ Lost Shoe
DESCRIPTION:Join us every Saturday from 12-6PM in The Forbidden Forest for a magical pop-up by Oliver’s Wands and Wizarding Wares! \nDiscover unique wands and enchanting treasures for every witch\, wizard\, and magical being. Whether you’re looking for the perfect wand or something special for your collection\, you won’t want to miss this magical experience!
URL:https://visit-marlborough.com/event/olivers-wands-pop-up-lost-shoe-7/
LOCATION:Lost Shoe Brewing & Roasting Co.\, 19 Weed Street\, Marlborough\, MA\, 01752\, United States
END:VEVENT
BEGIN:VEVENT
DTSTART;TZID=America/New_York:20260228T210000
DTEND;TZID=America/New_York:20260228T230000
DTSTAMP:20260424T121920
CREATED:20260210T183138Z
LAST-MODIFIED:20260210T183138Z
UID:217130-1772312400-1772319600@visit-marlborough.com
SUMMARY:Live Music @ Dante’s at Firefly's BBQ!
DESCRIPTION:Disco Lemonade \nFresh takes on party hits of the 90s and more! \nThe freshest party band in Massachusetts! Providing unique takes and mashing together the hits of 90s and more! \n=================== \n$12 Cover* \n*Dinner & Show ticket options do not include cost of food or beverages (food and beverage purchases are not included in ticket cost). Any dinner reservations arriving more than 15 minutes late will lose table seating. \n**For Standing Room tickets\, seating is first-come-first-served. \nMust be 21+ to attend this event.
URL:https://visit-marlborough.com/event/live-music-dantes-at-fireflys-bbq-188/
LOCATION:Firefly’s BBQ\, 350 East Main Street\, Marlborough\, MA\, 01752\, United States
END:VEVENT
END:VCALENDAR