BEGIN:VCALENDAR
VERSION:2.0
PRODID:-//Visit Marlborough - ECPv6.15.20//NONSGML v1.0//EN
CALSCALE:GREGORIAN
METHOD:PUBLISH
X-ORIGINAL-URL:https://visit-marlborough.com
X-WR-CALDESC:Events for Visit Marlborough
REFRESH-INTERVAL;VALUE=DURATION:PT1H
X-Robots-Tag:noindex
X-PUBLISHED-TTL:PT1H
BEGIN:VTIMEZONE
TZID:America/New_York
BEGIN:DAYLIGHT
TZOFFSETFROM:-0500
TZOFFSETTO:-0400
TZNAME:EDT
DTSTART:20210314T070000
END:DAYLIGHT
BEGIN:STANDARD
TZOFFSETFROM:-0400
TZOFFSETTO:-0500
TZNAME:EST
DTSTART:20211107T060000
END:STANDARD
BEGIN:DAYLIGHT
TZOFFSETFROM:-0500
TZOFFSETTO:-0400
TZNAME:EDT
DTSTART:20220313T070000
END:DAYLIGHT
BEGIN:STANDARD
TZOFFSETFROM:-0400
TZOFFSETTO:-0500
TZNAME:EST
DTSTART:20221106T060000
END:STANDARD
BEGIN:DAYLIGHT
TZOFFSETFROM:-0500
TZOFFSETTO:-0400
TZNAME:EDT
DTSTART:20230312T070000
END:DAYLIGHT
BEGIN:STANDARD
TZOFFSETFROM:-0400
TZOFFSETTO:-0500
TZNAME:EST
DTSTART:20231105T060000
END:STANDARD
END:VTIMEZONE
BEGIN:VEVENT
DTSTART;TZID=America/New_York:20220922T060000
DTEND;TZID=America/New_York:20220922T210000
DTSTAMP:20260419T220839
CREATED:20220503T142141Z
LAST-MODIFIED:20220503T142141Z
UID:208461-1663826400-1663880400@visit-marlborough.com
SUMMARY:Live Music @ Kennedy's Pub
DESCRIPTION:Come and enjoy the food\, drinks and music on the Patio with Side Effects! \n 
URL:https://visit-marlborough.com/event/live-music-kennedys-pub-22/
LOCATION:Kennedy’s Pub\, 247 Maple Street\, Marlborough\, MA\, 01752\, United States
END:VEVENT
BEGIN:VEVENT
DTSTART;TZID=America/New_York:20220922T180000
DTEND;TZID=America/New_York:20220922T210000
DTSTAMP:20260419T220839
CREATED:20220503T142141Z
LAST-MODIFIED:20220503T142141Z
UID:210877-1663869600-1663880400@visit-marlborough.com
SUMMARY:Live Music @ Kennedy's Pub
DESCRIPTION:Come and enjoy the food\, drinks and music on the Patio with Side Effects! \n 
URL:https://visit-marlborough.com/event/live-music-kennedys-pub-22-2/
LOCATION:Kennedy’s Pub\, 247 Maple Street\, Marlborough\, MA\, 01752\, United States
END:VEVENT
BEGIN:VEVENT
DTSTART;TZID=America/New_York:20220922T190000
DTEND;TZID=America/New_York:20220922T220000
DTSTAMP:20260419T220839
CREATED:20220922T143015Z
LAST-MODIFIED:20220922T143015Z
UID:211087-1663873200-1663884000@visit-marlborough.com
SUMMARY:Open Mic @ Tackle Box
DESCRIPTION:Open Mic Night!! Starting at 7 pm!
URL:https://visit-marlborough.com/event/open-mic-tackle-box-23/
LOCATION:Tackle Box Brewing Company\, 416 Boston Post Road East\, Marlborough\, MA\, 01752\, United States
END:VEVENT
BEGIN:VEVENT
DTSTART;TZID=America/New_York:20220923T180000
DTEND;TZID=America/New_York:20220923T210000
DTSTAMP:20260419T220839
CREATED:20220803T161853Z
LAST-MODIFIED:20220803T161853Z
UID:211071-1663956000-1663966800@visit-marlborough.com
SUMMARY:Get Lost Summer Concert Series @ Lost Shoe
DESCRIPTION:Get Lost Summer Concert Series from 6pm – 9pm! \nPerforming is: Double Dose of Dave
URL:https://visit-marlborough.com/event/get-lost-summer-concert-series-lost-shoe-27/
LOCATION:Lost Shoe Brewing & Roasting Co.\, 19 Weed Street\, Marlborough\, MA\, 01752\, United States
END:VEVENT
BEGIN:VEVENT
DTSTART;TZID=America/New_York:20220923T210000
DTEND;TZID=America/New_York:20220923T230000
DTSTAMP:20260419T220839
CREATED:20220921T154156Z
LAST-MODIFIED:20220921T154156Z
UID:211074-1663966800-1663974000@visit-marlborough.com
SUMMARY:Laughing Lure Comedy Night @ Tackle Box Brewing
DESCRIPTION:Laughing Lure Comedy night!
URL:https://visit-marlborough.com/event/laughing-lure-comedy-night-tackle-box-brewing-7-2/
LOCATION:Tackle Box Brewing Company\, 416 Boston Post Road East\, Marlborough\, MA\, 01752\, United States
END:VEVENT
BEGIN:VEVENT
DTSTART;TZID=America/New_York:20220923T210000
DTEND;TZID=America/New_York:20220923T230000
DTSTAMP:20260419T220839
CREATED:20220921T160832Z
LAST-MODIFIED:20220921T160832Z
UID:211076-1663966800-1663974000@visit-marlborough.com
SUMMARY:Live Music @  Dante’s at Firefly's BBQ!
DESCRIPTION:Z Company is a band of 5 seasoned musicians playing Peter Zicko’s originals along with covers from all Zhanras.
URL:https://visit-marlborough.com/event/live-music-dantes-at-fireflys-bbq-11/
LOCATION:Firefly’s BBQ\, 350 East Main Street\, Marlborough\, MA\, 01752\, United States
END:VEVENT
BEGIN:VEVENT
DTSTART;TZID=America/New_York:20220924T160000
DTEND;TZID=America/New_York:20220924T190000
DTSTAMP:20260419T220839
CREATED:20220921T191949Z
LAST-MODIFIED:20220921T191949Z
UID:211084-1664035200-1664046000@visit-marlborough.com
SUMMARY:Get Lost Summer Concert Series @ Lost Shoe
DESCRIPTION:Get Lost Summer Concert Series from 6pm – 9pm! \nPerforming is: Joel Cage
URL:https://visit-marlborough.com/event/get-lost-summer-concert-series-lost-shoe-28/
LOCATION:Lost Shoe Brewing & Roasting Co.\, 19 Weed Street\, Marlborough\, MA\, 01752\, United States
END:VEVENT
BEGIN:VEVENT
DTSTART;TZID=America/New_York:20220924T190000
DTEND;TZID=America/New_York:20220924T210000
DTSTAMP:20260419T220839
CREATED:20220921T154533Z
LAST-MODIFIED:20220921T154533Z
UID:211075-1664046000-1664053200@visit-marlborough.com
SUMMARY:Live Music Ft. Mike & Missy Unplugged @ Marlborough Country Club
DESCRIPTION:Join us for a night of tunes from Mike & Missy Unplugged (The MISSY Maxfield Project).
URL:https://visit-marlborough.com/event/live-music-ft-mike-missy-unplugged-marlborough-country-club/
LOCATION:Marlborough Country Club\, 200 Concord Rd\, Marlborough\, MA\, 01752\, United States
END:VEVENT
BEGIN:VEVENT
DTSTART;TZID=America/New_York:20220924T210000
DTEND;TZID=America/New_York:20220925T000000
DTSTAMP:20260419T220839
CREATED:20220921T174822Z
LAST-MODIFIED:20220921T174822Z
UID:211077-1664053200-1664064000@visit-marlborough.com
SUMMARY:Live Music @ Dante’s at Firefly's BBQ!
DESCRIPTION:The Peacheaters dig deep into the 40+ year catalog of Allman Brothers Band music and deliver an EXPERIENCE like no other. No two gigs are ever alike. The Peacheaters make these songs feel as fresh as the first time you heard them.
URL:https://visit-marlborough.com/event/live-music-dantes-at-fireflys-bbq-12/
LOCATION:Firefly’s BBQ\, 350 East Main Street\, Marlborough\, MA\, 01752\, United States
END:VEVENT
BEGIN:VEVENT
DTSTART;TZID=America/New_York:20220925T130000
DTEND;TZID=America/New_York:20220925T160000
DTSTAMP:20260419T220839
CREATED:20220921T192139Z
LAST-MODIFIED:20220921T192139Z
UID:211085-1664110800-1664121600@visit-marlborough.com
SUMMARY:Get Lost Summer Concert Series @ Lost Shoe
DESCRIPTION:Get Lost Summer Concert Series from 1pm – 4pm \nPerforming is: The Moscas
URL:https://visit-marlborough.com/event/get-lost-summer-concert-series-lost-shoe-29/
LOCATION:Lost Shoe Brewing & Roasting Co.\, 19 Weed Street\, Marlborough\, MA\, 01752\, United States
END:VEVENT
BEGIN:VEVENT
DTSTART;TZID=America/New_York:20220929T060000
DTEND;TZID=America/New_York:20220929T210000
DTSTAMP:20260419T220839
CREATED:20220503T142220Z
LAST-MODIFIED:20220503T142220Z
UID:208463-1664431200-1664485200@visit-marlborough.com
SUMMARY:Live Music @ Kennedy's Pub
DESCRIPTION:Come and enjoy the food\, drinks and music on the Patio with Three of a Kind! \n 
URL:https://visit-marlborough.com/event/live-music-kennedys-pub-23/
LOCATION:Kennedy’s Pub\, 247 Maple Street\, Marlborough\, MA\, 01752\, United States
END:VEVENT
BEGIN:VEVENT
DTSTART;TZID=America/New_York:20220929T180000
DTEND;TZID=America/New_York:20220929T210000
DTSTAMP:20260419T220839
CREATED:20220503T142220Z
LAST-MODIFIED:20220503T142220Z
UID:210878-1664474400-1664485200@visit-marlborough.com
SUMMARY:Live Music @ Kennedy's Pub
DESCRIPTION:Come and enjoy the food\, drinks and music on the Patio with Three of a Kind! \n 
URL:https://visit-marlborough.com/event/live-music-kennedys-pub-23-2/
LOCATION:Kennedy’s Pub\, 247 Maple Street\, Marlborough\, MA\, 01752\, United States
END:VEVENT
BEGIN:VEVENT
DTSTART;TZID=America/New_York:20220929T190000
DTEND;TZID=America/New_York:20220929T220000
DTSTAMP:20260419T220839
CREATED:20220922T143053Z
LAST-MODIFIED:20220922T143053Z
UID:209133-1664478000-1664488800@visit-marlborough.com
SUMMARY:Open Mic @ Tackle Box
DESCRIPTION:Open Mic Night!! Starting at 7 pm!
URL:https://visit-marlborough.com/event/open-mic-tackle-box-24/
LOCATION:Tackle Box Brewing Company\, 416 Boston Post Road East\, Marlborough\, MA\, 01752\, United States
END:VEVENT
BEGIN:VEVENT
DTSTART;TZID=America/New_York:20220930T210000
DTEND;TZID=America/New_York:20220930T230000
DTSTAMP:20260419T220839
CREATED:20220921T175323Z
LAST-MODIFIED:20220921T175323Z
UID:211078-1664571600-1664578800@visit-marlborough.com
SUMMARY:Live Music @ Dante’s at Firefly's BBQ!
DESCRIPTION:The Inexpensive Winos is a 5-member Classic Rock band from Central MA that loves to get the crowd partying and dancing\, playing music from the 60s to 80s!
URL:https://visit-marlborough.com/event/live-music-dantes-at-fireflys-bbq-13/
LOCATION:Firefly’s BBQ\, 350 East Main Street\, Marlborough\, MA\, 01752\, United States
END:VEVENT
END:VCALENDAR