BEGIN:VCALENDAR
VERSION:2.0
PRODID:-//Visit Marlborough - ECPv6.15.20//NONSGML v1.0//EN
CALSCALE:GREGORIAN
METHOD:PUBLISH
X-WR-CALNAME:Visit Marlborough
X-ORIGINAL-URL:https://visit-marlborough.com
X-WR-CALDESC:Events for Visit Marlborough
REFRESH-INTERVAL;VALUE=DURATION:PT1H
X-Robots-Tag:noindex
X-PUBLISHED-TTL:PT1H
BEGIN:VTIMEZONE
TZID:America/New_York
BEGIN:DAYLIGHT
TZOFFSETFROM:-0500
TZOFFSETTO:-0400
TZNAME:EDT
DTSTART:20210314T070000
END:DAYLIGHT
BEGIN:STANDARD
TZOFFSETFROM:-0400
TZOFFSETTO:-0500
TZNAME:EST
DTSTART:20211107T060000
END:STANDARD
BEGIN:DAYLIGHT
TZOFFSETFROM:-0500
TZOFFSETTO:-0400
TZNAME:EDT
DTSTART:20220313T070000
END:DAYLIGHT
BEGIN:STANDARD
TZOFFSETFROM:-0400
TZOFFSETTO:-0500
TZNAME:EST
DTSTART:20221106T060000
END:STANDARD
BEGIN:DAYLIGHT
TZOFFSETFROM:-0500
TZOFFSETTO:-0400
TZNAME:EDT
DTSTART:20230312T070000
END:DAYLIGHT
BEGIN:STANDARD
TZOFFSETFROM:-0400
TZOFFSETTO:-0500
TZNAME:EST
DTSTART:20231105T060000
END:STANDARD
END:VTIMEZONE
BEGIN:VEVENT
DTSTART;TZID=America/New_York:20220205T140000
DTEND;TZID=America/New_York:20220205T150000
DTSTAMP:20260424T015424
CREATED:20220201T173620Z
LAST-MODIFIED:20220201T173620Z
UID:208132-1644069600-1644073200@visit-marlborough.com
SUMMARY:Satan's Lollipop Challenge
DESCRIPTION:
URL:https://visit-marlborough.com/event/satans-lollipop-challenge/
LOCATION:Tackle Box Brewing Company\, 416 Boston Post Road East\, Marlborough\, MA\, 01752\, United States
END:VEVENT
BEGIN:VEVENT
DTSTART;TZID=America/New_York:20220205T140000
DTEND;TZID=America/New_York:20220205T150000
DTSTAMP:20260424T015424
CREATED:20220201T173620Z
LAST-MODIFIED:20220201T173620Z
UID:210755-1644069600-1644073200@visit-marlborough.com
SUMMARY:Satan's Lollipop Challenge
DESCRIPTION:
URL:https://visit-marlborough.com/event/satans-lollipop-challenge-2/
LOCATION:Tackle Box Brewing Company\, 416 Boston Post Road East\, Marlborough\, MA\, 01752\, United States
END:VEVENT
BEGIN:VEVENT
DTSTART;TZID=America/New_York:20220210T190000
DTEND;TZID=America/New_York:20220210T220000
DTSTAMP:20260424T015424
CREATED:20220204T201014Z
LAST-MODIFIED:20220204T201014Z
UID:208145-1644519600-1644530400@visit-marlborough.com
SUMMARY:Open Mic @ Tackle Box
DESCRIPTION:
URL:https://visit-marlborough.com/event/open-mic-tackle-box/
LOCATION:Tackle Box Brewing Company\, 416 Boston Post Road East\, Marlborough\, MA\, 01752\, United States
END:VEVENT
BEGIN:VEVENT
DTSTART;TZID=America/New_York:20220210T190000
DTEND;TZID=America/New_York:20220210T220000
DTSTAMP:20260424T015424
CREATED:20220204T201014Z
LAST-MODIFIED:20220204T201014Z
UID:210760-1644519600-1644530400@visit-marlborough.com
SUMMARY:Open Mic @ Tackle Box
DESCRIPTION:
URL:https://visit-marlborough.com/event/open-mic-tackle-box-20/
LOCATION:Tackle Box Brewing Company\, 416 Boston Post Road East\, Marlborough\, MA\, 01752\, United States
END:VEVENT
BEGIN:VEVENT
DTSTART;TZID=America/New_York:20220217T190000
DTEND;TZID=America/New_York:20220217T220000
DTSTAMP:20260424T015424
CREATED:20220204T201211Z
LAST-MODIFIED:20220204T201211Z
UID:210761-1645124400-1645135200@visit-marlborough.com
SUMMARY:Open Mic @ Tackle Box
DESCRIPTION:
URL:https://visit-marlborough.com/event/open-mic-tackle-box-2-2/
LOCATION:Tackle Box Brewing Company\, 416 Boston Post Road East\, Marlborough\, MA\, 01752\, United States
END:VEVENT
BEGIN:VEVENT
DTSTART;TZID=America/New_York:20220217T190000
DTEND;TZID=America/New_York:20220217T220000
DTSTAMP:20260424T015424
CREATED:20220204T201211Z
LAST-MODIFIED:20220204T201211Z
UID:208147-1645124400-1645135200@visit-marlborough.com
SUMMARY:Open Mic @ Tackle Box
DESCRIPTION:
URL:https://visit-marlborough.com/event/open-mic-tackle-box-2/
LOCATION:Tackle Box Brewing Company\, 416 Boston Post Road East\, Marlborough\, MA\, 01752\, United States
END:VEVENT
BEGIN:VEVENT
DTSTART;TZID=America/New_York:20220218T210000
DTEND;TZID=America/New_York:20220218T230000
DTSTAMP:20260424T015424
CREATED:20220204T202039Z
LAST-MODIFIED:20220204T202039Z
UID:210764-1645218000-1645225200@visit-marlborough.com
SUMMARY:Laughing Lure Comedy Night @ Tackle Box Brewing
DESCRIPTION:Laughing Lure is back! Comedy show is February 18th at 9pm.
URL:https://visit-marlborough.com/event/laughing-lure-comedy-night-tackle-box-brewing-2-2/
LOCATION:Tackle Box Brewing Company\, 416 Boston Post Road East\, Marlborough\, MA\, 01752\, United States
END:VEVENT
BEGIN:VEVENT
DTSTART;TZID=America/New_York:20220218T210000
DTEND;TZID=America/New_York:20220218T230000
DTSTAMP:20260424T015424
CREATED:20220204T202039Z
LAST-MODIFIED:20220204T202039Z
UID:208153-1645218000-1645225200@visit-marlborough.com
SUMMARY:Laughing Lure Comedy Night @ Tackle Box Brewing
DESCRIPTION:Laughing Lure is back! Comedy show is February 18th at 9pm.
URL:https://visit-marlborough.com/event/laughing-lure-comedy-night-tackle-box-brewing-2/
LOCATION:Tackle Box Brewing Company\, 416 Boston Post Road East\, Marlborough\, MA\, 01752\, United States
END:VEVENT
BEGIN:VEVENT
DTSTART;TZID=America/New_York:20220224T190000
DTEND;TZID=America/New_York:20220224T220000
DTSTAMP:20260424T015424
CREATED:20220204T201429Z
LAST-MODIFIED:20220204T201429Z
UID:210762-1645729200-1645740000@visit-marlborough.com
SUMMARY:Open Mic @ Tackle Box
DESCRIPTION:
URL:https://visit-marlborough.com/event/open-mic-tackle-box-3-2/
LOCATION:Tackle Box Brewing Company\, 416 Boston Post Road East\, Marlborough\, MA\, 01752\, United States
END:VEVENT
BEGIN:VEVENT
DTSTART;TZID=America/New_York:20220224T190000
DTEND;TZID=America/New_York:20220224T220000
DTSTAMP:20260424T015424
CREATED:20220204T201429Z
LAST-MODIFIED:20220204T201429Z
UID:208149-1645729200-1645740000@visit-marlborough.com
SUMMARY:Open Mic @ Tackle Box
DESCRIPTION:
URL:https://visit-marlborough.com/event/open-mic-tackle-box-3/
LOCATION:Tackle Box Brewing Company\, 416 Boston Post Road East\, Marlborough\, MA\, 01752\, United States
END:VEVENT
END:VCALENDAR