BEGIN:VCALENDAR
VERSION:2.0
PRODID:-//Visit Marlborough - ECPv6.15.20//NONSGML v1.0//EN
CALSCALE:GREGORIAN
METHOD:PUBLISH
X-ORIGINAL-URL:https://visit-marlborough.com
X-WR-CALDESC:Events for Visit Marlborough
REFRESH-INTERVAL;VALUE=DURATION:PT1H
X-Robots-Tag:noindex
X-PUBLISHED-TTL:PT1H
BEGIN:VTIMEZONE
TZID:America/New_York
BEGIN:DAYLIGHT
TZOFFSETFROM:-0500
TZOFFSETTO:-0400
TZNAME:EDT
DTSTART:20200308T070000
END:DAYLIGHT
BEGIN:STANDARD
TZOFFSETFROM:-0400
TZOFFSETTO:-0500
TZNAME:EST
DTSTART:20201101T060000
END:STANDARD
BEGIN:DAYLIGHT
TZOFFSETFROM:-0500
TZOFFSETTO:-0400
TZNAME:EDT
DTSTART:20210314T070000
END:DAYLIGHT
BEGIN:STANDARD
TZOFFSETFROM:-0400
TZOFFSETTO:-0500
TZNAME:EST
DTSTART:20211107T060000
END:STANDARD
BEGIN:DAYLIGHT
TZOFFSETFROM:-0500
TZOFFSETTO:-0400
TZNAME:EDT
DTSTART:20220313T070000
END:DAYLIGHT
BEGIN:STANDARD
TZOFFSETFROM:-0400
TZOFFSETTO:-0500
TZNAME:EST
DTSTART:20221106T060000
END:STANDARD
END:VTIMEZONE
BEGIN:VEVENT
DTSTART;TZID=America/New_York:20211007T173000
DTEND;TZID=America/New_York:20211007T203000
DTSTAMP:20260424T101329
CREATED:20211001T185006Z
LAST-MODIFIED:20211001T185006Z
UID:210725-1633627800-1633638600@visit-marlborough.com
SUMMARY:Book Tasting @ Tackle Box
DESCRIPTION:Hygge House Book Tasting \nhttps://m-partners.facebook.com/events/2984594618477137 \n 
URL:https://visit-marlborough.com/event/book-tasting-tackle-box-2/
LOCATION:Tackle Box Brewing Company\, 416 Boston Post Road East\, Marlborough\, MA\, 01752\, United States
END:VEVENT
BEGIN:VEVENT
DTSTART;TZID=America/New_York:20211007T173000
DTEND;TZID=America/New_York:20211007T203000
DTSTAMP:20260424T101329
CREATED:20211001T185006Z
LAST-MODIFIED:20211001T185006Z
UID:207999-1633627800-1633638600@visit-marlborough.com
SUMMARY:Book Tasting @ Tackle Box
DESCRIPTION:Hygge House Book Tasting \nhttps://m-partners.facebook.com/events/2984594618477137 \n 
URL:https://visit-marlborough.com/event/book-tasting-tackle-box/
LOCATION:Tackle Box Brewing Company\, 416 Boston Post Road East\, Marlborough\, MA\, 01752\, United States
END:VEVENT
BEGIN:VEVENT
DTSTART;TZID=America/New_York:20211008T210000
DTEND;TZID=America/New_York:20211008T230000
DTSTAMP:20260424T101329
CREATED:20211001T193755Z
LAST-MODIFIED:20211001T193755Z
UID:210736-1633726800-1633734000@visit-marlborough.com
SUMMARY:Live Music @ Firefly's
DESCRIPTION:Vinyl Junkies will be playing for you in Dante’s – their big and beautiful music room. Reservations are strongly encouraged for this one\, folks! You can call them at (508) 357-8883 Tuesday – Sunday\, 11am – 8pm or make a reservation online at RESY. They have incredible food – check out the menu at www.fireflysbbq.com. \n 
URL:https://visit-marlborough.com/event/live-music-fireflys-2/
LOCATION:Firefly’s BBQ\, 350 East Main Street\, Marlborough\, MA\, 01752\, United States
END:VEVENT
BEGIN:VEVENT
DTSTART;TZID=America/New_York:20211008T210000
DTEND;TZID=America/New_York:20211008T230000
DTSTAMP:20260424T101329
CREATED:20211001T193755Z
LAST-MODIFIED:20211001T193755Z
UID:208026-1633726800-1633734000@visit-marlborough.com
SUMMARY:Live Music @ Firefly's
DESCRIPTION:Vinyl Junkies will be playing for you in Dante’s – their big and beautiful music room. Reservations are strongly encouraged for this one\, folks! You can call them at (508) 357-8883 Tuesday – Sunday\, 11am – 8pm or make a reservation online at RESY. They have incredible food – check out the menu at www.fireflysbbq.com. \n 
URL:https://visit-marlborough.com/event/live-music-fireflys/
LOCATION:Firefly’s BBQ\, 350 East Main Street\, Marlborough\, MA\, 01752\, United States
END:VEVENT
BEGIN:VEVENT
DTSTART;TZID=America/New_York:20211010T130000
DTEND;TZID=America/New_York:20211010T150000
DTSTAMP:20260424T101329
CREATED:20211001T193214Z
LAST-MODIFIED:20211001T193214Z
UID:210735-1633870800-1633878000@visit-marlborough.com
SUMMARY:Ty Law Meet & Greet @ Apex
DESCRIPTION:Come watch the Sunday football game with Patriots Legend & Hall of Famer\, Ty Law!\nEnjoy one of our specialty hand-crafted cocktails featuring V-One Vodka\, a clean drinking\, 100% spelt grain & gluten free vodka!\n\n*Not an official signing. We can not guarantee items will be signed based on timing and the number in attendance. \nSee Less
URL:https://visit-marlborough.com/event/ty-law-meet-greet-apex-2/
LOCATION:Apex Entertainment Center\, 21 Apex Drive\, Marlborough\, MA\, 01752\, United States
END:VEVENT
BEGIN:VEVENT
DTSTART;TZID=America/New_York:20211010T130000
DTEND;TZID=America/New_York:20211010T150000
DTSTAMP:20260424T101329
CREATED:20211001T193214Z
LAST-MODIFIED:20211001T193214Z
UID:208023-1633870800-1633878000@visit-marlborough.com
SUMMARY:Ty Law Meet & Greet @ Apex
DESCRIPTION:Come watch the Sunday football game with Patriots Legend & Hall of Famer\, Ty Law!\nEnjoy one of our specialty hand-crafted cocktails featuring V-One Vodka\, a clean drinking\, 100% spelt grain & gluten free vodka!\n\n*Not an official signing. We can not guarantee items will be signed based on timing and the number in attendance. \nSee Less
URL:https://visit-marlborough.com/event/ty-law-meet-greet-apex/
LOCATION:Apex Entertainment Center\, 21 Apex Drive\, Marlborough\, MA\, 01752\, United States
END:VEVENT
BEGIN:VEVENT
DTSTART;TZID=America/New_York:20211015T210000
DTEND;TZID=America/New_York:20211015T230000
DTSTAMP:20260424T101329
CREATED:20211001T190612Z
LAST-MODIFIED:20211001T190612Z
UID:210732-1634331600-1634338800@visit-marlborough.com
SUMMARY:Laughing Lure Comedy Night @ Tackle Box Brewing
DESCRIPTION:Laughing Lure is back! Comedy show is October 15th at 9pm.
URL:https://visit-marlborough.com/event/laughing-lure-comedy-night-tackle-box-brewing-7/
LOCATION:Tackle Box Brewing Company\, 416 Boston Post Road East\, Marlborough\, MA\, 01752\, United States
END:VEVENT
BEGIN:VEVENT
DTSTART;TZID=America/New_York:20211015T210000
DTEND;TZID=America/New_York:20211015T230000
DTSTAMP:20260424T101329
CREATED:20211001T190612Z
LAST-MODIFIED:20211001T190612Z
UID:208013-1634331600-1634338800@visit-marlborough.com
SUMMARY:Laughing Lure Comedy Night @ Tackle Box Brewing
DESCRIPTION:Laughing Lure is back! Comedy show is October 15th at 9pm.
URL:https://visit-marlborough.com/event/laughing-lure-comedy-night-tackle-box-brewing/
LOCATION:Tackle Box Brewing Company\, 416 Boston Post Road East\, Marlborough\, MA\, 01752\, United States
END:VEVENT
BEGIN:VEVENT
DTSTART;TZID=America/New_York:20211016T130000
DTEND;TZID=America/New_York:20211016T150000
DTSTAMP:20260424T101329
CREATED:20211001T192727Z
LAST-MODIFIED:20211001T192727Z
UID:210734-1634389200-1634396400@visit-marlborough.com
SUMMARY:Succulent Beer Flight
DESCRIPTION:Come make a Succulent Beer Flights! The $40 ticket includes the workshop\, the materials\, and a pint of beer or hard seltzer. You can order tickets here:  https://www.eventbrite.com/e/succulent-beer-flight-tickets-168050855633?aff=ebdssbdestsearch \n 
URL:https://visit-marlborough.com/event/succulent-beer-flight-2/
LOCATION:Tackle Box Brewing Company\, 416 Boston Post Road East\, Marlborough\, MA\, 01752\, United States
END:VEVENT
BEGIN:VEVENT
DTSTART;TZID=America/New_York:20211016T130000
DTEND;TZID=America/New_York:20211016T150000
DTSTAMP:20260424T101329
CREATED:20211001T192727Z
LAST-MODIFIED:20211001T192727Z
UID:208021-1634389200-1634396400@visit-marlborough.com
SUMMARY:Succulent Beer Flight
DESCRIPTION:Come make a Succulent Beer Flights! The $40 ticket includes the workshop\, the materials\, and a pint of beer or hard seltzer. You can order tickets here:  https://www.eventbrite.com/e/succulent-beer-flight-tickets-168050855633?aff=ebdssbdestsearch \n 
URL:https://visit-marlborough.com/event/succulent-beer-flight/
LOCATION:Tackle Box Brewing Company\, 416 Boston Post Road East\, Marlborough\, MA\, 01752\, United States
END:VEVENT
BEGIN:VEVENT
DTSTART;TZID=America/New_York:20211029T000000
DTEND;TZID=America/New_York:20211031T000000
DTSTAMP:20260424T101329
CREATED:20210706T164251Z
LAST-MODIFIED:20210706T164251Z
UID:207684-1635465600-1635638400@visit-marlborough.com
SUMMARY:International Gem & Jewelry Show @ Best Western Royal Plaza
DESCRIPTION:Pre-register as a licensed wholesale buyer before the deadline and receive a buyer’s pass. Only state or internationally registered companies with a valid business tax ID and the mandatory credentials below will qualify. Buyers will not receive a buyer’s pass if they do not pre-register online by the deadline Wednesday\, October 27th\, 2021 11:59PM EST.
URL:https://visit-marlborough.com/event/international-gem-jewelry-show-best-western-royal-plaza-2/
LOCATION:Best Western Royal Plaza\, 181 Boston Post Road West\, Marlborough\, MA\, 01752\, United States
END:VEVENT
BEGIN:VEVENT
DTSTART;TZID=America/New_York:20211029T000000
DTEND;TZID=America/New_York:20211031T000000
DTSTAMP:20260424T101329
CREATED:20210706T164251Z
LAST-MODIFIED:20210706T164251Z
UID:210645-1635465600-1635638400@visit-marlborough.com
SUMMARY:International Gem & Jewelry Show @ Best Western Royal Plaza
DESCRIPTION:Pre-register as a licensed wholesale buyer before the deadline and receive a buyer’s pass. Only state or internationally registered companies with a valid business tax ID and the mandatory credentials below will qualify. Buyers will not receive a buyer’s pass if they do not pre-register online by the deadline Wednesday\, October 27th\, 2021 11:59PM EST.
URL:https://visit-marlborough.com/event/international-gem-jewelry-show-best-western-royal-plaza-2-2/
LOCATION:Best Western Royal Plaza\, 181 Boston Post Road West\, Marlborough\, MA\, 01752\, United States
END:VEVENT
END:VCALENDAR