BEGIN:VCALENDAR
VERSION:2.0
PRODID:-//Visit Marlborough - ECPv6.15.20//NONSGML v1.0//EN
CALSCALE:GREGORIAN
METHOD:PUBLISH
X-WR-CALNAME:Visit Marlborough
X-ORIGINAL-URL:https://visit-marlborough.com
X-WR-CALDESC:Events for Visit Marlborough
REFRESH-INTERVAL;VALUE=DURATION:PT1H
X-Robots-Tag:noindex
X-PUBLISHED-TTL:PT1H
BEGIN:VTIMEZONE
TZID:America/New_York
BEGIN:DAYLIGHT
TZOFFSETFROM:-0500
TZOFFSETTO:-0400
TZNAME:EDT
DTSTART:20230312T070000
END:DAYLIGHT
BEGIN:STANDARD
TZOFFSETFROM:-0400
TZOFFSETTO:-0500
TZNAME:EST
DTSTART:20231105T060000
END:STANDARD
BEGIN:DAYLIGHT
TZOFFSETFROM:-0500
TZOFFSETTO:-0400
TZNAME:EDT
DTSTART:20240310T070000
END:DAYLIGHT
BEGIN:STANDARD
TZOFFSETFROM:-0400
TZOFFSETTO:-0500
TZNAME:EST
DTSTART:20241103T060000
END:STANDARD
BEGIN:DAYLIGHT
TZOFFSETFROM:-0500
TZOFFSETTO:-0400
TZNAME:EDT
DTSTART:20250309T070000
END:DAYLIGHT
BEGIN:STANDARD
TZOFFSETFROM:-0400
TZOFFSETTO:-0500
TZNAME:EST
DTSTART:20251102T060000
END:STANDARD
END:VTIMEZONE
BEGIN:VEVENT
DTSTART;TZID=America/New_York:20240622T090000
DTEND;TZID=America/New_York:20240622T130000
DTSTAMP:20260419T082554
CREATED:20240429T165013Z
LAST-MODIFIED:20240429T165013Z
UID:214417-1719046800-1719061200@visit-marlborough.com
SUMMARY:Marlborough Farmers Market
DESCRIPTION:2024 Farmers Market Presented by Lost Shoe Brewing & Roasting Co.\nSaturdays 9am-1pm from June 15th through October 5th\nIn the parking lot at the corners of Main\, South Bolton\, Weed and Court Streets.\n 
URL:https://visit-marlborough.com/event/marlborough-farmers-market-28/
LOCATION:Lost Shoe Brewing & Roasting Co.\, 19 Weed Street\, Marlborough\, MA\, 01752\, United States
END:VEVENT
BEGIN:VEVENT
DTSTART;TZID=America/New_York:20240622T130000
DTEND;TZID=America/New_York:20240622T150000
DTSTAMP:20260419T082554
CREATED:20240523T155026Z
LAST-MODIFIED:20240523T155026Z
UID:214562-1719061200-1719068400@visit-marlborough.com
SUMMARY:Flip Circus
DESCRIPTION:Created by the imagination of the Vazquez family. CREATIVITY – Years of experience has given us the ability to create a new and exciting show with a modern\, yet vintage feel. IMAGINATION – Imagine a show where your seat gives you an intimate\, up close and personal interaction with the artists. That is Fl!p Circus! FAMILY – For over 50 years and four generations\, the Vazquez family has provided quality circus throughout North and South America. Bringing many smiles and memories to the families that have visited Circus Vazquez. Come see what we are doing! \nWith our enormous red and white circus tent! See the great motorcycles inside the Globe of Steel\, and laugh like you never have before with our gleeful clowns. We are excited to have you join our community. Thank you for being of our magical world. Welcome to Fl!p Circus!
URL:https://visit-marlborough.com/event/flip-circus-13/
LOCATION:Solomon Pond Mall\, 601 Donald Lynch Blvd\, Marlborough\, MA\, 01752\, United States
END:VEVENT
BEGIN:VEVENT
DTSTART;TZID=America/New_York:20240622T160000
DTEND;TZID=America/New_York:20240622T180000
DTSTAMP:20260419T082554
CREATED:20240523T155132Z
LAST-MODIFIED:20240523T155132Z
UID:214564-1719072000-1719079200@visit-marlborough.com
SUMMARY:Flip Circus
DESCRIPTION:Created by the imagination of the Vazquez family. CREATIVITY – Years of experience has given us the ability to create a new and exciting show with a modern\, yet vintage feel. IMAGINATION – Imagine a show where your seat gives you an intimate\, up close and personal interaction with the artists. That is Fl!p Circus! FAMILY – For over 50 years and four generations\, the Vazquez family has provided quality circus throughout North and South America. Bringing many smiles and memories to the families that have visited Circus Vazquez. Come see what we are doing! \nWith our enormous red and white circus tent! See the great motorcycles inside the Globe of Steel\, and laugh like you never have before with our gleeful clowns. We are excited to have you join our community. Thank you for being of our magical world. Welcome to Fl!p Circus!
URL:https://visit-marlborough.com/event/flip-circus-14/
LOCATION:Solomon Pond Mall\, 601 Donald Lynch Blvd\, Marlborough\, MA\, 01752\, United States
END:VEVENT
BEGIN:VEVENT
DTSTART;TZID=America/New_York:20240622T190000
DTEND;TZID=America/New_York:20240622T210000
DTSTAMP:20260419T082554
CREATED:20240523T155215Z
LAST-MODIFIED:20240523T155215Z
UID:214566-1719082800-1719090000@visit-marlborough.com
SUMMARY:Flip Circus
DESCRIPTION:Created by the imagination of the Vazquez family. CREATIVITY – Years of experience has given us the ability to create a new and exciting show with a modern\, yet vintage feel. IMAGINATION – Imagine a show where your seat gives you an intimate\, up close and personal interaction with the artists. That is Fl!p Circus! FAMILY – For over 50 years and four generations\, the Vazquez family has provided quality circus throughout North and South America. Bringing many smiles and memories to the families that have visited Circus Vazquez. Come see what we are doing! \nWith our enormous red and white circus tent! See the great motorcycles inside the Globe of Steel\, and laugh like you never have before with our gleeful clowns. We are excited to have you join our community. Thank you for being of our magical world. Welcome to Fl!p Circus!
URL:https://visit-marlborough.com/event/flip-circus-15/
LOCATION:Solomon Pond Mall\, 601 Donald Lynch Blvd\, Marlborough\, MA\, 01752\, United States
END:VEVENT
END:VCALENDAR