BEGIN:VCALENDAR
VERSION:2.0
PRODID:-//Visit Marlborough - ECPv6.15.20//NONSGML v1.0//EN
CALSCALE:GREGORIAN
METHOD:PUBLISH
X-WR-CALNAME:Visit Marlborough
X-ORIGINAL-URL:https://visit-marlborough.com
X-WR-CALDESC:Events for Visit Marlborough
REFRESH-INTERVAL;VALUE=DURATION:PT1H
X-Robots-Tag:noindex
X-PUBLISHED-TTL:PT1H
BEGIN:VTIMEZONE
TZID:America/New_York
BEGIN:DAYLIGHT
TZOFFSETFROM:-0500
TZOFFSETTO:-0400
TZNAME:EDT
DTSTART:20230312T070000
END:DAYLIGHT
BEGIN:STANDARD
TZOFFSETFROM:-0400
TZOFFSETTO:-0500
TZNAME:EST
DTSTART:20231105T060000
END:STANDARD
BEGIN:DAYLIGHT
TZOFFSETFROM:-0500
TZOFFSETTO:-0400
TZNAME:EDT
DTSTART:20240310T070000
END:DAYLIGHT
BEGIN:STANDARD
TZOFFSETFROM:-0400
TZOFFSETTO:-0500
TZNAME:EST
DTSTART:20241103T060000
END:STANDARD
BEGIN:DAYLIGHT
TZOFFSETFROM:-0500
TZOFFSETTO:-0400
TZNAME:EDT
DTSTART:20250309T070000
END:DAYLIGHT
BEGIN:STANDARD
TZOFFSETFROM:-0400
TZOFFSETTO:-0500
TZNAME:EST
DTSTART:20251102T060000
END:STANDARD
END:VTIMEZONE
BEGIN:VEVENT
DTSTART;TZID=America/New_York:20240621T170000
DTEND;TZID=America/New_York:20240621T200000
DTSTAMP:20260424T002438
CREATED:20240429T183001Z
LAST-MODIFIED:20240429T183001Z
UID:214494-1718989200-1719000000@visit-marlborough.com
SUMMARY:Live Music @ The Backyard at Firefly’s BBQ!
DESCRIPTION:Jared Hanrahan\n\n\nThis talented young singer/songwriter has a voice like an angel and the looks to match! Jared hails from right here in Marlborough\, MA and is rapidly gaining international fame. You may have seen him on American Idol\, at House of Blues\, singing the National Anthem at Gillette Stadium\, in NYC or Paris… Don’t miss this stellar performer!
URL:https://visit-marlborough.com/event/live-music-the-backyard-at-fireflys-bbq-30/
LOCATION:Firefly’s BBQ\, 350 East Main Street\, Marlborough\, MA\, 01752\, United States
END:VEVENT
BEGIN:VEVENT
DTSTART;TZID=America/New_York:20240621T200000
DTEND;TZID=America/New_York:20240621T230000
DTSTAMP:20260424T002438
CREATED:20240531T160045Z
LAST-MODIFIED:20240531T160045Z
UID:214754-1719000000-1719010800@visit-marlborough.com
SUMMARY:Live Music @ Tackle Box
DESCRIPTION:Dire Wolf returns to Tackle Box Brewing Co. with a special mix of the Jerry Garcia Band and Grateful Dead favorites that Jerry loved to sing! No cover! \nCome for some great music\, beers\, and cheers!
URL:https://visit-marlborough.com/event/live-music-tackle-box-162/
LOCATION:Tackle Box Brewing Company\, 416 Boston Post Road East\, Marlborough\, MA\, 01752\, United States
END:VEVENT
BEGIN:VEVENT
DTSTART;TZID=America/New_York:20240621T210000
DTEND;TZID=America/New_York:20240621T235900
DTSTAMP:20260424T002438
CREATED:20240530T155433Z
LAST-MODIFIED:20240530T155433Z
UID:214670-1719003600-1719014340@visit-marlborough.com
SUMMARY:Live Music @ Bolton Street Tavern
DESCRIPTION:Live music at Bolton Street Tavern with Argonauts!
URL:https://visit-marlborough.com/event/live-music-bolton-street-tavern-53/
LOCATION:Bolton Street Tavern\, 587 Bolton Street\, Marlborough\, MA\, 01752\, United States
END:VEVENT
END:VCALENDAR