BEGIN:VCALENDAR
VERSION:2.0
PRODID:-//Visit Marlborough - ECPv6.15.20//NONSGML v1.0//EN
CALSCALE:GREGORIAN
METHOD:PUBLISH
X-ORIGINAL-URL:https://visit-marlborough.com
X-WR-CALDESC:Events for Visit Marlborough
REFRESH-INTERVAL;VALUE=DURATION:PT1H
X-Robots-Tag:noindex
X-PUBLISHED-TTL:PT1H
BEGIN:VTIMEZONE
TZID:America/New_York
BEGIN:DAYLIGHT
TZOFFSETFROM:-0500
TZOFFSETTO:-0400
TZNAME:EDT
DTSTART:20230312T070000
END:DAYLIGHT
BEGIN:STANDARD
TZOFFSETFROM:-0400
TZOFFSETTO:-0500
TZNAME:EST
DTSTART:20231105T060000
END:STANDARD
BEGIN:DAYLIGHT
TZOFFSETFROM:-0500
TZOFFSETTO:-0400
TZNAME:EDT
DTSTART:20240310T070000
END:DAYLIGHT
BEGIN:STANDARD
TZOFFSETFROM:-0400
TZOFFSETTO:-0500
TZNAME:EST
DTSTART:20241103T060000
END:STANDARD
BEGIN:DAYLIGHT
TZOFFSETFROM:-0500
TZOFFSETTO:-0400
TZNAME:EDT
DTSTART:20250309T070000
END:DAYLIGHT
BEGIN:STANDARD
TZOFFSETFROM:-0400
TZOFFSETTO:-0500
TZNAME:EST
DTSTART:20251102T060000
END:STANDARD
END:VTIMEZONE
BEGIN:VEVENT
DTSTART;TZID=America/New_York:20240614T170000
DTEND;TZID=America/New_York:20240614T200000
DTSTAMP:20260424T124815
CREATED:20240429T182701Z
LAST-MODIFIED:20240429T182701Z
UID:214488-1718384400-1718395200@visit-marlborough.com
SUMMARY:Live Music @ The Backyard at Firefly’s BBQ!
DESCRIPTION:Ava Panza\n\n\nA graduate of Berklee College of Music\, Ava is a Boston-based vocalist and instrumentalist. Her debut single “Alive” was released in 2020\, and her newest release “Used To” is now available. Ava has played many well-known venues and festivals including The Stone Pony\, House of Blues\, and Lollapalooza.
URL:https://visit-marlborough.com/event/live-music-the-backyard-at-fireflys-bbq-27/
LOCATION:Firefly’s BBQ\, 350 East Main Street\, Marlborough\, MA\, 01752\, United States
END:VEVENT
BEGIN:VEVENT
DTSTART;TZID=America/New_York:20240614T180000
DTEND;TZID=America/New_York:20240614T210000
DTSTAMP:20260424T124815
CREATED:20240530T140142Z
LAST-MODIFIED:20240530T140142Z
UID:214643-1718388000-1718398800@visit-marlborough.com
SUMMARY:Live Music @ Flying Dreams Brewing Co.
DESCRIPTION:Live music with Missy & Mike Unplugged at Flying Dreams!
URL:https://visit-marlborough.com/event/live-music-flying-dreams-brewing-co-3/
LOCATION:Flying Dreams Brewing Co.\, 277 Main Street\, Marlborough\, MA\, 01752\, United States
END:VEVENT
BEGIN:VEVENT
DTSTART;TZID=America/New_York:20240614T210000
DTEND;TZID=America/New_York:20240614T235900
DTSTAMP:20260424T124815
CREATED:20240530T155218Z
LAST-MODIFIED:20240530T155218Z
UID:214666-1718398800-1718409540@visit-marlborough.com
SUMMARY:Live Music @ Bolton Street Tavern
DESCRIPTION:Live music at Bolton Street Tavern with Bitter Hearts!
URL:https://visit-marlborough.com/event/live-music-bolton-street-tavern-51/
LOCATION:Bolton Street Tavern\, 587 Bolton Street\, Marlborough\, MA\, 01752\, United States
END:VEVENT
END:VCALENDAR