BEGIN:VCALENDAR
VERSION:2.0
PRODID:-//Visit Marlborough - ECPv6.15.20//NONSGML v1.0//EN
CALSCALE:GREGORIAN
METHOD:PUBLISH
X-ORIGINAL-URL:https://visit-marlborough.com
X-WR-CALDESC:Events for Visit Marlborough
REFRESH-INTERVAL;VALUE=DURATION:PT1H
X-Robots-Tag:noindex
X-PUBLISHED-TTL:PT1H
BEGIN:VTIMEZONE
TZID:America/New_York
BEGIN:DAYLIGHT
TZOFFSETFROM:-0500
TZOFFSETTO:-0400
TZNAME:EDT
DTSTART:20250309T070000
END:DAYLIGHT
BEGIN:STANDARD
TZOFFSETFROM:-0400
TZOFFSETTO:-0500
TZNAME:EST
DTSTART:20251102T060000
END:STANDARD
BEGIN:DAYLIGHT
TZOFFSETFROM:-0500
TZOFFSETTO:-0400
TZNAME:EDT
DTSTART:20260308T070000
END:DAYLIGHT
BEGIN:STANDARD
TZOFFSETFROM:-0400
TZOFFSETTO:-0500
TZNAME:EST
DTSTART:20261101T060000
END:STANDARD
BEGIN:DAYLIGHT
TZOFFSETFROM:-0500
TZOFFSETTO:-0400
TZNAME:EDT
DTSTART:20270314T070000
END:DAYLIGHT
BEGIN:STANDARD
TZOFFSETFROM:-0400
TZOFFSETTO:-0500
TZNAME:EST
DTSTART:20271107T060000
END:STANDARD
END:VTIMEZONE
BEGIN:VEVENT
DTSTART;TZID=America/New_York:20260102T183000
DTEND;TZID=America/New_York:20260102T213000
DTSTAMP:20260426T000919
CREATED:20251230T145229Z
LAST-MODIFIED:20251230T145229Z
UID:216963-1767378600-1767389400@visit-marlborough.com
SUMMARY:Live Music @ Dante’s at Firefly's BBQ!
DESCRIPTION:Mike & Dave Acoustic Duo\nStriving to make every type of music listener happy with real talent\, sung from the heart. Making music first!
URL:https://visit-marlborough.com/event/live-music-dantes-at-fireflys-bbq-173/
LOCATION:Firefly’s BBQ\, 350 East Main Street\, Marlborough\, MA\, 01752\, United States
END:VEVENT
BEGIN:VEVENT
DTSTART;TZID=America/New_York:20260102T200000
DTEND;TZID=America/New_York:20260102T230000
DTSTAMP:20260426T000919
CREATED:20251124T174818Z
LAST-MODIFIED:20251124T174818Z
UID:216820-1767384000-1767394800@visit-marlborough.com
SUMMARY:Live Music @ Tackle Box
DESCRIPTION:Hit The Bus\nJoin us for an unforgettable night as Hit The Bus rocks the stage with their high-energy performance. Great music\, great brews\, and great company – what more could you ask for? Grab a drink\, bring your friends\, and let’s make it a night to remember! No cover!
URL:https://visit-marlborough.com/event/live-music-tackle-box-209/
LOCATION:Tackle Box Brewing Company\, 416 Boston Post Road East\, Marlborough\, MA\, 01752\, United States
ATTACH;FMTTYPE=image/jpeg:https://visit-marlborough.com/wp-content/uploads/2025/11/Hit-THe-Bus.jpg
END:VEVENT
BEGIN:VEVENT
DTSTART;TZID=America/New_York:20260103T200000
DTEND;TZID=America/New_York:20260103T230000
DTSTAMP:20260426T000919
CREATED:20251124T175048Z
LAST-MODIFIED:20251124T175048Z
UID:216823-1767470400-1767481200@visit-marlborough.com
SUMMARY:Live Music @ Tackle Box
DESCRIPTION:Tasteless Jack\nKick off the new year with Tasteless Jack rocking the stage at Tackle Box Brewing Co.! Don’t miss the first Saturday live music of the year – grab a beer\, bring your friends\, and start 2026 with great vibes and even better tunes!
URL:https://visit-marlborough.com/event/live-music-tackle-box-210/
LOCATION:Tackle Box Brewing Company\, 416 Boston Post Road East\, Marlborough\, MA\, 01752\, United States
ATTACH;FMTTYPE=image/jpeg:https://visit-marlborough.com/wp-content/uploads/2025/11/Tasteless-Jack.jpg
END:VEVENT
BEGIN:VEVENT
DTSTART;TZID=America/New_York:20260103T210000
DTEND;TZID=America/New_York:20260103T230000
DTSTAMP:20260426T000919
CREATED:20251230T145337Z
LAST-MODIFIED:20251230T145337Z
UID:216965-1767474000-1767481200@visit-marlborough.com
SUMMARY:Live Music @ Dante’s at Firefly's BBQ!
DESCRIPTION:Shady Armadillo\nThis high-energy Country-Rock cover band from Central Massachusetts keeps the dance floor jumping all night long!
URL:https://visit-marlborough.com/event/live-music-dantes-at-fireflys-bbq-174/
LOCATION:Firefly’s BBQ\, 350 East Main Street\, Marlborough\, MA\, 01752\, United States
END:VEVENT
BEGIN:VEVENT
DTSTART;TZID=America/New_York:20260105T183000
DTEND;TZID=America/New_York:20260105T193000
DTSTAMP:20260426T000919
CREATED:20251124T162214Z
LAST-MODIFIED:20251124T162214Z
UID:216750-1767637800-1767641400@visit-marlborough.com
SUMMARY:Monday Night Run Club @ Lost Shoe
DESCRIPTION:Get your week started on the right foot! Join us every Monday at 6:30PM for Run Club. All levels welcome with 1\, 3 and 5 mile route options every week!
URL:https://visit-marlborough.com/event/monday-night-run-club-lost-shoe-85/
LOCATION:Lost Shoe Brewing & Roasting Co.\, 19 Weed Street\, Marlborough\, MA\, 01752\, United States
END:VEVENT
BEGIN:VEVENT
DTSTART;TZID=America/New_York:20260108T193000
DTEND;TZID=America/New_York:20260108T223000
DTSTAMP:20260426T000919
CREATED:20251124T211103Z
LAST-MODIFIED:20251124T211103Z
UID:216852-1767900600-1767911400@visit-marlborough.com
SUMMARY:Rock Star Karaoke @ Tackle Box
DESCRIPTION:Unleash your inner rock star every Thursday night at Tackle Box Brewing Co.! Whether you’re a seasoned performer or just want to have fun\, join us for a night of karaoke\, great drinks\, and unforgettable memories. Don’t miss out on the fun!
URL:https://visit-marlborough.com/event/rock-star-karaoke-tackle-box-15/
LOCATION:Tackle Box Brewing Company\, 416 Boston Post Road East\, Marlborough\, MA\, 01752\, United States
ATTACH;FMTTYPE=image/jpeg:https://visit-marlborough.com/wp-content/uploads/2025/11/karaoke-tackle-box.jpg
END:VEVENT
BEGIN:VEVENT
DTSTART;TZID=America/New_York:20260109T210000
DTEND;TZID=America/New_York:20260109T230000
DTSTAMP:20260426T000919
CREATED:20251124T175413Z
LAST-MODIFIED:20251124T175413Z
UID:216826-1767992400-1767999600@visit-marlborough.com
SUMMARY:Live Music @ Tackle Box
DESCRIPTION:Disco Lemonade\nGet ready for a high-energy night as Disco Lemonade rocks the stage with their signature sound! Don’t wait – the last show sold out!
URL:https://visit-marlborough.com/event/live-music-tackle-box-211/
LOCATION:Tackle Box Brewing Company\, 416 Boston Post Road East\, Marlborough\, MA\, 01752\, United States
ATTACH;FMTTYPE=image/jpeg:https://visit-marlborough.com/wp-content/uploads/2025/11/Disco-Lemonade.jpg
END:VEVENT
BEGIN:VEVENT
DTSTART;TZID=America/New_York:20260109T210000
DTEND;TZID=America/New_York:20260109T230000
DTSTAMP:20260426T000919
CREATED:20251230T145449Z
LAST-MODIFIED:20251230T145449Z
UID:216967-1767992400-1767999600@visit-marlborough.com
SUMMARY:Live Music @ Dante’s at Firefly's BBQ!
DESCRIPTION:Ambient Sojourn Band (ASB)\nPlaying Rock ’n Roll\, Rhythm & Blues\, Funk\, and more — foot-tapping\, danceable\, get-your-groove-on music!
URL:https://visit-marlborough.com/event/live-music-dantes-at-fireflys-bbq-175/
LOCATION:Firefly’s BBQ\, 350 East Main Street\, Marlborough\, MA\, 01752\, United States
END:VEVENT
BEGIN:VEVENT
DTSTART;TZID=America/New_York:20260110T100000
DTEND;TZID=America/New_York:20260110T140000
DTSTAMP:20260426T000919
CREATED:20251230T155224Z
LAST-MODIFIED:20251230T155224Z
UID:216990-1768039200-1768053600@visit-marlborough.com
SUMMARY:Marlborough Farmers Market (Winter/Spring Season)
DESCRIPTION:The Marlborough Farmers Market returns for a special Winter/Spring Edition! ❄️🌷\nYou can find us at the Marlborough Public Library from 10AM-2PM on:\n• Saturday\, January 10th\n• Saturday\, February 7th\n• Saturday\, March 7th\n• Saturday\, April 4th\n• Saturday\, May 2nd\nWe will have local produce\, meat and other specialty vendors that are all SNAP eligible (SNAP match included!) 🥬🥩\nMark those dates down and come shop local!
URL:https://visit-marlborough.com/event/marlborough-farmers-market-winter-spring-season/
LOCATION:Marlborough Public Library\, 35 West Main Street\, Marlborough\, MA\, 01752\, United States
END:VEVENT
BEGIN:VEVENT
DTSTART;TZID=America/New_York:20260110T200000
DTEND;TZID=America/New_York:20260110T230000
DTSTAMP:20260426T000919
CREATED:20251124T175742Z
LAST-MODIFIED:20251124T175742Z
UID:216829-1768075200-1768086000@visit-marlborough.com
SUMMARY:Live Music @ Tackle Box
DESCRIPTION:Funktones\nGet ready to move! The Funktones are rocking the stage at Tackle Box Brewing Co. on Saturday\, January 10th from 8-11 PM. This 4-piece band brings the groove with funk\, soul\, and R&B – basically\, it’s dance music all night long! No cover – just great music\, good vibes\, and awesome brews!
URL:https://visit-marlborough.com/event/live-music-tackle-box-212/
LOCATION:Tackle Box Brewing Company\, 416 Boston Post Road East\, Marlborough\, MA\, 01752\, United States
ATTACH;FMTTYPE=image/jpeg:https://visit-marlborough.com/wp-content/uploads/2025/11/Funktones-Tackle-Box.jpg
END:VEVENT
BEGIN:VEVENT
DTSTART;TZID=America/New_York:20260110T210000
DTEND;TZID=America/New_York:20260110T230000
DTSTAMP:20260426T000919
CREATED:20251230T145551Z
LAST-MODIFIED:20251230T145551Z
UID:216969-1768078800-1768086000@visit-marlborough.com
SUMMARY:Live Music @ Dante’s at Firefly's BBQ!
DESCRIPTION:Bone City\nA high energy Rock band aimed at tickling your party bone\, they love to get up on stage and have a good time while playing Rock songs you know from the 70s\, 80s and 90s to today!
URL:https://visit-marlborough.com/event/live-music-dantes-at-fireflys-bbq-176/
LOCATION:Firefly’s BBQ\, 350 East Main Street\, Marlborough\, MA\, 01752\, United States
END:VEVENT
BEGIN:VEVENT
DTSTART;TZID=America/New_York:20260112T183000
DTEND;TZID=America/New_York:20260112T193000
DTSTAMP:20260426T000919
CREATED:20251124T162235Z
LAST-MODIFIED:20251124T162235Z
UID:216752-1768242600-1768246200@visit-marlborough.com
SUMMARY:Monday Night Run Club @ Lost Shoe
DESCRIPTION:Get your week started on the right foot! Join us every Monday at 6:30PM for Run Club. All levels welcome with 1\, 3 and 5 mile route options every week!
URL:https://visit-marlborough.com/event/monday-night-run-club-lost-shoe-86/
LOCATION:Lost Shoe Brewing & Roasting Co.\, 19 Weed Street\, Marlborough\, MA\, 01752\, United States
END:VEVENT
BEGIN:VEVENT
DTSTART;TZID=America/New_York:20260115T193000
DTEND;TZID=America/New_York:20260115T223000
DTSTAMP:20260426T000919
CREATED:20251124T211126Z
LAST-MODIFIED:20251124T211126Z
UID:216854-1768505400-1768516200@visit-marlborough.com
SUMMARY:Rock Star Karaoke @ Tackle Box
DESCRIPTION:Unleash your inner rock star every Thursday night at Tackle Box Brewing Co.! Whether you’re a seasoned performer or just want to have fun\, join us for a night of karaoke\, great drinks\, and unforgettable memories. Don’t miss out on the fun!
URL:https://visit-marlborough.com/event/rock-star-karaoke-tackle-box-16/
LOCATION:Tackle Box Brewing Company\, 416 Boston Post Road East\, Marlborough\, MA\, 01752\, United States
ATTACH;FMTTYPE=image/jpeg:https://visit-marlborough.com/wp-content/uploads/2025/11/karaoke-tackle-box.jpg
END:VEVENT
BEGIN:VEVENT
DTSTART;TZID=America/New_York:20260116T210000
DTEND;TZID=America/New_York:20260116T230000
DTSTAMP:20260426T000919
CREATED:20251230T145732Z
LAST-MODIFIED:20251230T145911Z
UID:216971-1768597200-1768604400@visit-marlborough.com
SUMMARY:Live Music @ Dante’s at Firefly's BBQ!
DESCRIPTION:The Verge\nAn energetic and talented dance party band that pumps up the night\, performing a variety of your favorite hits from the 70s to today\, with some special tunes thrown in for good measure!
URL:https://visit-marlborough.com/event/live-music-dantes-at-fireflys-bbq-177/
LOCATION:Firefly’s BBQ\, 350 East Main Street\, Marlborough\, MA\, 01752\, United States
END:VEVENT
BEGIN:VEVENT
DTSTART;TZID=America/New_York:20260117T210000
DTEND;TZID=America/New_York:20260117T230000
DTSTAMP:20260426T000919
CREATED:20251230T145841Z
LAST-MODIFIED:20251230T145841Z
UID:216973-1768683600-1768690800@visit-marlborough.com
SUMMARY:Live Music @ Dante’s at Firefly's BBQ!
DESCRIPTION:Tucker’s Creek\nTucker’s Creek is a local Southern Rock band that covers the best of everyone’s favorite Classic Rock hits and Texas-based Blues!
URL:https://visit-marlborough.com/event/live-music-dantes-at-fireflys-bbq-178/
LOCATION:Firefly’s BBQ\, 350 East Main Street\, Marlborough\, MA\, 01752\, United States
END:VEVENT
BEGIN:VEVENT
DTSTART;TZID=America/New_York:20260119T183000
DTEND;TZID=America/New_York:20260119T193000
DTSTAMP:20260426T000919
CREATED:20251124T162253Z
LAST-MODIFIED:20251124T162253Z
UID:216754-1768847400-1768851000@visit-marlborough.com
SUMMARY:Monday Night Run Club @ Lost Shoe
DESCRIPTION:Get your week started on the right foot! Join us every Monday at 6:30PM for Run Club. All levels welcome with 1\, 3 and 5 mile route options every week!
URL:https://visit-marlborough.com/event/monday-night-run-club-lost-shoe-87/
LOCATION:Lost Shoe Brewing & Roasting Co.\, 19 Weed Street\, Marlborough\, MA\, 01752\, United States
END:VEVENT
BEGIN:VEVENT
DTSTART;TZID=America/New_York:20260122T193000
DTEND;TZID=America/New_York:20260122T223000
DTSTAMP:20260426T000919
CREATED:20251124T211213Z
LAST-MODIFIED:20251124T211213Z
UID:216856-1769110200-1769121000@visit-marlborough.com
SUMMARY:Rock Star Karaoke @ Tackle Box
DESCRIPTION:Unleash your inner rock star every Thursday night at Tackle Box Brewing Co.! Whether you’re a seasoned performer or just want to have fun\, join us for a night of karaoke\, great drinks\, and unforgettable memories. Don’t miss out on the fun!
URL:https://visit-marlborough.com/event/rock-star-karaoke-tackle-box-17/
LOCATION:Tackle Box Brewing Company\, 416 Boston Post Road East\, Marlborough\, MA\, 01752\, United States
ATTACH;FMTTYPE=image/jpeg:https://visit-marlborough.com/wp-content/uploads/2025/11/karaoke-tackle-box.jpg
END:VEVENT
BEGIN:VEVENT
DTSTART;TZID=America/New_York:20260123T183000
DTEND;TZID=America/New_York:20260123T213000
DTSTAMP:20260426T000919
CREATED:20251230T150019Z
LAST-MODIFIED:20251230T150019Z
UID:216975-1769193000-1769203800@visit-marlborough.com
SUMMARY:Live Music @ Dante’s at Firefly's BBQ!
DESCRIPTION:This Guy / That Guy\nA seasoned musical duo with a wide repertoire ranging from Classic Rock anthems to soulful ballads.
URL:https://visit-marlborough.com/event/live-music-dantes-at-fireflys-bbq-179/
LOCATION:Firefly’s BBQ\, 350 East Main Street\, Marlborough\, MA\, 01752\, United States
END:VEVENT
BEGIN:VEVENT
DTSTART;TZID=America/New_York:20260123T200000
DTEND;TZID=America/New_York:20260123T230000
DTSTAMP:20260426T000919
CREATED:20251124T193523Z
LAST-MODIFIED:20251124T193523Z
UID:216832-1769198400-1769209200@visit-marlborough.com
SUMMARY:Live Music @ Tackle Box
DESCRIPTION:Eastern Point\nGet ready for a high-energy party with Eastern Point as they rock the stage at Tackle Box Brewing Co.! With the best hits from the ’90s\, 2000s\, and today’s chart-toppers\, Eastern Point delivers a dynamic performance that will keep you dancing all night long. Don’t miss out on this unforgettable music experience!
URL:https://visit-marlborough.com/event/live-music-tackle-box-213/
LOCATION:Tackle Box Brewing Company\, 416 Boston Post Road East\, Marlborough\, MA\, 01752\, United States
ATTACH;FMTTYPE=image/jpeg:https://visit-marlborough.com/wp-content/uploads/2025/11/Eastern-Point.jpg
END:VEVENT
BEGIN:VEVENT
DTSTART;TZID=America/New_York:20260124T200000
DTEND;TZID=America/New_York:20260124T230000
DTSTAMP:20260426T000919
CREATED:20251124T193726Z
LAST-MODIFIED:20251124T193726Z
UID:216834-1769284800-1769295600@visit-marlborough.com
SUMMARY:Live Music @ Tackle Box
DESCRIPTION:Debut of A2Z Band\nA2Z makes its debut at Tackle Box Brewing! Be the first to hear their brand-new original song – written with Rascal Flatts’ drummer! This is one debut you don’t want to miss!
URL:https://visit-marlborough.com/event/live-music-tackle-box-214/
LOCATION:Tackle Box Brewing Company\, 416 Boston Post Road East\, Marlborough\, MA\, 01752\, United States
ATTACH;FMTTYPE=image/jpeg:https://visit-marlborough.com/wp-content/uploads/2025/11/A2Z.jpg
END:VEVENT
BEGIN:VEVENT
DTSTART;TZID=America/New_York:20260124T210000
DTEND;TZID=America/New_York:20260124T230000
DTSTAMP:20260426T000919
CREATED:20251230T151833Z
LAST-MODIFIED:20251230T151833Z
UID:216977-1769288400-1769295600@visit-marlborough.com
SUMMARY:Live Music @ Dante’s at Firefly's BBQ!
DESCRIPTION:Blackstone Soul\nA six-piece\, high-energy party powerhouse specializing in Yacht Rock\, 70s Gold\, R&B\, Soul\, Disco and Funk\, this band gets the party started and keeps it going all night long!
URL:https://visit-marlborough.com/event/live-music-dantes-at-fireflys-bbq-180/
LOCATION:Firefly’s BBQ\, 350 East Main Street\, Marlborough\, MA\, 01752\, United States
END:VEVENT
BEGIN:VEVENT
DTSTART;TZID=America/New_York:20260126T183000
DTEND;TZID=America/New_York:20260126T193000
DTSTAMP:20260426T000919
CREATED:20251124T162314Z
LAST-MODIFIED:20251124T162314Z
UID:216756-1769452200-1769455800@visit-marlborough.com
SUMMARY:Monday Night Run Club @ Lost Shoe
DESCRIPTION:Get your week started on the right foot! Join us every Monday at 6:30PM for Run Club. All levels welcome with 1\, 3 and 5 mile route options every week!
URL:https://visit-marlborough.com/event/monday-night-run-club-lost-shoe-88/
LOCATION:Lost Shoe Brewing & Roasting Co.\, 19 Weed Street\, Marlborough\, MA\, 01752\, United States
END:VEVENT
BEGIN:VEVENT
DTSTART;TZID=America/New_York:20260129T193000
DTEND;TZID=America/New_York:20260129T223000
DTSTAMP:20260426T000919
CREATED:20251124T211243Z
LAST-MODIFIED:20251124T211243Z
UID:216858-1769715000-1769725800@visit-marlborough.com
SUMMARY:Rock Star Karaoke @ Tackle Box
DESCRIPTION:Unleash your inner rock star every Thursday night at Tackle Box Brewing Co.! Whether you’re a seasoned performer or just want to have fun\, join us for a night of karaoke\, great drinks\, and unforgettable memories. Don’t miss out on the fun!
URL:https://visit-marlborough.com/event/rock-star-karaoke-tackle-box-18/
LOCATION:Tackle Box Brewing Company\, 416 Boston Post Road East\, Marlborough\, MA\, 01752\, United States
ATTACH;FMTTYPE=image/jpeg:https://visit-marlborough.com/wp-content/uploads/2025/11/karaoke-tackle-box.jpg
END:VEVENT
BEGIN:VEVENT
DTSTART;TZID=America/New_York:20260130T200000
DTEND;TZID=America/New_York:20260130T230000
DTSTAMP:20260426T000919
CREATED:20251124T204120Z
LAST-MODIFIED:20251124T204120Z
UID:216839-1769803200-1769814000@visit-marlborough.com
SUMMARY:Live Music @ Tackle Box
DESCRIPTION:So Lucky – A tribute to Dave Matthews\nGet ready for an unforgettable night as So Lucky brings the iconic sound of Dave Matthews Band to the stage at Tackle Box Brewing Co. Grab a beer\, bring your friends\, and jam out all night long.
URL:https://visit-marlborough.com/event/live-music-tackle-box-215/
LOCATION:Tackle Box Brewing Company\, 416 Boston Post Road East\, Marlborough\, MA\, 01752\, United States
ATTACH;FMTTYPE=image/jpeg:https://visit-marlborough.com/wp-content/uploads/2025/11/DMB-Tackle-Box.jpg
END:VEVENT
BEGIN:VEVENT
DTSTART;TZID=America/New_York:20260130T210000
DTEND;TZID=America/New_York:20260130T230000
DTSTAMP:20260426T000919
CREATED:20251230T152002Z
LAST-MODIFIED:20251230T152002Z
UID:216979-1769806800-1769814000@visit-marlborough.com
SUMMARY:Live Music @ Dante’s at Firefly's BBQ!
DESCRIPTION:Dead Til Friday\nThe premier tribute to Rock-n-Roll\, powerfully covering music from the greatest bands of the 70s to now!
URL:https://visit-marlborough.com/event/live-music-dantes-at-fireflys-bbq-181/
LOCATION:Firefly’s BBQ\, 350 East Main Street\, Marlborough\, MA\, 01752\, United States
END:VEVENT
BEGIN:VEVENT
DTSTART;TZID=America/New_York:20260131T200000
DTEND;TZID=America/New_York:20260131T230000
DTSTAMP:20260426T000919
CREATED:20251124T204434Z
LAST-MODIFIED:20251124T204434Z
UID:216842-1769889600-1769900400@visit-marlborough.com
SUMMARY:Live Music @ Tackle Box
DESCRIPTION:East Bridge Acoustics Trio\nJoin us for a night of acoustic vibes and great brews as East Bridge Acoustics Trio brings their signature sound to the Tackle Box stage. Free entry – just bring your friends and good energy!
URL:https://visit-marlborough.com/event/live-music-tackle-box-216/
LOCATION:Tackle Box Brewing Company\, 416 Boston Post Road East\, Marlborough\, MA\, 01752\, United States
ATTACH;FMTTYPE=image/jpeg:https://visit-marlborough.com/wp-content/uploads/2025/11/East-Bridge.jpg
END:VEVENT
BEGIN:VEVENT
DTSTART;TZID=America/New_York:20260131T210000
DTEND;TZID=America/New_York:20260131T230000
DTSTAMP:20260426T000919
CREATED:20251230T152411Z
LAST-MODIFIED:20251230T152411Z
UID:216981-1769893200-1769900400@visit-marlborough.com
SUMMARY:Live Music @ Dante’s at Firefly's BBQ!
DESCRIPTION:Freeballin’\nComprised of experienced musicians\, Freeballin’ is a high-energy band performing a mix of covers and originals including Rock\, Rap\, Dance and Funk — from The Red Hot Chili Peppers to Prince!
URL:https://visit-marlborough.com/event/live-music-dantes-at-fireflys-bbq-182/
LOCATION:Firefly’s BBQ\, 350 East Main Street\, Marlborough\, MA\, 01752\, United States
END:VEVENT
END:VCALENDAR