BEGIN:VCALENDAR
VERSION:2.0
PRODID:-//Visit Marlborough - ECPv6.15.20//NONSGML v1.0//EN
CALSCALE:GREGORIAN
METHOD:PUBLISH
X-ORIGINAL-URL:https://visit-marlborough.com
X-WR-CALDESC:Events for Visit Marlborough
REFRESH-INTERVAL;VALUE=DURATION:PT1H
X-Robots-Tag:noindex
X-PUBLISHED-TTL:PT1H
BEGIN:VTIMEZONE
TZID:America/New_York
BEGIN:DAYLIGHT
TZOFFSETFROM:-0500
TZOFFSETTO:-0400
TZNAME:EDT
DTSTART:20230312T070000
END:DAYLIGHT
BEGIN:STANDARD
TZOFFSETFROM:-0400
TZOFFSETTO:-0500
TZNAME:EST
DTSTART:20231105T060000
END:STANDARD
BEGIN:DAYLIGHT
TZOFFSETFROM:-0500
TZOFFSETTO:-0400
TZNAME:EDT
DTSTART:20240310T070000
END:DAYLIGHT
BEGIN:STANDARD
TZOFFSETFROM:-0400
TZOFFSETTO:-0500
TZNAME:EST
DTSTART:20241103T060000
END:STANDARD
BEGIN:DAYLIGHT
TZOFFSETFROM:-0500
TZOFFSETTO:-0400
TZNAME:EDT
DTSTART:20250309T070000
END:DAYLIGHT
BEGIN:STANDARD
TZOFFSETFROM:-0400
TZOFFSETTO:-0500
TZNAME:EST
DTSTART:20251102T060000
END:STANDARD
END:VTIMEZONE
BEGIN:VEVENT
DTSTART;TZID=America/New_York:20240701T183000
DTEND;TZID=America/New_York:20240701T190000
DTSTAMP:20260422T143518
CREATED:20240624T155110Z
LAST-MODIFIED:20240624T155110Z
UID:214792-1719858600-1719860400@visit-marlborough.com
SUMMARY:Monday Night Run Club @ Lost Shoe
DESCRIPTION:Monday Night Run Club every Monday starting at 6:30 pm!
URL:https://visit-marlborough.com/event/monday-night-run-club-lost-shoe-31/
LOCATION:Lost Shoe Brewing & Roasting Co.\, 19 Weed Street\, Marlborough\, MA\, 01752\, United States
END:VEVENT
BEGIN:VEVENT
DTSTART;TZID=America/New_York:20240704T200000
DTEND;TZID=America/New_York:20240704T230000
DTSTAMP:20260422T143518
CREATED:20240624T181244Z
LAST-MODIFIED:20240624T181244Z
UID:214840-1720123200-1720134000@visit-marlborough.com
SUMMARY:Open Mic @ Tackle Box
DESCRIPTION:Come jam with The Hook house band – Dylan and Friends! Grab your guitar\, harmonica\, vocal chords\, drumsticks or whatever\, and head to Tackle Box Brewing on Thursday nights starting at 8pm! Step on stage with some of the best musicians and play live in front of a great audience. \nGrab a brew and kick back and enjoy while you’re here. Can’t wait to see you on Thursday nights!
URL:https://visit-marlborough.com/event/open-mic-tackle-box-69/
LOCATION:Tackle Box Brewing Company\, 416 Boston Post Road East\, Marlborough\, MA\, 01752\, United States
END:VEVENT
BEGIN:VEVENT
DTSTART;TZID=America/New_York:20240705T170000
DTEND;TZID=America/New_York:20240705T200000
DTSTAMP:20260422T143518
CREATED:20240624T185612Z
LAST-MODIFIED:20240624T185612Z
UID:214857-1720198800-1720209600@visit-marlborough.com
SUMMARY:Live Music @ The Backyard at Firefly’s BBQ!
DESCRIPTION:Peter Conrad Lavenson\n\n\nPeter Conrad Lavenson and friends light up the evening with soulful\, fun\, and seductive music straight from the heart. Relax into a hi-energy\, melodic bouquet of R&B\, standard favorites\, and new originals to get you singing along\, moving about\, and feeling good!
URL:https://visit-marlborough.com/event/live-music-the-backyard-at-fireflys-bbq-36/
LOCATION:Firefly’s BBQ\, 350 East Main Street\, Marlborough\, MA\, 01752\, United States
END:VEVENT
BEGIN:VEVENT
DTSTART;TZID=America/New_York:20240705T210000
DTEND;TZID=America/New_York:20240705T230000
DTSTAMP:20260422T143518
CREATED:20240624T205101Z
LAST-MODIFIED:20240624T205101Z
UID:214885-1720213200-1720220400@visit-marlborough.com
SUMMARY:Live Music @ Dante’s at Firefly's BBQ!
DESCRIPTION:Downtown Rhythm\n\n\nYour favorite R&B\, Soul\, Rock\, and Funk hits from the 70s to today with the dynamic voice of award-winning singer-songwriter Maverick out front!
URL:https://visit-marlborough.com/event/live-music-dantes-at-fireflys-bbq-96/
LOCATION:Firefly’s BBQ\, 350 East Main Street\, Marlborough\, MA\, 01752\, United States
END:VEVENT
BEGIN:VEVENT
DTSTART;TZID=America/New_York:20240706T090000
DTEND;TZID=America/New_York:20240706T130000
DTSTAMP:20260422T143518
CREATED:20240429T165127Z
LAST-MODIFIED:20240429T165127Z
UID:214421-1720256400-1720270800@visit-marlborough.com
SUMMARY:Marlborough Farmers Market
DESCRIPTION:2024 Farmers Market Presented by Lost Shoe Brewing & Roasting Co.\nSaturdays 9am-1pm from June 15th through October 5th\nIn the parking lot at the corners of Main\, South Bolton\, Weed and Court Streets.\n 
URL:https://visit-marlborough.com/event/marlborough-farmers-market-30/
LOCATION:Lost Shoe Brewing & Roasting Co.\, 19 Weed Street\, Marlborough\, MA\, 01752\, United States
END:VEVENT
BEGIN:VEVENT
DTSTART;TZID=America/New_York:20240706T170000
DTEND;TZID=America/New_York:20240706T200000
DTSTAMP:20260422T143518
CREATED:20240624T202906Z
LAST-MODIFIED:20240624T202906Z
UID:214858-1720285200-1720296000@visit-marlborough.com
SUMMARY:Live Music @ The Backyard at Firefly’s BBQ!
DESCRIPTION:Mikey Hutchinson\n\n\nMikey’s repertoire spans from the 60’s to the present day\, ensuring a diverse and engaging musical experience for all!
URL:https://visit-marlborough.com/event/live-music-the-backyard-at-fireflys-bbq-37/
LOCATION:Firefly’s BBQ\, 350 East Main Street\, Marlborough\, MA\, 01752\, United States
END:VEVENT
BEGIN:VEVENT
DTSTART;TZID=America/New_York:20240706T210000
DTEND;TZID=America/New_York:20240706T230000
DTSTAMP:20260422T143518
CREATED:20240624T205211Z
LAST-MODIFIED:20240624T205211Z
UID:214887-1720299600-1720306800@visit-marlborough.com
SUMMARY:Live Music @ Dante’s at Firefly's BBQ!
DESCRIPTION:Red Square\n\n\nThe premier Rock and Dance cover band in the Boston area for over 20 years! This fab four have a diverse set list that spans four decades\, from Pop to Rock to Hair Bands to Hip-Hop! Unique cover tunes\, mashups\, and all around booty shakin’ madness!
URL:https://visit-marlborough.com/event/live-music-dantes-at-fireflys-bbq-97/
LOCATION:Firefly’s BBQ\, 350 East Main Street\, Marlborough\, MA\, 01752\, United States
END:VEVENT
BEGIN:VEVENT
DTSTART;TZID=America/New_York:20240706T210000
DTEND;TZID=America/New_York:20240706T235900
DTSTAMP:20260422T143518
CREATED:20240530T155923Z
LAST-MODIFIED:20240530T155923Z
UID:214678-1720299600-1720310340@visit-marlborough.com
SUMMARY:Live Music @ Bolton Street Tavern
DESCRIPTION:Live music at Bolton Street Tavern with Stone Free!
URL:https://visit-marlborough.com/event/live-music-bolton-street-tavern-57/
LOCATION:Bolton Street Tavern\, 587 Bolton Street\, Marlborough\, MA\, 01752\, United States
END:VEVENT
BEGIN:VEVENT
DTSTART;TZID=America/New_York:20240707T170000
DTEND;TZID=America/New_York:20240707T200000
DTSTAMP:20260422T143518
CREATED:20240624T203047Z
LAST-MODIFIED:20240624T203047Z
UID:214861-1720371600-1720382400@visit-marlborough.com
SUMMARY:Live Music @ The Backyard at Firefly’s BBQ!
DESCRIPTION:Mike & Dave Acoustic Duo\nStriving to make every type of music listener happy with real talent\, sung from the heart. Family friendly! Making music first!
URL:https://visit-marlborough.com/event/live-music-the-backyard-at-fireflys-bbq-38/
LOCATION:Firefly’s BBQ\, 350 East Main Street\, Marlborough\, MA\, 01752\, United States
END:VEVENT
BEGIN:VEVENT
DTSTART;TZID=America/New_York:20240708T183000
DTEND;TZID=America/New_York:20240708T190000
DTSTAMP:20260422T143518
CREATED:20240624T155220Z
LAST-MODIFIED:20240624T155220Z
UID:214794-1720463400-1720465200@visit-marlborough.com
SUMMARY:Monday Night Run Club @ Lost Shoe
DESCRIPTION:Monday Night Run Club every Monday starting at 6:30 pm!
URL:https://visit-marlborough.com/event/monday-night-run-club-lost-shoe-32/
LOCATION:Lost Shoe Brewing & Roasting Co.\, 19 Weed Street\, Marlborough\, MA\, 01752\, United States
END:VEVENT
BEGIN:VEVENT
DTSTART;TZID=America/New_York:20240711T090000
DTEND;TZID=America/New_York:20240711T120000
DTSTAMP:20260422T143518
CREATED:20240624T161333Z
LAST-MODIFIED:20240624T161333Z
UID:214804-1720688400-1720699200@visit-marlborough.com
SUMMARY:Beats & Brews with JP @ Lost Shoe
DESCRIPTION:Enjoy a beverage while listening to owner/brewer JP spin some beats. The perfect way to get the weekend ignited!
URL:https://visit-marlborough.com/event/beats-brews-with-jp-lost-shoe-19/
LOCATION:Lost Shoe Brewing & Roasting Co.\, 19 Weed Street\, Marlborough\, MA\, 01752\, United States
END:VEVENT
BEGIN:VEVENT
DTSTART;TZID=America/New_York:20240711T190000
DTEND;TZID=America/New_York:20240711T203000
DTSTAMP:20260422T143518
CREATED:20240523T163952Z
LAST-MODIFIED:20240523T163952Z
UID:214591-1720724400-1720729800@visit-marlborough.com
SUMMARY:Summer Concerts @ Union Common
DESCRIPTION:Performing: Childhood / Huck – Pop/Rock-N-Roll \nBeer Vendor: Flying Dreams Brewing
URL:https://visit-marlborough.com/event/summer-concerts-union-common-12/
LOCATION:Union Common\, 91 Main Street\, Marlborough\, MA\, 01752\, United States
END:VEVENT
BEGIN:VEVENT
DTSTART;TZID=America/New_York:20240711T200000
DTEND;TZID=America/New_York:20240711T230000
DTSTAMP:20260422T143518
CREATED:20240624T181338Z
LAST-MODIFIED:20240624T181338Z
UID:214842-1720728000-1720738800@visit-marlborough.com
SUMMARY:Open Mic @ Tackle Box
DESCRIPTION:Come jam with The Hook house band – Dylan and Friends! Grab your guitar\, harmonica\, vocal chords\, drumsticks or whatever\, and head to Tackle Box Brewing on Thursday nights starting at 8pm! Step on stage with some of the best musicians and play live in front of a great audience. \nGrab a brew and kick back and enjoy while you’re here. Can’t wait to see you on Thursday nights!
URL:https://visit-marlborough.com/event/open-mic-tackle-box-70/
LOCATION:Tackle Box Brewing Company\, 416 Boston Post Road East\, Marlborough\, MA\, 01752\, United States
END:VEVENT
BEGIN:VEVENT
DTSTART;TZID=America/New_York:20240712T170000
DTEND;TZID=America/New_York:20240712T200000
DTSTAMP:20260422T143518
CREATED:20240624T203218Z
LAST-MODIFIED:20240624T203218Z
UID:214863-1720803600-1720814400@visit-marlborough.com
SUMMARY:Live Music @ The Backyard at Firefly’s BBQ!
DESCRIPTION:The Moscas\nWith Mike on guitar and vocals and Nick on woodwinds and keyboard\, the Mosca brothers’ unique sound travels through all musical genres! A local family band\, The Moscas cover a wide variety of music ranging from Stevie Wonder to James Taylor and more. With their combination of vocals\, guitar\, keyboard and saxophone\, The Moscas bring a fresh and unique sound to everything they play.
URL:https://visit-marlborough.com/event/live-music-the-backyard-at-fireflys-bbq-39/
LOCATION:Firefly’s BBQ\, 350 East Main Street\, Marlborough\, MA\, 01752\, United States
END:VEVENT
BEGIN:VEVENT
DTSTART;TZID=America/New_York:20240712T200000
DTEND;TZID=America/New_York:20240712T230000
DTSTAMP:20260422T143518
CREATED:20240624T183606Z
LAST-MODIFIED:20240624T183606Z
UID:214789-1720814400-1720825200@visit-marlborough.com
SUMMARY:Live Music @ Tackle Box
DESCRIPTION:Come on out to hear Stevie Silver and his band perform some jumpin’ Rock ‘n Roll\, Rockabilly and Burnin’ Blues!
URL:https://visit-marlborough.com/event/live-music-tackle-box-166/
LOCATION:Tackle Box Brewing Company\, 416 Boston Post Road East\, Marlborough\, MA\, 01752\, United States
END:VEVENT
BEGIN:VEVENT
DTSTART;TZID=America/New_York:20240712T210000
DTEND;TZID=America/New_York:20240712T230000
DTSTAMP:20260422T143518
CREATED:20240624T205327Z
LAST-MODIFIED:20240624T205327Z
UID:214888-1720818000-1720825200@visit-marlborough.com
SUMMARY:Live Music @ Dante’s at Firefly's BBQ!
DESCRIPTION:One Eye Jack\n\n\nHigh energy alternative Rock and Dance music from (A)erosmith to (Z)eppelin to keep you moving all night!
URL:https://visit-marlborough.com/event/live-music-dantes-at-fireflys-bbq-98/
LOCATION:Firefly’s BBQ\, 350 East Main Street\, Marlborough\, MA\, 01752\, United States
END:VEVENT
BEGIN:VEVENT
DTSTART;TZID=America/New_York:20240712T210000
DTEND;TZID=America/New_York:20240712T235900
DTSTAMP:20260422T143518
CREATED:20240530T160034Z
LAST-MODIFIED:20240530T160034Z
UID:214680-1720818000-1720828740@visit-marlborough.com
SUMMARY:Live Music @ Bolton Street Tavern
DESCRIPTION:Live music at Bolton Street Tavern with Road Dawgs!
URL:https://visit-marlborough.com/event/live-music-bolton-street-tavern-58/
LOCATION:Bolton Street Tavern\, 587 Bolton Street\, Marlborough\, MA\, 01752\, United States
END:VEVENT
BEGIN:VEVENT
DTSTART;TZID=America/New_York:20240713T090000
DTEND;TZID=America/New_York:20240713T130000
DTSTAMP:20260422T143518
CREATED:20240429T165153Z
LAST-MODIFIED:20240429T165153Z
UID:214423-1720861200-1720875600@visit-marlborough.com
SUMMARY:Marlborough Farmers Market
DESCRIPTION:2024 Farmers Market Presented by Lost Shoe Brewing & Roasting Co.\nSaturdays 9am-1pm from June 15th through October 5th\nIn the parking lot at the corners of Main\, South Bolton\, Weed and Court Streets.\n 
URL:https://visit-marlborough.com/event/marlborough-farmers-market-31/
LOCATION:Lost Shoe Brewing & Roasting Co.\, 19 Weed Street\, Marlborough\, MA\, 01752\, United States
END:VEVENT
BEGIN:VEVENT
DTSTART;TZID=America/New_York:20240713T170000
DTEND;TZID=America/New_York:20240713T200000
DTSTAMP:20260422T143518
CREATED:20240624T203345Z
LAST-MODIFIED:20240624T203547Z
UID:214865-1720890000-1720900800@visit-marlborough.com
SUMMARY:Live Music @ The Backyard at Firefly’s BBQ!
DESCRIPTION:Carl Schiller\nCarl performs his own unique takes on all your acoustic favorites from The Eagles to Green Day\, from Tom Petty to Pearl Jam\, and everything in between. A perfect evening of acoustic Classic Rock that everyone will enjoy!
URL:https://visit-marlborough.com/event/live-music-the-backyard-at-fireflys-bbq-40/
LOCATION:Firefly’s BBQ\, 350 East Main Street\, Marlborough\, MA\, 01752\, United States
END:VEVENT
BEGIN:VEVENT
DTSTART;TZID=America/New_York:20240713T210000
DTEND;TZID=America/New_York:20240713T230000
DTSTAMP:20260422T143518
CREATED:20240624T205449Z
LAST-MODIFIED:20240624T205449Z
UID:214891-1720904400-1720911600@visit-marlborough.com
SUMMARY:Live Music @ Dante’s at Firefly's BBQ!
DESCRIPTION:8-Track Mind\n\n\n8-Track Mind is a collective force of 5 groovy area musicians playing all of those songs you forgot about from the 8-Track era.Think “Have a Nice Day…” and FM radio from the 70s!
URL:https://visit-marlborough.com/event/live-music-dantes-at-fireflys-bbq-99/
LOCATION:Firefly’s BBQ\, 350 East Main Street\, Marlborough\, MA\, 01752\, United States
END:VEVENT
BEGIN:VEVENT
DTSTART;TZID=America/New_York:20240713T210000
DTEND;TZID=America/New_York:20240713T235900
DTSTAMP:20260422T143518
CREATED:20240530T160309Z
LAST-MODIFIED:20240530T160309Z
UID:214682-1720904400-1720915140@visit-marlborough.com
SUMMARY:Live Music @ Bolton Street Tavern
DESCRIPTION:Live music at Bolton Street Tavern with Crash and Burn!
URL:https://visit-marlborough.com/event/live-music-bolton-street-tavern-59/
LOCATION:Bolton Street Tavern\, 587 Bolton Street\, Marlborough\, MA\, 01752\, United States
END:VEVENT
BEGIN:VEVENT
DTSTART;TZID=America/New_York:20240714T170000
DTEND;TZID=America/New_York:20240714T200000
DTSTAMP:20260422T143518
CREATED:20240624T203452Z
LAST-MODIFIED:20240624T203452Z
UID:214867-1720976400-1720987200@visit-marlborough.com
SUMMARY:Live Music @ The Backyard at Firefly’s BBQ!
DESCRIPTION:Kim Trusty\nIt’s not often that someone comes along and\, with one note\, grabs your heart and soul. The dynamic and multifaceted Kim Trusty is a powerful vocalist\, songwriter and guitarist. Drawing on Jazz\, Rhythm & Blues\, Roots and Rock\, she brings her life\, heart and experiences into unforgettable and unique performances.
URL:https://visit-marlborough.com/event/live-music-the-backyard-at-fireflys-bbq-41/
LOCATION:Firefly’s BBQ\, 350 East Main Street\, Marlborough\, MA\, 01752\, United States
END:VEVENT
BEGIN:VEVENT
DTSTART;TZID=America/New_York:20240715T183000
DTEND;TZID=America/New_York:20240715T190000
DTSTAMP:20260422T143518
CREATED:20240624T155543Z
LAST-MODIFIED:20240624T155543Z
UID:214796-1721068200-1721070000@visit-marlborough.com
SUMMARY:Monday Night Run Club @ Lost Shoe
DESCRIPTION:Monday Night Run Club every Monday starting at 6:30 pm!
URL:https://visit-marlborough.com/event/monday-night-run-club-lost-shoe-33/
LOCATION:Lost Shoe Brewing & Roasting Co.\, 19 Weed Street\, Marlborough\, MA\, 01752\, United States
END:VEVENT
BEGIN:VEVENT
DTSTART;TZID=America/New_York:20240717T170000
DTEND;TZID=America/New_York:20240717T200000
DTSTAMP:20260422T143518
CREATED:20240531T152149Z
LAST-MODIFIED:20240610T175612Z
UID:214727-1721235600-1721246400@visit-marlborough.com
SUMMARY:Outdoor Summer Craft Beer & Music Series @ Solomon Pond Mall
DESCRIPTION:Enjoy local food and beer ( Lost Shoe! ) offerings while listening to live music on the 3rd Thursday of the month all summer! Located in the Garden Area behind Regal Cinemas.Rain or shine! \nEl Sombrero Taqueria will be there with the best in Mexican cuisine while the Kona Ice Truck will roll up with your favorite shaved ice treats. \nKids will enjoy face painting & fun games. \nJuly 17: Matt & Kyle \nAugust 14: Stephen George
URL:https://visit-marlborough.com/event/outdoor-summer-craft-beer-music-series-solomon-pond-mall-2/
LOCATION:Solomon Pond Mall\, 601 Donald Lynch Blvd\, Marlborough\, MA\, 01752\, United States
END:VEVENT
BEGIN:VEVENT
DTSTART;TZID=America/New_York:20240718T090000
DTEND;TZID=America/New_York:20240718T120000
DTSTAMP:20260422T143518
CREATED:20240624T161243Z
LAST-MODIFIED:20240624T161407Z
UID:214802-1721293200-1721304000@visit-marlborough.com
SUMMARY:Beats & Brews with JP @ Lost Shoe
DESCRIPTION:Enjoy a beverage while listening to owner/brewer JP spin some beats. The perfect way to get the weekend ignited!
URL:https://visit-marlborough.com/event/beats-brews-with-jp-lost-shoe-18/
LOCATION:Lost Shoe Brewing & Roasting Co.\, 19 Weed Street\, Marlborough\, MA\, 01752\, United States
END:VEVENT
BEGIN:VEVENT
DTSTART;TZID=America/New_York:20240718T190000
DTEND;TZID=America/New_York:20240718T203000
DTSTAMP:20260422T143518
CREATED:20240523T164225Z
LAST-MODIFIED:20240523T164225Z
UID:214593-1721329200-1721334600@visit-marlborough.com
SUMMARY:Summer Concerts @ Union Common
DESCRIPTION:Performing: Larry Bee & The Buzz – 60’s Oldies \nBeer Vendor: Tackle Box Brewing
URL:https://visit-marlborough.com/event/summer-concerts-union-common-13/
LOCATION:Union Common\, 91 Main Street\, Marlborough\, MA\, 01752\, United States
END:VEVENT
BEGIN:VEVENT
DTSTART;TZID=America/New_York:20240718T200000
DTEND;TZID=America/New_York:20240718T230000
DTSTAMP:20260422T143518
CREATED:20240624T181429Z
LAST-MODIFIED:20240624T181429Z
UID:214844-1721332800-1721343600@visit-marlborough.com
SUMMARY:Open Mic @ Tackle Box
DESCRIPTION:Come jam with The Hook house band – Dylan and Friends! Grab your guitar\, harmonica\, vocal chords\, drumsticks or whatever\, and head to Tackle Box Brewing on Thursday nights starting at 8pm! Step on stage with some of the best musicians and play live in front of a great audience. \nGrab a brew and kick back and enjoy while you’re here. Can’t wait to see you on Thursday nights!
URL:https://visit-marlborough.com/event/open-mic-tackle-box-71/
LOCATION:Tackle Box Brewing Company\, 416 Boston Post Road East\, Marlborough\, MA\, 01752\, United States
END:VEVENT
BEGIN:VEVENT
DTSTART;TZID=America/New_York:20240719T170000
DTEND;TZID=America/New_York:20240719T200000
DTSTAMP:20260422T143518
CREATED:20240624T203705Z
LAST-MODIFIED:20240624T203705Z
UID:214869-1721408400-1721419200@visit-marlborough.com
SUMMARY:Live Music @ The Backyard at Firefly’s BBQ!
DESCRIPTION:Mike & Missy Unplugged\nMike & Missy have been playing all types and styles of music together\, from the classics to modern Rock\, at many different venues since 2003. When not playing acoustic\, they’re rocking with their full band “The Missy Maxfield Project!”
URL:https://visit-marlborough.com/event/live-music-the-backyard-at-fireflys-bbq-42/
LOCATION:Firefly’s BBQ\, 350 East Main Street\, Marlborough\, MA\, 01752\, United States
END:VEVENT
BEGIN:VEVENT
DTSTART;TZID=America/New_York:20240719T200000
DTEND;TZID=America/New_York:20240719T230000
DTSTAMP:20260422T143518
CREATED:20240624T154501Z
LAST-MODIFIED:20240624T154614Z
UID:214788-1721419200-1721430000@visit-marlborough.com
SUMMARY:Live Music @ Tackle Box
DESCRIPTION:THE BARRETT ANDERSON BAND  – An award-winning band comprised of Barrett: Vocals  & Guitar\, Jamie “Black Cat Bone” Hatch: Bass\, Doug MacLeod: Drums  \nCome for some great music\, beers\, and cheers!
URL:https://visit-marlborough.com/event/live-music-tackle-box-165/
LOCATION:Tackle Box Brewing Company\, 416 Boston Post Road East\, Marlborough\, MA\, 01752\, United States
END:VEVENT
BEGIN:VEVENT
DTSTART;TZID=America/New_York:20240719T210000
DTEND;TZID=America/New_York:20240719T230000
DTSTAMP:20260422T143518
CREATED:20240624T205555Z
LAST-MODIFIED:20240624T205555Z
UID:214893-1721422800-1721430000@visit-marlborough.com
SUMMARY:Live Music @ Dante’s at Firefly's BBQ!
DESCRIPTION:Alan & The Alligators\n\n\nAlan [Goodrich] and The Alligators play Rock\, Funk\, and more and have been pleasing audiences for decades with exciting performances. Their critically acclaimed CD “Reptile Rock\,” has been added at over 75 radio stations across the US and Canada\, and reached two Top Ten chart positions in college radio!
URL:https://visit-marlborough.com/event/live-music-dantes-at-fireflys-bbq-100/
LOCATION:Firefly’s BBQ\, 350 East Main Street\, Marlborough\, MA\, 01752\, United States
END:VEVENT
END:VCALENDAR