BEGIN:VCALENDAR
VERSION:2.0
PRODID:-//Visit Marlborough - ECPv6.15.20//NONSGML v1.0//EN
CALSCALE:GREGORIAN
METHOD:PUBLISH
X-ORIGINAL-URL:https://visit-marlborough.com
X-WR-CALDESC:Events for Visit Marlborough
REFRESH-INTERVAL;VALUE=DURATION:PT1H
X-Robots-Tag:noindex
X-PUBLISHED-TTL:PT1H
BEGIN:VTIMEZONE
TZID:America/New_York
BEGIN:DAYLIGHT
TZOFFSETFROM:-0500
TZOFFSETTO:-0400
TZNAME:EDT
DTSTART:20230312T070000
END:DAYLIGHT
BEGIN:STANDARD
TZOFFSETFROM:-0400
TZOFFSETTO:-0500
TZNAME:EST
DTSTART:20231105T060000
END:STANDARD
BEGIN:DAYLIGHT
TZOFFSETFROM:-0500
TZOFFSETTO:-0400
TZNAME:EDT
DTSTART:20240310T070000
END:DAYLIGHT
BEGIN:STANDARD
TZOFFSETFROM:-0400
TZOFFSETTO:-0500
TZNAME:EST
DTSTART:20241103T060000
END:STANDARD
BEGIN:DAYLIGHT
TZOFFSETFROM:-0500
TZOFFSETTO:-0400
TZNAME:EDT
DTSTART:20250309T070000
END:DAYLIGHT
BEGIN:STANDARD
TZOFFSETFROM:-0400
TZOFFSETTO:-0500
TZNAME:EST
DTSTART:20251102T060000
END:STANDARD
END:VTIMEZONE
BEGIN:VEVENT
DTSTART;TZID=America/New_York:20240601T130000
DTEND;TZID=America/New_York:20240601T160000
DTSTAMP:20260423T183728
CREATED:20240320T151842Z
LAST-MODIFIED:20240320T151842Z
UID:214211-1717246800-1717257600@visit-marlborough.com
SUMMARY:Rock'n Shop Music Series @ Solomon Pond Mall
DESCRIPTION:Enjoy your favorite local acoustic musicians and enjoy our great eateries in the Dining and Entertainment Pavilion every Saturday from 1pm-4pm. \nJune 1:  Whitney Doucet
URL:https://visit-marlborough.com/event/rockn-shop-music-series-solomon-pond-mall-11/
LOCATION:Solomon Pond Mall\, 601 Donald Lynch Blvd\, Marlborough\, MA\, 01752\, United States
END:VEVENT
BEGIN:VEVENT
DTSTART;TZID=America/New_York:20240601T170000
DTEND;TZID=America/New_York:20240601T200000
DTSTAMP:20260423T183728
CREATED:20240429T182134Z
LAST-MODIFIED:20240429T182134Z
UID:214478-1717261200-1717272000@visit-marlborough.com
SUMMARY:Live Music @ The Backyard at Firefly’s BBQ!
DESCRIPTION:Tim Leavitt\n\n\nSing along to your favorite fun tunes!
URL:https://visit-marlborough.com/event/live-music-the-backyard-at-fireflys-bbq-22/
LOCATION:Firefly’s BBQ\, 350 East Main Street\, Marlborough\, MA\, 01752\, United States
END:VEVENT
BEGIN:VEVENT
DTSTART;TZID=America/New_York:20240601T200000
DTEND;TZID=America/New_York:20240601T230000
DTSTAMP:20260423T183728
CREATED:20240531T155528Z
LAST-MODIFIED:20240531T155528Z
UID:214748-1717272000-1717282800@visit-marlborough.com
SUMMARY:Live Music @ Tackle Box
DESCRIPTION:Nick Spencer and Dylan Schouten playing all night! No cover! \nCome for some great music\, beers\, and cheers!
URL:https://visit-marlborough.com/event/live-music-tackle-box-159/
LOCATION:Tackle Box Brewing Company\, 416 Boston Post Road East\, Marlborough\, MA\, 01752\, United States
END:VEVENT
BEGIN:VEVENT
DTSTART;TZID=America/New_York:20240601T210000
DTEND;TZID=America/New_York:20240601T235900
DTSTAMP:20260423T183728
CREATED:20240530T150552Z
LAST-MODIFIED:20240530T150552Z
UID:214660-1717275600-1717286340@visit-marlborough.com
SUMMARY:Live Music @ Bolton Street Tavern
DESCRIPTION:Live music at Bolton Street Tavern with The Chills!
URL:https://visit-marlborough.com/event/live-music-bolton-street-tavern-48/
LOCATION:Bolton Street Tavern\, 587 Bolton Street\, Marlborough\, MA\, 01752\, United States
END:VEVENT
BEGIN:VEVENT
DTSTART;TZID=America/New_York:20240602T170000
DTEND;TZID=America/New_York:20240602T200000
DTSTAMP:20260423T183728
CREATED:20240429T182239Z
LAST-MODIFIED:20240429T182239Z
UID:214480-1717347600-1717358400@visit-marlborough.com
SUMMARY:Live Music @ The Backyard at Firefly’s BBQ!
DESCRIPTION:Justin Ray\n\n\nJustin Ray “J Ray” first picked up a guitar in the 5th grade. Since\, he has played 100s of shows across New England for large gatherings\, weddings\, parties\, intimate performances\, breweries\, wineries\, restaurants\, and patios. J Ray is known for jamming on some of the biggest hits in Rock music from the 70s to today.
URL:https://visit-marlborough.com/event/live-music-the-backyard-at-fireflys-bbq-23/
LOCATION:Firefly’s BBQ\, 350 East Main Street\, Marlborough\, MA\, 01752\, United States
END:VEVENT
BEGIN:VEVENT
DTSTART;TZID=America/New_York:20240603T183000
DTEND;TZID=America/New_York:20240603T190000
DTSTAMP:20260423T183728
CREATED:20240429T155643Z
LAST-MODIFIED:20240429T155643Z
UID:214352-1717439400-1717441200@visit-marlborough.com
SUMMARY:Monday Night Run Club @ Lost Shoe
DESCRIPTION:Monday Night Run Club every Monday starting at 6:30 pm!
URL:https://visit-marlborough.com/event/monday-night-run-club-lost-shoe-27/
LOCATION:Lost Shoe Brewing & Roasting Co.\, 19 Weed Street\, Marlborough\, MA\, 01752\, United States
END:VEVENT
BEGIN:VEVENT
DTSTART;TZID=America/New_York:20240606T090000
DTEND;TZID=America/New_York:20240606T120000
DTSTAMP:20260423T183728
CREATED:20240429T161627Z
LAST-MODIFIED:20240429T161627Z
UID:214395-1717664400-1717675200@visit-marlborough.com
SUMMARY:Beats & Brews with JP @ Lost Shoe
DESCRIPTION:Enjoy a beverage while listening to owner/brewer JP spin some beats. The perfect way to get the weekend ignited!
URL:https://visit-marlborough.com/event/beats-brews-with-jp-lost-shoe-14/
LOCATION:Lost Shoe Brewing & Roasting Co.\, 19 Weed Street\, Marlborough\, MA\, 01752\, United States
END:VEVENT
BEGIN:VEVENT
DTSTART;TZID=America/New_York:20240607T170000
DTEND;TZID=America/New_York:20240607T200000
DTSTAMP:20260423T183728
CREATED:20240429T182339Z
LAST-MODIFIED:20240429T182339Z
UID:214482-1717779600-1717790400@visit-marlborough.com
SUMMARY:Live Music @ The Backyard at Firefly’s BBQ!
DESCRIPTION:Greg Schuler\n\n\nSinger/songwriter Greg Schuler has been entertaining audiences for more than 20 years. Greg puts a spin on classic songs and reaches deep down to play forgotten hits you’ll soon recall.
URL:https://visit-marlborough.com/event/live-music-the-backyard-at-fireflys-bbq-24/
LOCATION:Firefly’s BBQ\, 350 East Main Street\, Marlborough\, MA\, 01752\, United States
END:VEVENT
BEGIN:VEVENT
DTSTART;TZID=America/New_York:20240607T200000
DTEND;TZID=America/New_York:20240607T230000
DTSTAMP:20260423T183728
CREATED:20240531T155703Z
LAST-MODIFIED:20240531T155703Z
UID:214750-1717790400-1717801200@visit-marlborough.com
SUMMARY:Live Music @ Tackle Box
DESCRIPTION:Peter Ward playing all night! No cover! \nCome for some great music\, beers\, and cheers!
URL:https://visit-marlborough.com/event/live-music-tackle-box-160/
LOCATION:Tackle Box Brewing Company\, 416 Boston Post Road East\, Marlborough\, MA\, 01752\, United States
END:VEVENT
BEGIN:VEVENT
DTSTART;TZID=America/New_York:20240607T210000
DTEND;TZID=America/New_York:20240607T235900
DTSTAMP:20260423T183728
CREATED:20240530T154946Z
LAST-MODIFIED:20240530T154946Z
UID:214662-1717794000-1717804740@visit-marlborough.com
SUMMARY:Live Music @ Bolton Street Tavern
DESCRIPTION:Live music at Bolton Street Tavern with Slack!
URL:https://visit-marlborough.com/event/live-music-bolton-street-tavern-49/
LOCATION:Bolton Street Tavern\, 587 Bolton Street\, Marlborough\, MA\, 01752\, United States
END:VEVENT
BEGIN:VEVENT
DTSTART;TZID=America/New_York:20240608T170000
DTEND;TZID=America/New_York:20240608T200000
DTSTAMP:20260423T183728
CREATED:20240429T182445Z
LAST-MODIFIED:20240429T182445Z
UID:214484-1717866000-1717876800@visit-marlborough.com
SUMMARY:Live Music @ The Backyard at Firefly’s BBQ!
DESCRIPTION:Mike & Missy Unplugged\n\n\nMike & Missy have been playing all types and styles of music together\, from the classics to modern Rock\, at many different venues since 2003. When not playing acoustic\, they’re rocking with their full band “The Missy Maxfield Project!”
URL:https://visit-marlborough.com/event/live-music-the-backyard-at-fireflys-bbq-25/
LOCATION:Firefly’s BBQ\, 350 East Main Street\, Marlborough\, MA\, 01752\, United States
END:VEVENT
BEGIN:VEVENT
DTSTART;TZID=America/New_York:20240608T210000
DTEND;TZID=America/New_York:20240608T235900
DTSTAMP:20260423T183728
CREATED:20240530T155101Z
LAST-MODIFIED:20240530T155101Z
UID:214664-1717880400-1717891140@visit-marlborough.com
SUMMARY:Live Music @ Bolton Street Tavern
DESCRIPTION:Live music at Bolton Street Tavern with 4 on the Floor!
URL:https://visit-marlborough.com/event/live-music-bolton-street-tavern-50/
LOCATION:Bolton Street Tavern\, 587 Bolton Street\, Marlborough\, MA\, 01752\, United States
END:VEVENT
BEGIN:VEVENT
DTSTART;TZID=America/New_York:20240609T170000
DTEND;TZID=America/New_York:20240609T200000
DTSTAMP:20260423T183728
CREATED:20240429T182554Z
LAST-MODIFIED:20240429T182554Z
UID:214486-1717952400-1717963200@visit-marlborough.com
SUMMARY:Live Music @ The Backyard at Firefly’s BBQ!
DESCRIPTION:John Copeland\n\n\nJohn is a guitarist and singer whose passionate shows have entertained Boston area audiences for more than a decade with covers from the 60s to the present\, emphasizing 80s and 90s Rock. John is also a member of the classic rock band Lightning Rose
URL:https://visit-marlborough.com/event/live-music-the-backyard-at-fireflys-bbq-26/
LOCATION:Firefly’s BBQ\, 350 East Main Street\, Marlborough\, MA\, 01752\, United States
END:VEVENT
BEGIN:VEVENT
DTSTART;TZID=America/New_York:20240610T183000
DTEND;TZID=America/New_York:20240610T190000
DTSTAMP:20260423T183728
CREATED:20240429T155753Z
LAST-MODIFIED:20240429T155753Z
UID:214354-1718044200-1718046000@visit-marlborough.com
SUMMARY:Monday Night Run Club @ Lost Shoe
DESCRIPTION:Monday Night Run Club every Monday starting at 6:30 pm!
URL:https://visit-marlborough.com/event/monday-night-run-club-lost-shoe-28/
LOCATION:Lost Shoe Brewing & Roasting Co.\, 19 Weed Street\, Marlborough\, MA\, 01752\, United States
END:VEVENT
BEGIN:VEVENT
DTSTART;TZID=America/New_York:20240613T090000
DTEND;TZID=America/New_York:20240613T120000
DTSTAMP:20260423T183728
CREATED:20240429T161719Z
LAST-MODIFIED:20240429T161719Z
UID:214397-1718269200-1718280000@visit-marlborough.com
SUMMARY:Beats & Brews with JP @ Lost Shoe
DESCRIPTION:Enjoy a beverage while listening to owner/brewer JP spin some beats. The perfect way to get the weekend ignited!
URL:https://visit-marlborough.com/event/beats-brews-with-jp-lost-shoe-15/
LOCATION:Lost Shoe Brewing & Roasting Co.\, 19 Weed Street\, Marlborough\, MA\, 01752\, United States
END:VEVENT
BEGIN:VEVENT
DTSTART;TZID=America/New_York:20240613T190000
DTEND;TZID=America/New_York:20240613T203000
DTSTAMP:20260423T183728
CREATED:20240523T163320Z
LAST-MODIFIED:20240523T163344Z
UID:214583-1718305200-1718310600@visit-marlborough.com
SUMMARY:Summer Concerts @ Union Common
DESCRIPTION:Performing: Color Killer – Pop-Punk \nBeer Vendor: Flying Dreams Brewing
URL:https://visit-marlborough.com/event/summer-concerts-union-common-9/
LOCATION:Union Common\, 91 Main Street\, Marlborough\, MA\, 01752\, United States
END:VEVENT
BEGIN:VEVENT
DTSTART;TZID=America/New_York:20240614T170000
DTEND;TZID=America/New_York:20240614T200000
DTSTAMP:20260423T183728
CREATED:20240429T182701Z
LAST-MODIFIED:20240429T182701Z
UID:214488-1718384400-1718395200@visit-marlborough.com
SUMMARY:Live Music @ The Backyard at Firefly’s BBQ!
DESCRIPTION:Ava Panza\n\n\nA graduate of Berklee College of Music\, Ava is a Boston-based vocalist and instrumentalist. Her debut single “Alive” was released in 2020\, and her newest release “Used To” is now available. Ava has played many well-known venues and festivals including The Stone Pony\, House of Blues\, and Lollapalooza.
URL:https://visit-marlborough.com/event/live-music-the-backyard-at-fireflys-bbq-27/
LOCATION:Firefly’s BBQ\, 350 East Main Street\, Marlborough\, MA\, 01752\, United States
END:VEVENT
BEGIN:VEVENT
DTSTART;TZID=America/New_York:20240614T180000
DTEND;TZID=America/New_York:20240614T210000
DTSTAMP:20260423T183728
CREATED:20240530T140142Z
LAST-MODIFIED:20240530T140142Z
UID:214643-1718388000-1718398800@visit-marlborough.com
SUMMARY:Live Music @ Flying Dreams Brewing Co.
DESCRIPTION:Live music with Missy & Mike Unplugged at Flying Dreams!
URL:https://visit-marlborough.com/event/live-music-flying-dreams-brewing-co-3/
LOCATION:Flying Dreams Brewing Co.\, 277 Main Street\, Marlborough\, MA\, 01752\, United States
END:VEVENT
BEGIN:VEVENT
DTSTART;TZID=America/New_York:20240614T210000
DTEND;TZID=America/New_York:20240614T235900
DTSTAMP:20260423T183728
CREATED:20240530T155218Z
LAST-MODIFIED:20240530T155218Z
UID:214666-1718398800-1718409540@visit-marlborough.com
SUMMARY:Live Music @ Bolton Street Tavern
DESCRIPTION:Live music at Bolton Street Tavern with Bitter Hearts!
URL:https://visit-marlborough.com/event/live-music-bolton-street-tavern-51/
LOCATION:Bolton Street Tavern\, 587 Bolton Street\, Marlborough\, MA\, 01752\, United States
END:VEVENT
BEGIN:VEVENT
DTSTART;TZID=America/New_York:20240615T090000
DTEND;TZID=America/New_York:20240615T130000
DTSTAMP:20260423T183728
CREATED:20240429T164928Z
LAST-MODIFIED:20240429T164928Z
UID:214415-1718442000-1718456400@visit-marlborough.com
SUMMARY:Marlborough Farmers Market
DESCRIPTION:2024 Farmers Market Presented by Lost Shoe Brewing & Roasting Co.\nSaturdays 9am-1pm from June 15th through October 5th\nIn the parking lot at the corners of Main\, South Bolton\, Weed and Court Streets.\n 
URL:https://visit-marlborough.com/event/marlborough-farmers-market-27/
LOCATION:Lost Shoe Brewing & Roasting Co.\, 19 Weed Street\, Marlborough\, MA\, 01752\, United States
END:VEVENT
BEGIN:VEVENT
DTSTART;TZID=America/New_York:20240615T170000
DTEND;TZID=America/New_York:20240615T200000
DTSTAMP:20260423T183728
CREATED:20240429T182802Z
LAST-MODIFIED:20240429T182802Z
UID:214490-1718470800-1718481600@visit-marlborough.com
SUMMARY:Live Music @ The Backyard at Firefly’s BBQ!
DESCRIPTION:Carl Schiller\n\n\nCarl performs his own unique takes on all your acoustic favorites from The Eagles to Green Day\, from Tom Petty to Pearl Jam\, and everything in between. A perfect evening of acoustic Classic Rock that everyone will enjoy!
URL:https://visit-marlborough.com/event/live-music-the-backyard-at-fireflys-bbq-28/
LOCATION:Firefly’s BBQ\, 350 East Main Street\, Marlborough\, MA\, 01752\, United States
END:VEVENT
BEGIN:VEVENT
DTSTART;TZID=America/New_York:20240615T180000
DTEND;TZID=America/New_York:20240615T210000
DTSTAMP:20260423T183728
CREATED:20240530T140417Z
LAST-MODIFIED:20240530T140417Z
UID:214645-1718474400-1718485200@visit-marlborough.com
SUMMARY:Live Music @ Flying Dreams Brewing Co.
DESCRIPTION:Live music with Adam Clapper at Flying Dreams!
URL:https://visit-marlborough.com/event/live-music-flying-dreams-brewing-co-4/
LOCATION:Flying Dreams Brewing Co.\, 277 Main Street\, Marlborough\, MA\, 01752\, United States
END:VEVENT
BEGIN:VEVENT
DTSTART;TZID=America/New_York:20240615T200000
DTEND;TZID=America/New_York:20240615T230000
DTSTAMP:20260423T183728
CREATED:20240531T155824Z
LAST-MODIFIED:20240531T160648Z
UID:214752-1718481600-1718492400@visit-marlborough.com
SUMMARY:Live Music @ Tackle Box
DESCRIPTION:One Dime Band playing all night! No cover! \nOne Dime Band is a dynamic and talented acoustic duo who have crafted their unique sound and songwriting approach by blending influential styles of Blues\, R&B\, and Soul. They have played in and around the Boston/New England area as a duo and as a 4-piece electric band for many years. \nTonight they’ll be bringing the heat to The Hook at Tackle Box. Come on down and enjoy a jam to remember. \nCome for some great music\, beers\, and cheers!
URL:https://visit-marlborough.com/event/live-music-tackle-box-161/
LOCATION:Tackle Box Brewing Company\, 416 Boston Post Road East\, Marlborough\, MA\, 01752\, United States
END:VEVENT
BEGIN:VEVENT
DTSTART;TZID=America/New_York:20240615T210000
DTEND;TZID=America/New_York:20240615T235900
DTSTAMP:20260423T183728
CREATED:20240530T155311Z
LAST-MODIFIED:20240530T155311Z
UID:214668-1718485200-1718495940@visit-marlborough.com
SUMMARY:Live Music @ Bolton Street Tavern
DESCRIPTION:Live music at Bolton Street Tavern with Time Warp!
URL:https://visit-marlborough.com/event/live-music-bolton-street-tavern-52/
LOCATION:Bolton Street Tavern\, 587 Bolton Street\, Marlborough\, MA\, 01752\, United States
END:VEVENT
BEGIN:VEVENT
DTSTART;TZID=America/New_York:20240616T130000
DTEND;TZID=America/New_York:20240616T190000
DTSTAMP:20260423T183728
CREATED:20240603T185938Z
LAST-MODIFIED:20240603T185938Z
UID:214772-1718542800-1718564400@visit-marlborough.com
SUMMARY:Brazil Summer Festival @ Bolton Street Tavern
DESCRIPTION:Celebrate the culture of Brazil at this lakeside festival!
URL:https://visit-marlborough.com/event/brazil-summer-festival-bolton-street-tavern/
LOCATION:Bolton Street Tavern\, 587 Bolton Street\, Marlborough\, MA\, 01752\, United States
END:VEVENT
BEGIN:VEVENT
DTSTART;TZID=America/New_York:20240616T140000
DTEND;TZID=America/New_York:20240616T173000
DTSTAMP:20260423T183728
CREATED:20240523T170235Z
LAST-MODIFIED:20240523T170235Z
UID:214605-1718546400-1718559000@visit-marlborough.com
SUMMARY:The Rock Institute @ Union Common
DESCRIPTION:Multiple Performances – Pop\, R&B\, Classic Rock
URL:https://visit-marlborough.com/event/the-rock-institute-union-common/
LOCATION:Union Common\, 91 Main Street\, Marlborough\, MA\, 01752\, United States
ORGANIZER;CN="The Rock Institute":MAILTO:onstage@onstagemusic.org
END:VEVENT
BEGIN:VEVENT
DTSTART;TZID=America/New_York:20240616T170000
DTEND;TZID=America/New_York:20240616T200000
DTSTAMP:20260423T183728
CREATED:20240429T182857Z
LAST-MODIFIED:20240429T182857Z
UID:214492-1718557200-1718568000@visit-marlborough.com
SUMMARY:Live Music @ The Backyard at Firefly’s BBQ!
DESCRIPTION:Jae Mannion\n\n\nCovering songs from Green Day to CSN\, Jae is a crowd pleaser and has been playing solo all over Massachusetts and New Hampshire. He was also the bassist for an all-original band TOS and is currently the lead singer/rhythm guitarist of his own rock band Bourbon Outfitters.
URL:https://visit-marlborough.com/event/live-music-the-backyard-at-fireflys-bbq-29/
LOCATION:Firefly’s BBQ\, 350 East Main Street\, Marlborough\, MA\, 01752\, United States
END:VEVENT
BEGIN:VEVENT
DTSTART;TZID=America/New_York:20240617T183000
DTEND;TZID=America/New_York:20240617T190000
DTSTAMP:20260423T183728
CREATED:20240429T155830Z
LAST-MODIFIED:20240429T155830Z
UID:214356-1718649000-1718650800@visit-marlborough.com
SUMMARY:Monday Night Run Club @ Lost Shoe
DESCRIPTION:Monday Night Run Club every Monday starting at 6:30 pm!
URL:https://visit-marlborough.com/event/monday-night-run-club-lost-shoe-29/
LOCATION:Lost Shoe Brewing & Roasting Co.\, 19 Weed Street\, Marlborough\, MA\, 01752\, United States
END:VEVENT
BEGIN:VEVENT
DTSTART;TZID=America/New_York:20240619T170000
DTEND;TZID=America/New_York:20240619T200000
DTSTAMP:20260423T183728
CREATED:20240531T152015Z
LAST-MODIFIED:20240610T175450Z
UID:214725-1718816400-1718827200@visit-marlborough.com
SUMMARY:Outdoor Summer Craft Beer & Music Series @ Solomon Pond Mall
DESCRIPTION:Enjoy local food and beer ( Lost Shoe! ) offerings while listening to live music on the 3rd Thursday of the month all summer! Located in the Garden Area behind Regal Cinemas.Rain or shine! \nEl Sombrero Taqueria will be there with the best in Mexican cuisine while the Kona Ice Truck will roll up with your favorite shaved ice treats. \nKids will enjoy face painting & fun games. \nJune 19: Steve Spector \nJuly 17: Matt & Kyle \nAugust 14: Stephen George
URL:https://visit-marlborough.com/event/outdoor-summer-craft-beer-music-series-solomon-pond-mall/
LOCATION:Solomon Pond Mall\, 601 Donald Lynch Blvd\, Marlborough\, MA\, 01752\, United States
END:VEVENT
BEGIN:VEVENT
DTSTART;TZID=America/New_York:20240620T090000
DTEND;TZID=America/New_York:20240620T120000
DTSTAMP:20260423T183728
CREATED:20240429T161817Z
LAST-MODIFIED:20240429T161817Z
UID:214399-1718874000-1718884800@visit-marlborough.com
SUMMARY:Beats & Brews with JP @ Lost Shoe
DESCRIPTION:Enjoy a beverage while listening to owner/brewer JP spin some beats. The perfect way to get the weekend ignited!
URL:https://visit-marlborough.com/event/beats-brews-with-jp-lost-shoe-16/
LOCATION:Lost Shoe Brewing & Roasting Co.\, 19 Weed Street\, Marlborough\, MA\, 01752\, United States
END:VEVENT
END:VCALENDAR