BEGIN:VCALENDAR
VERSION:2.0
PRODID:-//Visit Marlborough - ECPv6.15.20//NONSGML v1.0//EN
CALSCALE:GREGORIAN
METHOD:PUBLISH
X-ORIGINAL-URL:https://visit-marlborough.com
X-WR-CALDESC:Events for Visit Marlborough
REFRESH-INTERVAL;VALUE=DURATION:PT1H
X-Robots-Tag:noindex
X-PUBLISHED-TTL:PT1H
BEGIN:VTIMEZONE
TZID:America/New_York
BEGIN:DAYLIGHT
TZOFFSETFROM:-0500
TZOFFSETTO:-0400
TZNAME:EDT
DTSTART:20230312T070000
END:DAYLIGHT
BEGIN:STANDARD
TZOFFSETFROM:-0400
TZOFFSETTO:-0500
TZNAME:EST
DTSTART:20231105T060000
END:STANDARD
BEGIN:DAYLIGHT
TZOFFSETFROM:-0500
TZOFFSETTO:-0400
TZNAME:EDT
DTSTART:20240310T070000
END:DAYLIGHT
BEGIN:STANDARD
TZOFFSETFROM:-0400
TZOFFSETTO:-0500
TZNAME:EST
DTSTART:20241103T060000
END:STANDARD
BEGIN:DAYLIGHT
TZOFFSETFROM:-0500
TZOFFSETTO:-0400
TZNAME:EDT
DTSTART:20250309T070000
END:DAYLIGHT
BEGIN:STANDARD
TZOFFSETFROM:-0400
TZOFFSETTO:-0500
TZNAME:EST
DTSTART:20251102T060000
END:STANDARD
END:VTIMEZONE
BEGIN:VEVENT
DTSTART;TZID=America/New_York:20240502T090000
DTEND;TZID=America/New_York:20240502T120000
DTSTAMP:20260424T022514
CREATED:20240429T161313Z
LAST-MODIFIED:20240429T161313Z
UID:214385-1714640400-1714651200@visit-marlborough.com
SUMMARY:Beats & Brews with JP @ Lost Shoe
DESCRIPTION:Enjoy a beverage while listening to owner/brewer JP spin some beats. The perfect way to get the weekend ignited!
URL:https://visit-marlborough.com/event/beats-brews-with-jp-lost-shoe-9/
LOCATION:Lost Shoe Brewing & Roasting Co.\, 19 Weed Street\, Marlborough\, MA\, 01752\, United States
END:VEVENT
BEGIN:VEVENT
DTSTART;TZID=America/New_York:20240503T210000
DTEND;TZID=America/New_York:20240503T230000
DTSTAMP:20260424T022514
CREATED:20240429T172102Z
LAST-MODIFIED:20240429T172102Z
UID:214454-1714770000-1714777200@visit-marlborough.com
SUMMARY:Live Music @ Dante’s at Firefly's BBQ!
DESCRIPTION:Z Company\n\n\n5 seasoned musicians playing Peter Zicko’s originals\, along with covers from all “zhanras.”
URL:https://visit-marlborough.com/event/live-music-dantes-at-fireflys-bbq-86/
LOCATION:Firefly’s BBQ\, 350 East Main Street\, Marlborough\, MA\, 01752\, United States
END:VEVENT
BEGIN:VEVENT
DTSTART;TZID=America/New_York:20240504T130000
DTEND;TZID=America/New_York:20240504T160000
DTSTAMP:20260424T022514
CREATED:20240320T151647Z
LAST-MODIFIED:20240320T151647Z
UID:214203-1714827600-1714838400@visit-marlborough.com
SUMMARY:Rock'n Shop Music Series @ Solomon Pond Mall
DESCRIPTION:Enjoy your favorite local acoustic musicians and enjoy our great eateries in the Dining and Entertainment Pavilion every Saturday from 1pm-4pm. \nUpcoming Schedule: \nMay 4:    Fred Ellsworth \nMay 11 : Ricky and the Jett \nMay 18:  Fred Ellsworth \nMay 25:  Stephen George \nJune 1:  Whitney Doucet
URL:https://visit-marlborough.com/event/rockn-shop-music-series-solomon-pond-mall-7/
LOCATION:Solomon Pond Mall\, 601 Donald Lynch Blvd\, Marlborough\, MA\, 01752\, United States
END:VEVENT
BEGIN:VEVENT
DTSTART;TZID=America/New_York:20240504T210000
DTEND;TZID=America/New_York:20240504T230000
DTSTAMP:20260424T022514
CREATED:20240429T172208Z
LAST-MODIFIED:20240429T172208Z
UID:214456-1714856400-1714863600@visit-marlborough.com
SUMMARY:Live Music @ Dante’s at Firefly's BBQ!
DESCRIPTION:Synergy\n\n\nOne of New England’s premier show bands\, with an arsenal of high-energy Rock classics from the 80s\, 90s and today that will keep you dancing all night long!
URL:https://visit-marlborough.com/event/live-music-dantes-at-fireflys-bbq-87/
LOCATION:Firefly’s BBQ\, 350 East Main Street\, Marlborough\, MA\, 01752\, United States
END:VEVENT
BEGIN:VEVENT
DTSTART;TZID=America/New_York:20240505T110000
DTEND;TZID=America/New_York:20240505T150000
DTSTAMP:20260424T022514
CREATED:20240419T163643Z
LAST-MODIFIED:20240419T163643Z
UID:207398-1714906800-1714921200@visit-marlborough.com
SUMMARY:Marlborough Family Fun Festival
DESCRIPTION:The Marlborough Family Fun Festival will take place on Sunday\, May 5\, 2024 from 11am – 3pm at Ward Park. This fun-filled day includes games\, activities\, food trucks\, entertainment\, artisans\, vendors\, raffles and more. The event is organized by the Marlborough Junior Woman’s Club\, Marlborough Lions Club\, Marlborough Rotary Club\, Marlborough Eagles and the Marlborough Masons.
URL:https://visit-marlborough.com/event/marlborough-family-fun-festival/
LOCATION:Ward Park\, 57 Orchard Street\, Marlborough\, MA\, 01752\, United States
END:VEVENT
BEGIN:VEVENT
DTSTART;TZID=America/New_York:20240506T183000
DTEND;TZID=America/New_York:20240506T190000
DTSTAMP:20260424T022514
CREATED:20240227T210313Z
LAST-MODIFIED:20240227T210313Z
UID:214111-1715020200-1715022000@visit-marlborough.com
SUMMARY:Monday Night Run Club @ Lost Shoe
DESCRIPTION:Monday Night Run Club every Monday starting at 6:30 pm!
URL:https://visit-marlborough.com/event/monday-night-run-club-lost-shoe-23/
LOCATION:Lost Shoe Brewing & Roasting Co.\, 19 Weed Street\, Marlborough\, MA\, 01752\, United States
END:VEVENT
BEGIN:VEVENT
DTSTART;TZID=America/New_York:20240509T090000
DTEND;TZID=America/New_York:20240509T120000
DTSTAMP:20260424T022514
CREATED:20240429T161400Z
LAST-MODIFIED:20240429T161400Z
UID:214387-1715245200-1715256000@visit-marlborough.com
SUMMARY:Beats & Brews with JP @ Lost Shoe
DESCRIPTION:Enjoy a beverage while listening to owner/brewer JP spin some beats. The perfect way to get the weekend ignited!
URL:https://visit-marlborough.com/event/beats-brews-with-jp-lost-shoe-10/
LOCATION:Lost Shoe Brewing & Roasting Co.\, 19 Weed Street\, Marlborough\, MA\, 01752\, United States
END:VEVENT
BEGIN:VEVENT
DTSTART;TZID=America/New_York:20240509T190000
DTEND;TZID=America/New_York:20240509T220000
DTSTAMP:20260424T022514
CREATED:20240416T200237Z
LAST-MODIFIED:20240416T200237Z
UID:214313-1715281200-1715292000@visit-marlborough.com
SUMMARY:Open Mic @ Tackle Box
DESCRIPTION:Join us on the Box Stage for an evening of entertainment and entertaining! \nIf you want to get out and try your chops onstage\, it’s the perfect choice whether it’s your first time\, or you’re a seasoned performer. \nGrab an instrument\, grab a friend\, grab the spotlight solo – whichever way you like\, it’s the best when you grab a craft brewed beer or seltzer and cheer.
URL:https://visit-marlborough.com/event/open-mic-tackle-box-68/
LOCATION:Tackle Box Brewing Company\, 416 Boston Post Road East\, Marlborough\, MA\, 01752\, United States
END:VEVENT
BEGIN:VEVENT
DTSTART;TZID=America/New_York:20240510T210000
DTEND;TZID=America/New_York:20240510T230000
DTSTAMP:20260424T022514
CREATED:20240429T172306Z
LAST-MODIFIED:20240429T172306Z
UID:214458-1715374800-1715382000@visit-marlborough.com
SUMMARY:Live Music @ Dante’s at Firefly's BBQ!
DESCRIPTION:Trigger South\n\n\nBlending modern Country favorites with Southern Rock to keep you stomping your feet and singing along all night long!
URL:https://visit-marlborough.com/event/live-music-dantes-at-fireflys-bbq-88/
LOCATION:Firefly’s BBQ\, 350 East Main Street\, Marlborough\, MA\, 01752\, United States
END:VEVENT
BEGIN:VEVENT
DTSTART;TZID=America/New_York:20240511T093000
DTEND;TZID=America/New_York:20240511T193000
DTSTAMP:20260424T022514
CREATED:20240429T163124Z
LAST-MODIFIED:20240429T163124Z
UID:214405-1715419800-1715455800@visit-marlborough.com
SUMMARY:Lost Shoe 5 Year Anniversary Party
DESCRIPTION:We’re turning FIVE! To celebrate\, we’re throwing an all day party with live music\, food\, special releases and more 🎉\nDJ Jon Strader will be spinning tunes until 12:30PM with Disco Lemonade taking the stage from 1-3PM and The Beats & The Shouting closing the night from 4:30-7:30PM 🎶🎤🎸\nLast but certainly not least\, Lalos is covering food all afternoon from 12-6PM 🌮\nHope to see you there!
URL:https://visit-marlborough.com/event/lost-shoe-5-year-anniversary-party/
LOCATION:Lost Shoe Brewing & Roasting Co.\, 19 Weed Street\, Marlborough\, MA\, 01752\, United States
END:VEVENT
BEGIN:VEVENT
DTSTART;TZID=America/New_York:20240511T130000
DTEND;TZID=America/New_York:20240511T160000
DTSTAMP:20260424T022514
CREATED:20240320T151714Z
LAST-MODIFIED:20240320T151714Z
UID:214205-1715432400-1715443200@visit-marlborough.com
SUMMARY:Rock'n Shop Music Series @ Solomon Pond Mall
DESCRIPTION:Enjoy your favorite local acoustic musicians and enjoy our great eateries in the Dining and Entertainment Pavilion every Saturday from 1pm-4pm. \nUpcoming Schedule: \nMay 11 : Ricky and the Jett \nMay 18:  Fred Ellsworth \nMay 25:  Stephen George \nJune 1:  Whitney Doucet
URL:https://visit-marlborough.com/event/rockn-shop-music-series-solomon-pond-mall-8/
LOCATION:Solomon Pond Mall\, 601 Donald Lynch Blvd\, Marlborough\, MA\, 01752\, United States
END:VEVENT
BEGIN:VEVENT
DTSTART;TZID=America/New_York:20240513T183000
DTEND;TZID=America/New_York:20240513T190000
DTSTAMP:20260424T022514
CREATED:20240429T155420Z
LAST-MODIFIED:20240429T155420Z
UID:214346-1715625000-1715626800@visit-marlborough.com
SUMMARY:Monday Night Run Club @ Lost Shoe
DESCRIPTION:Monday Night Run Club every Monday starting at 6:30 pm!
URL:https://visit-marlborough.com/event/monday-night-run-club-lost-shoe-24/
LOCATION:Lost Shoe Brewing & Roasting Co.\, 19 Weed Street\, Marlborough\, MA\, 01752\, United States
END:VEVENT
BEGIN:VEVENT
DTSTART;TZID=America/New_York:20240516T090000
DTEND;TZID=America/New_York:20240516T120000
DTSTAMP:20260424T022514
CREATED:20240429T161433Z
LAST-MODIFIED:20240429T161433Z
UID:214389-1715850000-1715860800@visit-marlborough.com
SUMMARY:Beats & Brews with JP @ Lost Shoe
DESCRIPTION:Enjoy a beverage while listening to owner/brewer JP spin some beats. The perfect way to get the weekend ignited!
URL:https://visit-marlborough.com/event/beats-brews-with-jp-lost-shoe-11/
LOCATION:Lost Shoe Brewing & Roasting Co.\, 19 Weed Street\, Marlborough\, MA\, 01752\, United States
END:VEVENT
BEGIN:VEVENT
DTSTART;TZID=America/New_York:20240517T210000
DTEND;TZID=America/New_York:20240517T230000
DTSTAMP:20260424T022514
CREATED:20240429T172418Z
LAST-MODIFIED:20240429T172418Z
UID:214460-1715979600-1715986800@visit-marlborough.com
SUMMARY:Live Music @ Dante’s at Firefly's BBQ!
DESCRIPTION:True North\n\n\nTrue North commands the stage with powerful Classic Rock tunes. All night long\, their energy is amazing — each member of the band delivers a high level of performance\, so you can rock the night away!
URL:https://visit-marlborough.com/event/live-music-dantes-at-fireflys-bbq-89/
LOCATION:Firefly’s BBQ\, 350 East Main Street\, Marlborough\, MA\, 01752\, United States
END:VEVENT
BEGIN:VEVENT
DTSTART;TZID=America/New_York:20240518T130000
DTEND;TZID=America/New_York:20240518T160000
DTSTAMP:20260424T022514
CREATED:20240320T151739Z
LAST-MODIFIED:20240320T151739Z
UID:214207-1716037200-1716048000@visit-marlborough.com
SUMMARY:Rock'n Shop Music Series @ Solomon Pond Mall
DESCRIPTION:Enjoy your favorite local acoustic musicians and enjoy our great eateries in the Dining and Entertainment Pavilion every Saturday from 1pm-4pm. \nUpcoming Schedule: \nMay 18:  Fred Ellsworth \nMay 25:  Stephen George \nJune 1:  Whitney Doucet
URL:https://visit-marlborough.com/event/rockn-shop-music-series-solomon-pond-mall-9/
LOCATION:Solomon Pond Mall\, 601 Donald Lynch Blvd\, Marlborough\, MA\, 01752\, United States
END:VEVENT
BEGIN:VEVENT
DTSTART;TZID=America/New_York:20240518T210000
DTEND;TZID=America/New_York:20240518T230000
DTSTAMP:20260424T022514
CREATED:20240429T172617Z
LAST-MODIFIED:20240429T172617Z
UID:214462-1716066000-1716073200@visit-marlborough.com
SUMMARY:Live Music @ Dante’s at Firefly's BBQ!
DESCRIPTION:Bone City\n\n\nBone City is a high energy rock band aimed at tickling your party bone. They love to get up on stage and have a good time\, while playing Rock songs you know from the 70s\, 80s and 90s to today!
URL:https://visit-marlborough.com/event/live-music-dantes-at-fireflys-bbq-90/
LOCATION:Firefly’s BBQ\, 350 East Main Street\, Marlborough\, MA\, 01752\, United States
END:VEVENT
BEGIN:VEVENT
DTSTART;TZID=America/New_York:20240520T183000
DTEND;TZID=America/New_York:20240520T190000
DTSTAMP:20260424T022514
CREATED:20240429T155459Z
LAST-MODIFIED:20240429T155459Z
UID:214348-1716229800-1716231600@visit-marlborough.com
SUMMARY:Monday Night Run Club @ Lost Shoe
DESCRIPTION:Monday Night Run Club every Monday starting at 6:30 pm!
URL:https://visit-marlborough.com/event/monday-night-run-club-lost-shoe-25/
LOCATION:Lost Shoe Brewing & Roasting Co.\, 19 Weed Street\, Marlborough\, MA\, 01752\, United States
END:VEVENT
BEGIN:VEVENT
DTSTART;TZID=America/New_York:20240523T090000
DTEND;TZID=America/New_York:20240523T120000
DTSTAMP:20260424T022514
CREATED:20240429T161501Z
LAST-MODIFIED:20240429T161501Z
UID:214391-1716454800-1716465600@visit-marlborough.com
SUMMARY:Beats & Brews with JP @ Lost Shoe
DESCRIPTION:Enjoy a beverage while listening to owner/brewer JP spin some beats. The perfect way to get the weekend ignited!
URL:https://visit-marlborough.com/event/beats-brews-with-jp-lost-shoe-12/
LOCATION:Lost Shoe Brewing & Roasting Co.\, 19 Weed Street\, Marlborough\, MA\, 01752\, United States
END:VEVENT
BEGIN:VEVENT
DTSTART;TZID=America/New_York:20240523T180000
DTEND;TZID=America/New_York:20240523T210000
DTSTAMP:20260424T022514
CREATED:20240523T195238Z
LAST-MODIFIED:20240523T195238Z
UID:214612-1716487200-1716498000@visit-marlborough.com
SUMMARY:Live Music @ Kennedy's Pub
DESCRIPTION:Come and enjoy the food\, drinks and music with Piano Steve! \n 
URL:https://visit-marlborough.com/event/live-music-kennedys-pub-50/
LOCATION:Kennedy’s Pub\, 247 Maple Street\, Marlborough\, MA\, 01752\, United States
END:VEVENT
BEGIN:VEVENT
DTSTART;TZID=America/New_York:20240524T170000
DTEND;TZID=America/New_York:20240524T200000
DTSTAMP:20260424T022514
CREATED:20240429T181714Z
LAST-MODIFIED:20240429T181714Z
UID:214470-1716570000-1716580800@visit-marlborough.com
SUMMARY:Live Music @ The Backyard at Firefly’s BBQ!
DESCRIPTION:Tiny Pets\n\n\nSam and Mike met playing together in various bands over the last 10 years\, then in 2022 formed Tiny Pets\, a Central MA acoustic duo that primarily covers 90s-2000s Rock and Alternative Rock!
URL:https://visit-marlborough.com/event/live-music-the-backyard-at-fireflys-bbq-18/
LOCATION:Firefly’s BBQ\, 350 East Main Street\, Marlborough\, MA\, 01752\, United States
END:VEVENT
BEGIN:VEVENT
DTSTART;TZID=America/New_York:20240524T210000
DTEND;TZID=America/New_York:20240524T230000
DTSTAMP:20260424T022514
CREATED:20240429T181304Z
LAST-MODIFIED:20240429T181304Z
UID:214464-1716584400-1716591600@visit-marlborough.com
SUMMARY:Live Music @ Dante’s at Firefly's BBQ!
DESCRIPTION:Black Suede\n\n\nMarlborough’s own hometown Hard Rock band!
URL:https://visit-marlborough.com/event/live-music-dantes-at-fireflys-bbq-91/
LOCATION:Firefly’s BBQ\, 350 East Main Street\, Marlborough\, MA\, 01752\, United States
END:VEVENT
BEGIN:VEVENT
DTSTART;TZID=America/New_York:20240525T120000
DTEND;TZID=America/New_York:20240525T160000
DTSTAMP:20260424T022514
CREATED:20240320T152351Z
LAST-MODIFIED:20240320T152351Z
UID:214217-1716638400-1716652800@visit-marlborough.com
SUMMARY:Spring Market @ Solomon Pond Mall
DESCRIPTION:15 vendors\, live acoustic music\, raffles and freebies\, face painting and more!  2nd Floor Dining and Entertainment Pavilion. \nAfter the success of the recent Winter Markets at Solomon Pond Mall\, we are pleased to announce our Spring Markets on May (25). \nEach event will include live music\, celebrity guests\, face paining\, raffles and much more! \nInterested vendors and artisans can contact danderson@spinosoreg.com
URL:https://visit-marlborough.com/event/spring-market-solomon-pond-mall-3/
LOCATION:Solomon Pond Mall\, 601 Donald Lynch Blvd\, Marlborough\, MA\, 01752\, United States
END:VEVENT
BEGIN:VEVENT
DTSTART;TZID=America/New_York:20240525T130000
DTEND;TZID=America/New_York:20240525T160000
DTSTAMP:20260424T022514
CREATED:20240320T151811Z
LAST-MODIFIED:20240320T151811Z
UID:214209-1716642000-1716652800@visit-marlborough.com
SUMMARY:Rock'n Shop Music Series @ Solomon Pond Mall
DESCRIPTION:Enjoy your favorite local acoustic musicians and enjoy our great eateries in the Dining and Entertainment Pavilion every Saturday from 1pm-4pm. \nUpcoming Schedule: \nMay 25:  Stephen George \nJune 1:  Whitney Doucet
URL:https://visit-marlborough.com/event/rockn-shop-music-series-solomon-pond-mall-10/
LOCATION:Solomon Pond Mall\, 601 Donald Lynch Blvd\, Marlborough\, MA\, 01752\, United States
END:VEVENT
BEGIN:VEVENT
DTSTART;TZID=America/New_York:20240525T170000
DTEND;TZID=America/New_York:20240525T200000
DTSTAMP:20260424T022514
CREATED:20240429T181822Z
LAST-MODIFIED:20240429T181822Z
UID:214472-1716656400-1716667200@visit-marlborough.com
SUMMARY:Live Music @ The Backyard at Firefly’s BBQ!
DESCRIPTION:Kim Trusty\n\n\nIt’s not often that someone comes along and\, with one note\, grabs your heart and soul. The dynamic and multifaceted Kim Trusty is a powerful vocalist\, songwriter and guitarist. Drawing on Jazz\, Rhythm & Blues\, Roots and Rock\, she brings her life\, heart and experiences into unforgettable and unique performances
URL:https://visit-marlborough.com/event/live-music-the-backyard-at-fireflys-bbq-19/
LOCATION:Firefly’s BBQ\, 350 East Main Street\, Marlborough\, MA\, 01752\, United States
END:VEVENT
BEGIN:VEVENT
DTSTART;TZID=America/New_York:20240525T190000
DTEND;TZID=America/New_York:20240525T220000
DTSTAMP:20260424T022514
CREATED:20240523T195456Z
LAST-MODIFIED:20240523T195534Z
UID:214614-1716663600-1716674400@visit-marlborough.com
SUMMARY:Live Music @ Kennedy's Pub
DESCRIPTION:Come and enjoy the food\, drinks and music with Jared Hanrahan! \nHanrahan\, 20\, already has a decade of professional appearances on his resume\, playing a variety of instruments\, including the guitar\, bass guitar\, piano\, trumpet\, and drums. He’s also been writing and singing his own songs. \nSince the age of 10\, Hanrahan has been recognized for his talent\, and he plans to continue his career in the music world. \nHanrahan appeared on American Idol in 2019\, and he has been featured at the House of Blues in Boston. Don’t miss Jared live at Kennedy’s!! \n 
URL:https://visit-marlborough.com/event/live-music-kennedys-pub-51/
LOCATION:Kennedy’s Pub\, 247 Maple Street\, Marlborough\, MA\, 01752\, United States
END:VEVENT
BEGIN:VEVENT
DTSTART;TZID=America/New_York:20240525T210000
DTEND;TZID=America/New_York:20240525T230000
DTSTAMP:20260424T022514
CREATED:20240429T181416Z
LAST-MODIFIED:20240429T181416Z
UID:214466-1716670800-1716678000@visit-marlborough.com
SUMMARY:Live Music @ Dante’s at Firefly's BBQ!
DESCRIPTION:Critical Mass\n\n\nWell-seasoned performers playing the best from the 70s\, 80s\, 90s and beyond\, plus some other new and fun tunes. The music is tight\, vocal harmonies are spectacular. You’ll be up singing and dancing and\, most of all\, rocking out!
URL:https://visit-marlborough.com/event/live-music-dantes-at-fireflys-bbq-92/
LOCATION:Firefly’s BBQ\, 350 East Main Street\, Marlborough\, MA\, 01752\, United States
END:VEVENT
BEGIN:VEVENT
DTSTART;TZID=America/New_York:20240526T170000
DTEND;TZID=America/New_York:20240526T200000
DTSTAMP:20260424T022514
CREATED:20240429T181939Z
LAST-MODIFIED:20240429T181939Z
UID:214474-1716742800-1716753600@visit-marlborough.com
SUMMARY:Live Music @ The Backyard at Firefly’s BBQ!
DESCRIPTION:Mike & Dave Acoustic Duo\n\n\nStriving to make every type of music listener happy with real talent\, sung from the heart. Family friendly! Making music first!
URL:https://visit-marlborough.com/event/live-music-the-backyard-at-fireflys-bbq-20/
LOCATION:Firefly’s BBQ\, 350 East Main Street\, Marlborough\, MA\, 01752\, United States
END:VEVENT
BEGIN:VEVENT
DTSTART;TZID=America/New_York:20240527T183000
DTEND;TZID=America/New_York:20240527T190000
DTSTAMP:20260424T022514
CREATED:20240429T155534Z
LAST-MODIFIED:20240429T155534Z
UID:214350-1716834600-1716836400@visit-marlborough.com
SUMMARY:Monday Night Run Club @ Lost Shoe
DESCRIPTION:Monday Night Run Club every Monday starting at 6:30 pm!
URL:https://visit-marlborough.com/event/monday-night-run-club-lost-shoe-26/
LOCATION:Lost Shoe Brewing & Roasting Co.\, 19 Weed Street\, Marlborough\, MA\, 01752\, United States
END:VEVENT
BEGIN:VEVENT
DTSTART;TZID=America/New_York:20240530T090000
DTEND;TZID=America/New_York:20240530T120000
DTSTAMP:20260424T022514
CREATED:20240429T161538Z
LAST-MODIFIED:20240429T161538Z
UID:214393-1717059600-1717070400@visit-marlborough.com
SUMMARY:Beats & Brews with JP @ Lost Shoe
DESCRIPTION:Enjoy a beverage while listening to owner/brewer JP spin some beats. The perfect way to get the weekend ignited!
URL:https://visit-marlborough.com/event/beats-brews-with-jp-lost-shoe-13/
LOCATION:Lost Shoe Brewing & Roasting Co.\, 19 Weed Street\, Marlborough\, MA\, 01752\, United States
END:VEVENT
BEGIN:VEVENT
DTSTART;TZID=America/New_York:20240531T170000
DTEND;TZID=America/New_York:20240531T200000
DTSTAMP:20260424T022514
CREATED:20240429T182036Z
LAST-MODIFIED:20240429T182036Z
UID:214476-1717174800-1717185600@visit-marlborough.com
SUMMARY:Live Music @ The Backyard at Firefly’s BBQ!
DESCRIPTION:Chuck Clough\n\n\nChuck Clough is a singer-songwriter from Boston who has opened for America\, The Gin Blossoms\, and The Wallflowers. He’s performed solo and with his band\, The Butler Frogs\, in the Boston area. Chuck plays all the mellow Acoustic Rock you want to hear.
URL:https://visit-marlborough.com/event/live-music-the-backyard-at-fireflys-bbq-21/
LOCATION:Firefly’s BBQ\, 350 East Main Street\, Marlborough\, MA\, 01752\, United States
END:VEVENT
END:VCALENDAR