BEGIN:VCALENDAR
VERSION:2.0
PRODID:-//Visit Marlborough - ECPv6.15.20//NONSGML v1.0//EN
CALSCALE:GREGORIAN
METHOD:PUBLISH
X-WR-CALNAME:Visit Marlborough
X-ORIGINAL-URL:https://visit-marlborough.com
X-WR-CALDESC:Events for Visit Marlborough
REFRESH-INTERVAL;VALUE=DURATION:PT1H
X-Robots-Tag:noindex
X-PUBLISHED-TTL:PT1H
BEGIN:VTIMEZONE
TZID:America/New_York
BEGIN:DAYLIGHT
TZOFFSETFROM:-0500
TZOFFSETTO:-0400
TZNAME:EDT
DTSTART:20250309T070000
END:DAYLIGHT
BEGIN:STANDARD
TZOFFSETFROM:-0400
TZOFFSETTO:-0500
TZNAME:EST
DTSTART:20251102T060000
END:STANDARD
BEGIN:DAYLIGHT
TZOFFSETFROM:-0500
TZOFFSETTO:-0400
TZNAME:EDT
DTSTART:20260308T070000
END:DAYLIGHT
BEGIN:STANDARD
TZOFFSETFROM:-0400
TZOFFSETTO:-0500
TZNAME:EST
DTSTART:20261101T060000
END:STANDARD
BEGIN:DAYLIGHT
TZOFFSETFROM:-0500
TZOFFSETTO:-0400
TZNAME:EDT
DTSTART:20270314T070000
END:DAYLIGHT
BEGIN:STANDARD
TZOFFSETFROM:-0400
TZOFFSETTO:-0500
TZNAME:EST
DTSTART:20271107T060000
END:STANDARD
END:VTIMEZONE
BEGIN:VEVENT
DTSTART;TZID=America/New_York:20260212T180000
DTEND;TZID=America/New_York:20260212T200000
DTSTAMP:20260425T080117
CREATED:20260210T195103Z
LAST-MODIFIED:20260210T195103Z
UID:217146-1770919200-1770926400@visit-marlborough.com
SUMMARY:Sip & Paint @ Tackle Box Brewery
DESCRIPTION:Get ready to unleash your creativity while sipping on cold brews at Tackle Box Brewery\, where DIY projects meet good times! \nWelcome to Sip & Paint Night! Join us at Tackle Box Brewery\, 416 Boston Post Rd East\, Marlborough\, MA on February 12\, 2026 at 6:00 PM (Eastern Time) for a fun evening of crafting and enjoying some cold brews. Whether you’re a seasoned crafter or just looking to try something new\, this event is perfect for everyone. Get ready to unleash your creativity while sipping on your favorite drinks. 5 Projects to choose from starting at $30 to $45. Don’t miss out on this exciting opportunity to mingle with fellow craft enthusiasts and have a blast. Mark your calendars and we’ll see you there! Registration required by 2/10 since all projects are cut to order. Receive the FREE 5″ Bunny to paint at the event when you register (1 per customer). Call 978-204-3430 with any questions.
URL:https://visit-marlborough.com/event/sip-paint-tackle-box-brewery/
LOCATION:Tackle Box Brewing Company\, 416 Boston Post Road East\, Marlborough\, MA\, 01752\, United States
END:VEVENT
END:VCALENDAR