BEGIN:VCALENDAR
VERSION:2.0
PRODID:-//Visit Marlborough - ECPv6.15.20//NONSGML v1.0//EN
CALSCALE:GREGORIAN
METHOD:PUBLISH
X-WR-CALNAME:Visit Marlborough
X-ORIGINAL-URL:https://visit-marlborough.com
X-WR-CALDESC:Events for Visit Marlborough
REFRESH-INTERVAL;VALUE=DURATION:PT1H
X-Robots-Tag:noindex
X-PUBLISHED-TTL:PT1H
BEGIN:VTIMEZONE
TZID:America/New_York
BEGIN:DAYLIGHT
TZOFFSETFROM:-0500
TZOFFSETTO:-0400
TZNAME:EDT
DTSTART:20240310T070000
END:DAYLIGHT
BEGIN:STANDARD
TZOFFSETFROM:-0400
TZOFFSETTO:-0500
TZNAME:EST
DTSTART:20241103T060000
END:STANDARD
BEGIN:DAYLIGHT
TZOFFSETFROM:-0500
TZOFFSETTO:-0400
TZNAME:EDT
DTSTART:20250309T070000
END:DAYLIGHT
BEGIN:STANDARD
TZOFFSETFROM:-0400
TZOFFSETTO:-0500
TZNAME:EST
DTSTART:20251102T060000
END:STANDARD
BEGIN:DAYLIGHT
TZOFFSETFROM:-0500
TZOFFSETTO:-0400
TZNAME:EDT
DTSTART:20260308T070000
END:DAYLIGHT
BEGIN:STANDARD
TZOFFSETFROM:-0400
TZOFFSETTO:-0500
TZNAME:EST
DTSTART:20261101T060000
END:STANDARD
END:VTIMEZONE
BEGIN:VEVENT
DTSTART;TZID=America/New_York:20251108T100000
DTEND;TZID=America/New_York:20251108T130000
DTSTAMP:20260425T212406
CREATED:20251030T154606Z
LAST-MODIFIED:20251030T154606Z
UID:216650-1762596000-1762606800@visit-marlborough.com
SUMMARY:Fall Festival @ Illuminate Montessori!
DESCRIPTION:We’re excited to invite everyone to our Fall Fest on Saturday\, November 8th from 10:00 AM – 1:00 PM! 🌻✨\nCome celebrate the season with us — there will be fun activities\, community connections\, and local vendors!\n💼 Are you a vendor or local business in Marlborough interested in joining us? We’d love to have you be part of this wonderful event!\nWe can’t wait to celebrate with you!
URL:https://visit-marlborough.com/event/fall-festival-illuminate-montessori/
LOCATION:Illuminate Montessori\, 19 Forest Street\, Marlborough\, MA\, 01752\, United States
ATTACH;FMTTYPE=image/jpeg:https://visit-marlborough.com/wp-content/uploads/2025/10/Illuminate-Montessori-Fall-Fest.jpg
ORGANIZER;CN="Illuminate Montessori":MAILTO:marlborough@illuminatemontessori.com
END:VEVENT
END:VCALENDAR