BEGIN:VCALENDAR
VERSION:2.0
PRODID:-//Visit Marlborough - ECPv6.15.20//NONSGML v1.0//EN
CALSCALE:GREGORIAN
METHOD:PUBLISH
X-WR-CALNAME:Visit Marlborough
X-ORIGINAL-URL:https://visit-marlborough.com
X-WR-CALDESC:Events for Visit Marlborough
REFRESH-INTERVAL;VALUE=DURATION:PT1H
X-Robots-Tag:noindex
X-PUBLISHED-TTL:PT1H
BEGIN:VTIMEZONE
TZID:America/New_York
BEGIN:DAYLIGHT
TZOFFSETFROM:-0500
TZOFFSETTO:-0400
TZNAME:EDT
DTSTART:20240310T070000
END:DAYLIGHT
BEGIN:STANDARD
TZOFFSETFROM:-0400
TZOFFSETTO:-0500
TZNAME:EST
DTSTART:20241103T060000
END:STANDARD
BEGIN:DAYLIGHT
TZOFFSETFROM:-0500
TZOFFSETTO:-0400
TZNAME:EDT
DTSTART:20250309T070000
END:DAYLIGHT
BEGIN:STANDARD
TZOFFSETFROM:-0400
TZOFFSETTO:-0500
TZNAME:EST
DTSTART:20251102T060000
END:STANDARD
BEGIN:DAYLIGHT
TZOFFSETFROM:-0500
TZOFFSETTO:-0400
TZNAME:EDT
DTSTART:20260308T070000
END:DAYLIGHT
BEGIN:STANDARD
TZOFFSETFROM:-0400
TZOFFSETTO:-0500
TZNAME:EST
DTSTART:20261101T060000
END:STANDARD
END:VTIMEZONE
BEGIN:VEVENT
DTSTART;TZID=America/New_York:20251218T160000
DTEND;TZID=America/New_York:20251218T173000
DTSTAMP:20260425T141557
CREATED:20251216T210209Z
LAST-MODIFIED:20251216T210209Z
UID:216956-1766073600-1766079000@visit-marlborough.com
SUMMARY:Winter Cookie Decorating & Family Photos @ Illuminate Montessori
DESCRIPTION:Join us for a cozy\, creative afternoon decorating cookies with your child and taking lovely family photos. All are welcome.
URL:https://visit-marlborough.com/event/winter-cookie-decorating-family-photos-illuminate-montessori/
LOCATION:Illuminate Montessori\, 19 Forest Street\, Marlborough\, MA\, 01752\, United States
ATTACH;FMTTYPE=image/jpeg:https://visit-marlborough.com/wp-content/uploads/2025/12/Join-us-for-Holiday-Cookie-Decoriating-and-Family-Photos-2.jpg
ORGANIZER;CN="Illuminate Montessori":MAILTO:marlborough@illuminatemontessori.com
END:VEVENT
END:VCALENDAR