BEGIN:VCALENDAR
VERSION:2.0
PRODID:-//Visit Marlborough - ECPv6.15.20//NONSGML v1.0//EN
CALSCALE:GREGORIAN
METHOD:PUBLISH
X-WR-CALNAME:Visit Marlborough
X-ORIGINAL-URL:https://visit-marlborough.com
X-WR-CALDESC:Events for Visit Marlborough
REFRESH-INTERVAL;VALUE=DURATION:PT1H
X-Robots-Tag:noindex
X-PUBLISHED-TTL:PT1H
BEGIN:VTIMEZONE
TZID:America/New_York
BEGIN:DAYLIGHT
TZOFFSETFROM:-0500
TZOFFSETTO:-0400
TZNAME:EDT
DTSTART:20220313T070000
END:DAYLIGHT
BEGIN:STANDARD
TZOFFSETFROM:-0400
TZOFFSETTO:-0500
TZNAME:EST
DTSTART:20221106T060000
END:STANDARD
BEGIN:DAYLIGHT
TZOFFSETFROM:-0500
TZOFFSETTO:-0400
TZNAME:EDT
DTSTART:20230312T070000
END:DAYLIGHT
BEGIN:STANDARD
TZOFFSETFROM:-0400
TZOFFSETTO:-0500
TZNAME:EST
DTSTART:20231105T060000
END:STANDARD
BEGIN:DAYLIGHT
TZOFFSETFROM:-0500
TZOFFSETTO:-0400
TZNAME:EDT
DTSTART:20240310T070000
END:DAYLIGHT
BEGIN:STANDARD
TZOFFSETFROM:-0400
TZOFFSETTO:-0500
TZNAME:EST
DTSTART:20241103T060000
END:STANDARD
END:VTIMEZONE
BEGIN:VEVENT
DTSTART;TZID=America/New_York:20230907T180000
DTEND;TZID=America/New_York:20230907T235900
DTSTAMP:20260423T080121
CREATED:20230201T172055Z
LAST-MODIFIED:20230718T183846Z
UID:211977-1694109600-1694131140@visit-marlborough.com
SUMMARY:Pintastic Pinball & Game Room Expo
DESCRIPTION:Pintastic is the family-friendly pinball and game room show that’s centrally located in the six New England states. It has hundreds of games set on free play\, tournaments\, seminars\, an exhibition hall full of vendors offering fun stuff for your game room\, and entertainment for kids. While pinball is the most prominent type of game\, there will be arcade and console video games\, and always some surprises. \nThe first Pintastic show in 2015 brought in players and collectors from 12 states and several provinces of Eastern Canada. Seminar presenters came from Chicago\, Texas\, New Jersey\, England\, and the New England states. Vendors offered new and used machines\, parts\, game room decor\, and more. We plan for the 2023 show to be bigger and better! Sign up for email updates and you’ll get prompt notification of the special features as we add them. \nVisit the website for more information!
URL:https://visit-marlborough.com/event/pintastic-pinball-game-room-expo/
LOCATION:Best Western Royal Plaza\, 181 Boston Post Road West\, Marlborough\, MA\, 01752\, United States
END:VEVENT
BEGIN:VEVENT
DTSTART;TZID=America/New_York:20230908T100000
DTEND;TZID=America/New_York:20230908T235900
DTSTAMP:20260423T080121
CREATED:20230201T172334Z
LAST-MODIFIED:20230718T183810Z
UID:211980-1694167200-1694217540@visit-marlborough.com
SUMMARY:Pintastic Pinball & Game Room Expo
DESCRIPTION:Pintastic is the family-friendly pinball and game room show that’s centrally located in the six New England states. It has hundreds of games set on free play\, tournaments\, seminars\, an exhibition hall full of vendors offering fun stuff for your game room\, and entertainment for kids. While pinball is the most prominent type of game\, there will be arcade and console video games\, and always some surprises. \nThe first Pintastic show in 2015 brought in players and collectors from 12 states and several provinces of Eastern Canada. Seminar presenters came from Chicago\, Texas\, New Jersey\, England\, and the New England states. Vendors offered new and used machines\, parts\, game room decor\, and more. We plan for the 2023 show to be bigger and better! Sign up for email updates and you’ll get prompt notification of the special features as we add them. \nFor more information visit the website!
URL:https://visit-marlborough.com/event/pintastic-pinball-game-room-expo-2/
LOCATION:Best Western Royal Plaza\, 181 Boston Post Road West\, Marlborough\, MA\, 01752\, United States
END:VEVENT
BEGIN:VEVENT
DTSTART;TZID=America/New_York:20230909T100000
DTEND;TZID=America/New_York:20230909T235900
DTSTAMP:20260423T080121
CREATED:20230201T172425Z
LAST-MODIFIED:20230718T184012Z
UID:211982-1694253600-1694303940@visit-marlborough.com
SUMMARY:Pintastic Pinball & Game Room Expo
DESCRIPTION:Pintastic is the family-friendly pinball and game room show that’s centrally located in the six New England states. It has hundreds of games set on free play\, tournaments\, seminars\, an exhibition hall full of vendors offering fun stuff for your game room\, and entertainment for kids. While pinball is the most prominent type of game\, there will be arcade and console video games\, and always some surprises. \nThe first Pintastic show in 2015 brought in players and collectors from 12 states and several provinces of Eastern Canada. Seminar presenters came from Chicago\, Texas\, New Jersey\, England\, and the New England states. Vendors offered new and used machines\, parts\, game room decor\, and more. We plan for the 2023 show to be bigger and better! Sign up for email updates and you’ll get prompt notification of the special features as we add them. \nVisit the website for more information!
URL:https://visit-marlborough.com/event/pintastic-pinball-game-room-expo-3/
LOCATION:Best Western Royal Plaza\, 181 Boston Post Road West\, Marlborough\, MA\, 01752\, United States
END:VEVENT
BEGIN:VEVENT
DTSTART;TZID=America/New_York:20230910T100000
DTEND;TZID=America/New_York:20230910T140000
DTSTAMP:20260423T080121
CREATED:20230718T184121Z
LAST-MODIFIED:20230718T184121Z
UID:212911-1694340000-1694354400@visit-marlborough.com
SUMMARY:Pintastic Pinball & Game Room Expo
DESCRIPTION:Pintastic is the family-friendly pinball and game room show that’s centrally located in the six New England states. It has hundreds of games set on free play\, tournaments\, seminars\, an exhibition hall full of vendors offering fun stuff for your game room\, and entertainment for kids. While pinball is the most prominent type of game\, there will be arcade and console video games\, and always some surprises. \nThe first Pintastic show in 2015 brought in players and collectors from 12 states and several provinces of Eastern Canada. Seminar presenters came from Chicago\, Texas\, New Jersey\, England\, and the New England states. Vendors offered new and used machines\, parts\, game room decor\, and more. We plan for the 2023 show to be bigger and better! Sign up for email updates and you’ll get prompt notification of the special features as we add them. \nVisit the website for more information!
URL:https://visit-marlborough.com/event/pintastic-pinball-game-room-expo-4/
LOCATION:Best Western Royal Plaza\, 181 Boston Post Road West\, Marlborough\, MA\, 01752\, United States
END:VEVENT
BEGIN:VEVENT
DTSTART;TZID=America/New_York:20230922T170000
DTEND;TZID=America/New_York:20230922T193000
DTSTAMP:20260423T080121
CREATED:20230818T204435Z
LAST-MODIFIED:20230818T204435Z
UID:213094-1695402000-1695411000@visit-marlborough.com
SUMMARY:Richer PTO's 2nd Annual Fall Festival
DESCRIPTION:Celebrate the start of fall with the Richer PTO!
URL:https://visit-marlborough.com/event/richer-ptos-2nd-annual-fall-festival/
LOCATION:Richer Elementary School\, 80 Foley Road\, Marlborough\, MA\, 01752\, United States
END:VEVENT
BEGIN:VEVENT
DTSTART;TZID=America/New_York:20230930T080000
DTEND;TZID=America/New_York:20230930T120000
DTSTAMP:20260423T080121
CREATED:20230814T155635Z
LAST-MODIFIED:20230814T155635Z
UID:213089-1696060800-1696075200@visit-marlborough.com
SUMMARY:5K Race for Prevention
DESCRIPTION:Join YSAP (Hudson Youth Substance Abuse Prevention Coalition) and MAP (Marlborough Alliance for Prevention) for a 5K Run\, Walk\, Roll and Stroll for Prevention. The goal is to raise awareness and funds to assist the organizations in their mission to educate and provide resources\, support and programming related to Substance Use Prevention. \nThe 5K is open to people of all ages and abilities. Medals will be awarded to top finishers for those who elect to “run” the 5K route.\nSaturday\, September 30\, 2023 \nEntry Fee: $30.00 – Individual (Online) / $15.00 Student (Online) / $35.00 (Day of Registration for All)\n5K will start and end at Assabet Valley Regional Technical High School (main parking lot\, at 215 Fitchburg Street). Race route details/options listed below. \nDay of Registration/Check-In @ 8:00am\, 5K Race begins @ 9:00am\nEvent will be held rain or shine! Family friendly activities will be provided. \nAll those registered by August 25\, 2023 will receive a race day t-shirt!\nONLY those registered by September 27\, 2023\, will be eligible for raffle prizes.\nPRE-REGISTRATION IS HIGHLY ENCOURAGED!!! Online registration will close at 11:59pm on September 27\, 2023. After this you may only register in person\, day of event.\nWhen registering participants should choose how they will participate in the race (run / walk).\nMore details on the 5K race will be emailed out to registered participants the week leading up to the event. \nFor general event questions and sponsorship opportunities please call Hudson Board of Health at 978-562-2020. \nEvent Registration is being handled via the Hudson Recreation Department. All those who register must create a “Community Account”\, if you have not previously registered for any programs with Hudson Recreation. For registration questions\, call Hudson Recreation at 978-568-9642.
URL:https://visit-marlborough.com/event/5k-race-for-prevention/
LOCATION:Assabet Valley Regional Technical High School\, 215 Fitchburg Street\, Marlborough\, MA\, 01752\, United States
END:VEVENT
BEGIN:VEVENT
DTSTART;TZID=America/New_York:20230930T100000
DTEND;TZID=America/New_York:20230930T160000
DTSTAMP:20260423T080121
CREATED:20230929T150737Z
LAST-MODIFIED:20230929T150807Z
UID:213257-1696068000-1696089600@visit-marlborough.com
SUMMARY:Word on the Street 3rd Birthday Party
DESCRIPTION:Enjoy a day full of bargains\, bingo\, and board games! (and lots of prizes\, of course)
URL:https://visit-marlborough.com/event/word-on-the-street-3rd-birthday-party/
LOCATION:Word on the Street\, 162 Main Street\, Marlborough\, MA\, 01752\, United States
ORGANIZER;CN="Word on the Street":MAILTO:wordstreetbooks@gmail.com
END:VEVENT
BEGIN:VEVENT
DTSTART;TZID=America/New_York:20230930T130000
DTEND;TZID=America/New_York:20230930T200000
DTSTAMP:20260423T080121
CREATED:20230808T153234Z
LAST-MODIFIED:20230814T151629Z
UID:212970-1696078800-1696104000@visit-marlborough.com
SUMMARY:MPD K9 Block Party
DESCRIPTION:Join the Marlborough Police Patrol Officers Association for the MPD Block Party – this time to Support the Paws That Enforce the Laws – K9s! \n$10 Donation at the Door – $100 Table Reservations Available
URL:https://visit-marlborough.com/event/mpd-k9-block-party/
LOCATION:Marlborough City Hall\, 140 Main Street\, Marlborough\, MA\, 01752\, United States
END:VEVENT
END:VCALENDAR