BEGIN:VCALENDAR
VERSION:2.0
PRODID:-//Visit Marlborough - ECPv6.15.20//NONSGML v1.0//EN
CALSCALE:GREGORIAN
METHOD:PUBLISH
X-WR-CALNAME:Visit Marlborough
X-ORIGINAL-URL:https://visit-marlborough.com
X-WR-CALDESC:Events for Visit Marlborough
REFRESH-INTERVAL;VALUE=DURATION:PT1H
X-Robots-Tag:noindex
X-PUBLISHED-TTL:PT1H
BEGIN:VTIMEZONE
TZID:America/New_York
BEGIN:DAYLIGHT
TZOFFSETFROM:-0500
TZOFFSETTO:-0400
TZNAME:EDT
DTSTART:20220313T070000
END:DAYLIGHT
BEGIN:STANDARD
TZOFFSETFROM:-0400
TZOFFSETTO:-0500
TZNAME:EST
DTSTART:20221106T060000
END:STANDARD
BEGIN:DAYLIGHT
TZOFFSETFROM:-0500
TZOFFSETTO:-0400
TZNAME:EDT
DTSTART:20230312T070000
END:DAYLIGHT
BEGIN:STANDARD
TZOFFSETFROM:-0400
TZOFFSETTO:-0500
TZNAME:EST
DTSTART:20231105T060000
END:STANDARD
BEGIN:DAYLIGHT
TZOFFSETFROM:-0500
TZOFFSETTO:-0400
TZNAME:EDT
DTSTART:20240310T070000
END:DAYLIGHT
BEGIN:STANDARD
TZOFFSETFROM:-0400
TZOFFSETTO:-0500
TZNAME:EST
DTSTART:20241103T060000
END:STANDARD
END:VTIMEZONE
BEGIN:VEVENT
DTSTART;TZID=America/New_York:20230401T093000
DTEND;TZID=America/New_York:20230401T114500
DTSTAMP:20260425T001224
CREATED:20230314T152759Z
LAST-MODIFIED:20230314T152759Z
UID:212290-1680341400-1680349500@visit-marlborough.com
SUMMARY:Breakfast with the Easter Bunny @ Chill
DESCRIPTION:1st Seating: 9:30am – 10:30am \n2nd Seating: 10:45am – 11:45am \nPictures with the Easter Bunny\, breakfast buffet\, crafts & more!
URL:https://visit-marlborough.com/event/breakfast-with-the-easter-bunny-chill/
LOCATION:Chill Kitchen and Bar\, 416 Boston Post Road East\, Marlborough\, MA\, 01752\, United States
END:VEVENT
BEGIN:VEVENT
DTSTART;TZID=America/New_York:20230414T180000
DTEND;TZID=America/New_York:20230414T200000
DTSTAMP:20260425T001224
CREATED:20230330T203142Z
LAST-MODIFIED:20230330T203227Z
UID:212359-1681495200-1681502400@visit-marlborough.com
SUMMARY:Father Daughter Dance
DESCRIPTION:Sponsored by the Marlborough Lions and the Mitrakas family. Young ladies ages 3-15 and their fathers\, uncles\, grandfathers\, or other special men in their lives are welcome to dance to music by DJ Victor\, enjoy refreshments\, and create special memories. Photos by Paul Smith and raffle prizes available for purchase. $7 per person with tickets purchased in advance at Bouvier Pharmacy\, Dairy Queen\, Main St. Cafe\, or Taqueria La Tapatia in Marlborough or $10 at the door.
URL:https://visit-marlborough.com/event/father-daughter-dance/
LOCATION:Best Western Royal Plaza\, 181 Boston Post Road West\, Marlborough\, MA\, 01752\, United States
END:VEVENT
BEGIN:VEVENT
DTSTART;TZID=America/New_York:20230416T140000
DTEND;TZID=America/New_York:20230416T160000
DTSTAMP:20260425T001224
CREATED:20230330T201931Z
LAST-MODIFIED:20230330T201931Z
UID:212357-1681653600-1681660800@visit-marlborough.com
SUMMARY:Sip 'N Paint @ Tackle Box
DESCRIPTION:30.00 a person to paint this beautiful bee and daisy wood pallet on a 10×10 white wash wood pallet. A step by step will be done. Pay by Venmo my Venmo is @createwithkath you will see a ladybug 
URL:https://visit-marlborough.com/event/sip-n-paint-tackle-box-2/
LOCATION:Tackle Box Brewing Company\, 416 Boston Post Road East\, Marlborough\, MA\, 01752\, United States
END:VEVENT
BEGIN:VEVENT
DTSTART;TZID=America/New_York:20230429T140000
DTEND;TZID=America/New_York:20230429T153000
DTSTAMP:20260425T001224
CREATED:20230331T204736Z
LAST-MODIFIED:20230331T204736Z
UID:212367-1682776800-1682782200@visit-marlborough.com
SUMMARY:Sea Glass Craft @ Tackle Box
DESCRIPTION:This event is hosted at Tacklebox Brewing’s Marlborough taproom. Come enjoy a fun environment with good drinks. Ellie Perry\, a local artist will walk you through how to make beautiful crafts out of sea glass. Come unwind with us. \nYou’ll walk away with 2 sea glass canvases\, and you don’t need any pre-existing skills or experience. Tickets are refundable if you can’t make it – just let us know 24 hours before the event starts. \nThey’re great to stand up and show off\, or to make as a gift to give to someone – or as an excuse to have a few drinks with great people while making something beautiful. \nBuy your tickets before they sell out.
URL:https://visit-marlborough.com/event/sea-glass-craft-tackle-box/
LOCATION:Tackle Box Brewing Company\, 416 Boston Post Road East\, Marlborough\, MA\, 01752\, United States
END:VEVENT
END:VCALENDAR