BEGIN:VCALENDAR
VERSION:2.0
PRODID:-//Visit Marlborough - ECPv6.15.20//NONSGML v1.0//EN
CALSCALE:GREGORIAN
METHOD:PUBLISH
X-ORIGINAL-URL:https://visit-marlborough.com
X-WR-CALDESC:Events for Visit Marlborough
REFRESH-INTERVAL;VALUE=DURATION:PT1H
X-Robots-Tag:noindex
X-PUBLISHED-TTL:PT1H
BEGIN:VTIMEZONE
TZID:America/New_York
BEGIN:DAYLIGHT
TZOFFSETFROM:-0500
TZOFFSETTO:-0400
TZNAME:EDT
DTSTART:20250309T070000
END:DAYLIGHT
BEGIN:STANDARD
TZOFFSETFROM:-0400
TZOFFSETTO:-0500
TZNAME:EST
DTSTART:20251102T060000
END:STANDARD
BEGIN:DAYLIGHT
TZOFFSETFROM:-0500
TZOFFSETTO:-0400
TZNAME:EDT
DTSTART:20260308T070000
END:DAYLIGHT
BEGIN:STANDARD
TZOFFSETFROM:-0400
TZOFFSETTO:-0500
TZNAME:EST
DTSTART:20261101T060000
END:STANDARD
BEGIN:DAYLIGHT
TZOFFSETFROM:-0500
TZOFFSETTO:-0400
TZNAME:EDT
DTSTART:20270314T070000
END:DAYLIGHT
BEGIN:STANDARD
TZOFFSETFROM:-0400
TZOFFSETTO:-0500
TZNAME:EST
DTSTART:20271107T060000
END:STANDARD
END:VTIMEZONE
BEGIN:VEVENT
DTSTART;TZID=America/New_York:20260106T190000
DTEND;TZID=America/New_York:20260106T210000
DTSTAMP:20260424T182639
CREATED:20251124T164010Z
LAST-MODIFIED:20251124T164010Z
UID:216770-1767726000-1767733200@visit-marlborough.com
SUMMARY:Geeks Who Drink Trivia @ Lost Shoe
DESCRIPTION:Trivia Night starting at 7 pm!
URL:https://visit-marlborough.com/event/geeks-who-drink-trivia-lost-shoe-102/
LOCATION:Lost Shoe Brewing & Roasting Co.\, 19 Weed Street\, Marlborough\, MA\, 01752\, United States
END:VEVENT
BEGIN:VEVENT
DTSTART;TZID=America/New_York:20260113T190000
DTEND;TZID=America/New_York:20260113T210000
DTSTAMP:20260424T182639
CREATED:20251124T164100Z
LAST-MODIFIED:20251124T164100Z
UID:216772-1768330800-1768338000@visit-marlborough.com
SUMMARY:Geeks Who Drink Trivia @ Lost Shoe
DESCRIPTION:Trivia Night starting at 7 pm!
URL:https://visit-marlborough.com/event/geeks-who-drink-trivia-lost-shoe-103/
LOCATION:Lost Shoe Brewing & Roasting Co.\, 19 Weed Street\, Marlborough\, MA\, 01752\, United States
END:VEVENT
BEGIN:VEVENT
DTSTART;TZID=America/New_York:20260120T190000
DTEND;TZID=America/New_York:20260120T210000
DTSTAMP:20260424T182639
CREATED:20251124T164151Z
LAST-MODIFIED:20251124T164151Z
UID:216774-1768935600-1768942800@visit-marlborough.com
SUMMARY:Geeks Who Drink Trivia @ Lost Shoe
DESCRIPTION:Trivia Night starting at 7 pm!
URL:https://visit-marlborough.com/event/geeks-who-drink-trivia-lost-shoe-104/
LOCATION:Lost Shoe Brewing & Roasting Co.\, 19 Weed Street\, Marlborough\, MA\, 01752\, United States
END:VEVENT
BEGIN:VEVENT
DTSTART;TZID=America/New_York:20260127T190000
DTEND;TZID=America/New_York:20260127T210000
DTSTAMP:20260424T182639
CREATED:20251124T164217Z
LAST-MODIFIED:20251124T164217Z
UID:216776-1769540400-1769547600@visit-marlborough.com
SUMMARY:Geeks Who Drink Trivia @ Lost Shoe
DESCRIPTION:Trivia Night starting at 7 pm!
URL:https://visit-marlborough.com/event/geeks-who-drink-trivia-lost-shoe-105/
LOCATION:Lost Shoe Brewing & Roasting Co.\, 19 Weed Street\, Marlborough\, MA\, 01752\, United States
END:VEVENT
END:VCALENDAR