BEGIN:VCALENDAR
VERSION:2.0
PRODID:-//Visit Marlborough - ECPv6.15.20//NONSGML v1.0//EN
CALSCALE:GREGORIAN
METHOD:PUBLISH
X-WR-CALNAME:Visit Marlborough
X-ORIGINAL-URL:https://visit-marlborough.com
X-WR-CALDESC:Events for Visit Marlborough
REFRESH-INTERVAL;VALUE=DURATION:PT1H
X-Robots-Tag:noindex
X-PUBLISHED-TTL:PT1H
BEGIN:VTIMEZONE
TZID:America/New_York
BEGIN:DAYLIGHT
TZOFFSETFROM:-0500
TZOFFSETTO:-0400
TZNAME:EDT
DTSTART:20210314T070000
END:DAYLIGHT
BEGIN:STANDARD
TZOFFSETFROM:-0400
TZOFFSETTO:-0500
TZNAME:EST
DTSTART:20211107T060000
END:STANDARD
BEGIN:DAYLIGHT
TZOFFSETFROM:-0500
TZOFFSETTO:-0400
TZNAME:EDT
DTSTART:20220313T070000
END:DAYLIGHT
BEGIN:STANDARD
TZOFFSETFROM:-0400
TZOFFSETTO:-0500
TZNAME:EST
DTSTART:20221106T060000
END:STANDARD
BEGIN:DAYLIGHT
TZOFFSETFROM:-0500
TZOFFSETTO:-0400
TZNAME:EDT
DTSTART:20230312T070000
END:DAYLIGHT
BEGIN:STANDARD
TZOFFSETFROM:-0400
TZOFFSETTO:-0500
TZNAME:EST
DTSTART:20231105T060000
END:STANDARD
END:VTIMEZONE
BEGIN:VEVENT
DTSTART;TZID=America/New_York:20220705T190000
DTEND;TZID=America/New_York:20220705T190000
DTSTAMP:20260420T031103
CREATED:20220705T161848Z
LAST-MODIFIED:20220705T161848Z
UID:208812-1657047600-1657047600@visit-marlborough.com
SUMMARY:Geeks Who Drink Trivia @ Lost Shoe
DESCRIPTION:Trivia Night starting at 7 pm!
URL:https://visit-marlborough.com/event/geeks-who-drink-trivia-lost-shoe-2/
LOCATION:Tackle Box Brewing Company\, 416 Boston Post Road East\, Marlborough\, MA\, 01752\, United States
END:VEVENT
BEGIN:VEVENT
DTSTART;TZID=America/New_York:20220705T190000
DTEND;TZID=America/New_York:20220705T190000
DTSTAMP:20260420T031103
CREATED:20220705T161848Z
LAST-MODIFIED:20220705T161848Z
UID:211019-1657047600-1657047600@visit-marlborough.com
SUMMARY:Geeks Who Drink Trivia @ Lost Shoe
DESCRIPTION:Trivia Night starting at 7 pm!
URL:https://visit-marlborough.com/event/geeks-who-drink-trivia-lost-shoe-2-2/
LOCATION:Tackle Box Brewing Company\, 416 Boston Post Road East\, Marlborough\, MA\, 01752\, United States
END:VEVENT
BEGIN:VEVENT
DTSTART;TZID=America/New_York:20220712T190000
DTEND;TZID=America/New_York:20220712T190000
DTSTAMP:20260420T031103
CREATED:20220705T162015Z
LAST-MODIFIED:20220705T162015Z
UID:208814-1657652400-1657652400@visit-marlborough.com
SUMMARY:Geeks Who Drink Trivia @ Lost Shoe
DESCRIPTION:Trivia Night starting at 7 pm!
URL:https://visit-marlborough.com/event/geeks-who-drink-trivia-lost-shoe-3/
LOCATION:Tackle Box Brewing Company\, 416 Boston Post Road East\, Marlborough\, MA\, 01752\, United States
END:VEVENT
BEGIN:VEVENT
DTSTART;TZID=America/New_York:20220712T190000
DTEND;TZID=America/New_York:20220712T190000
DTSTAMP:20260420T031103
CREATED:20220705T162015Z
LAST-MODIFIED:20220705T162015Z
UID:211020-1657652400-1657652400@visit-marlborough.com
SUMMARY:Geeks Who Drink Trivia @ Lost Shoe
DESCRIPTION:Trivia Night starting at 7 pm!
URL:https://visit-marlborough.com/event/geeks-who-drink-trivia-lost-shoe-3-2/
LOCATION:Tackle Box Brewing Company\, 416 Boston Post Road East\, Marlborough\, MA\, 01752\, United States
END:VEVENT
BEGIN:VEVENT
DTSTART;TZID=America/New_York:20220719T190000
DTEND;TZID=America/New_York:20220719T190000
DTSTAMP:20260420T031103
CREATED:20220705T162144Z
LAST-MODIFIED:20220705T162144Z
UID:208816-1658257200-1658257200@visit-marlborough.com
SUMMARY:Geeks Who Drink Trivia @ Lost Shoe
DESCRIPTION:Trivia Night starting at 7 pm!
URL:https://visit-marlborough.com/event/geeks-who-drink-trivia-lost-shoe-4/
LOCATION:Tackle Box Brewing Company\, 416 Boston Post Road East\, Marlborough\, MA\, 01752\, United States
END:VEVENT
BEGIN:VEVENT
DTSTART;TZID=America/New_York:20220719T190000
DTEND;TZID=America/New_York:20220719T190000
DTSTAMP:20260420T031103
CREATED:20220705T162144Z
LAST-MODIFIED:20220705T162144Z
UID:211021-1658257200-1658257200@visit-marlborough.com
SUMMARY:Geeks Who Drink Trivia @ Lost Shoe
DESCRIPTION:Trivia Night starting at 7 pm!
URL:https://visit-marlborough.com/event/geeks-who-drink-trivia-lost-shoe-4-2/
LOCATION:Tackle Box Brewing Company\, 416 Boston Post Road East\, Marlborough\, MA\, 01752\, United States
END:VEVENT
BEGIN:VEVENT
DTSTART;TZID=America/New_York:20220726T190000
DTEND;TZID=America/New_York:20220726T190000
DTSTAMP:20260420T031103
CREATED:20220705T162518Z
LAST-MODIFIED:20220705T162518Z
UID:211022-1658862000-1658862000@visit-marlborough.com
SUMMARY:Geeks Who Drink Trivia @ Lost Shoe
DESCRIPTION:Trivia Night starting at 7 pm!
URL:https://visit-marlborough.com/event/geeks-who-drink-trivia-lost-shoe-5-2/
LOCATION:Tackle Box Brewing Company\, 416 Boston Post Road East\, Marlborough\, MA\, 01752\, United States
END:VEVENT
BEGIN:VEVENT
DTSTART;TZID=America/New_York:20220726T190000
DTEND;TZID=America/New_York:20220726T190000
DTSTAMP:20260420T031103
CREATED:20220705T162518Z
LAST-MODIFIED:20220705T162518Z
UID:208818-1658862000-1658862000@visit-marlborough.com
SUMMARY:Geeks Who Drink Trivia @ Lost Shoe
DESCRIPTION:Trivia Night starting at 7 pm!
URL:https://visit-marlborough.com/event/geeks-who-drink-trivia-lost-shoe-5/
LOCATION:Tackle Box Brewing Company\, 416 Boston Post Road East\, Marlborough\, MA\, 01752\, United States
END:VEVENT
END:VCALENDAR