BEGIN:VCALENDAR
VERSION:2.0
PRODID:-//Visit Marlborough - ECPv6.15.20//NONSGML v1.0//EN
CALSCALE:GREGORIAN
METHOD:PUBLISH
X-WR-CALNAME:Visit Marlborough
X-ORIGINAL-URL:https://visit-marlborough.com
X-WR-CALDESC:Events for Visit Marlborough
REFRESH-INTERVAL;VALUE=DURATION:PT1H
X-Robots-Tag:noindex
X-PUBLISHED-TTL:PT1H
BEGIN:VTIMEZONE
TZID:America/New_York
BEGIN:DAYLIGHT
TZOFFSETFROM:-0500
TZOFFSETTO:-0400
TZNAME:EDT
DTSTART:20210314T070000
END:DAYLIGHT
BEGIN:STANDARD
TZOFFSETFROM:-0400
TZOFFSETTO:-0500
TZNAME:EST
DTSTART:20211107T060000
END:STANDARD
BEGIN:DAYLIGHT
TZOFFSETFROM:-0500
TZOFFSETTO:-0400
TZNAME:EDT
DTSTART:20220313T070000
END:DAYLIGHT
BEGIN:STANDARD
TZOFFSETFROM:-0400
TZOFFSETTO:-0500
TZNAME:EST
DTSTART:20221106T060000
END:STANDARD
BEGIN:DAYLIGHT
TZOFFSETFROM:-0500
TZOFFSETTO:-0400
TZNAME:EDT
DTSTART:20230312T070000
END:DAYLIGHT
BEGIN:STANDARD
TZOFFSETFROM:-0400
TZOFFSETTO:-0500
TZNAME:EST
DTSTART:20231105T060000
END:STANDARD
END:VTIMEZONE
BEGIN:VEVENT
DTSTART;TZID=America/New_York:20220318T100000
DTEND;TZID=America/New_York:20220320T170000
DTSTAMP:20260423T200946
CREATED:20220317T161802Z
LAST-MODIFIED:20220317T161802Z
UID:208224-1647597600-1647795600@visit-marlborough.com
SUMMARY:Paradise City Arts Festival
DESCRIPTION:Metro Boston’s favorite show and sale of fine craft\, painting and sculpture is the ideal way to kick off the first weekend of spring. Whether you come for serious collecting\, imaginative gifting\, or simply refreshing your home and wardrobe with something special\, you’ll delight in searching out treasures at Paradise City. Every booth is a tiny gallery or boutique\, offering one-of-a-kind and limited-edition work by some of the nation’s finest artists and makers. Don’t miss seeing any of the 170 exhibitors and be sure to welcome the dozens of marvelous new artists at this year’s show. Enjoy 2 cafes\, music\, and the special exhibit “Gift of Nature”.\nFull info: https://bit.ly/ParadiseCityS22-Marlboro\nPlease check our health and safety guidelines online before attending the show
URL:https://visit-marlborough.com/event/paradise-city-arts-festival/
LOCATION:Best Western Royal Plaza\, 181 Boston Post Road West\, Marlborough\, MA\, 01752\, United States
END:VEVENT
BEGIN:VEVENT
DTSTART;TZID=America/New_York:20220318T100000
DTEND;TZID=America/New_York:20220320T170000
DTSTAMP:20260423T200946
CREATED:20220317T161802Z
LAST-MODIFIED:20220317T161802Z
UID:210790-1647597600-1647795600@visit-marlborough.com
SUMMARY:Paradise City Arts Festival
DESCRIPTION:Metro Boston’s favorite show and sale of fine craft\, painting and sculpture is the ideal way to kick off the first weekend of spring. Whether you come for serious collecting\, imaginative gifting\, or simply refreshing your home and wardrobe with something special\, you’ll delight in searching out treasures at Paradise City. Every booth is a tiny gallery or boutique\, offering one-of-a-kind and limited-edition work by some of the nation’s finest artists and makers. Don’t miss seeing any of the 170 exhibitors and be sure to welcome the dozens of marvelous new artists at this year’s show. Enjoy 2 cafes\, music\, and the special exhibit “Gift of Nature”.\nFull info: https://bit.ly/ParadiseCityS22-Marlboro\nPlease check our health and safety guidelines online before attending the show
URL:https://visit-marlborough.com/event/paradise-city-arts-festival-2/
LOCATION:Best Western Royal Plaza\, 181 Boston Post Road West\, Marlborough\, MA\, 01752\, United States
END:VEVENT
END:VCALENDAR