BEGIN:VCALENDAR
VERSION:2.0
PRODID:-//Visit Marlborough - ECPv6.15.20//NONSGML v1.0//EN
CALSCALE:GREGORIAN
METHOD:PUBLISH
X-WR-CALNAME:Visit Marlborough
X-ORIGINAL-URL:https://visit-marlborough.com
X-WR-CALDESC:Events for Visit Marlborough
REFRESH-INTERVAL;VALUE=DURATION:PT1H
X-Robots-Tag:noindex
X-PUBLISHED-TTL:PT1H
BEGIN:VTIMEZONE
TZID:America/New_York
BEGIN:DAYLIGHT
TZOFFSETFROM:-0500
TZOFFSETTO:-0400
TZNAME:EDT
DTSTART:20210314T070000
END:DAYLIGHT
BEGIN:STANDARD
TZOFFSETFROM:-0400
TZOFFSETTO:-0500
TZNAME:EST
DTSTART:20211107T060000
END:STANDARD
BEGIN:DAYLIGHT
TZOFFSETFROM:-0500
TZOFFSETTO:-0400
TZNAME:EDT
DTSTART:20220313T070000
END:DAYLIGHT
BEGIN:STANDARD
TZOFFSETFROM:-0400
TZOFFSETTO:-0500
TZNAME:EST
DTSTART:20221106T060000
END:STANDARD
BEGIN:DAYLIGHT
TZOFFSETFROM:-0500
TZOFFSETTO:-0400
TZNAME:EDT
DTSTART:20230312T070000
END:DAYLIGHT
BEGIN:STANDARD
TZOFFSETFROM:-0400
TZOFFSETTO:-0500
TZNAME:EST
DTSTART:20231105T060000
END:STANDARD
END:VTIMEZONE
BEGIN:VEVENT
DTSTART;VALUE=DATE:20220610
DTEND;VALUE=DATE:20220611
DTSTAMP:20260425T062147
CREATED:20220531T170328Z
LAST-MODIFIED:20220531T170328Z
UID:208603-1654819200-1654905599@visit-marlborough.com
SUMMARY:Splash Pads Opening Day
DESCRIPTION:Ghiloni Park: 239 Concord Road \nStevens Park: 10 Martin Street
URL:https://visit-marlborough.com/event/splash-pads-opening-day/
LOCATION:MA
END:VEVENT
BEGIN:VEVENT
DTSTART;VALUE=DATE:20220610
DTEND;VALUE=DATE:20220611
DTSTAMP:20260425T062147
CREATED:20220531T170328Z
LAST-MODIFIED:20220531T170328Z
UID:210937-1654819200-1654905599@visit-marlborough.com
SUMMARY:Splash Pads Opening Day
DESCRIPTION:Ghiloni Park: 239 Concord Road \nStevens Park: 10 Martin Street
URL:https://visit-marlborough.com/event/splash-pads-opening-day-2/
LOCATION:MA
END:VEVENT
BEGIN:VEVENT
DTSTART;VALUE=DATE:20220613
DTEND;VALUE=DATE:20220614
DTSTAMP:20260425T062147
CREATED:20220531T165140Z
LAST-MODIFIED:20220531T165948Z
UID:208598-1655078400-1655164799@visit-marlborough.com
SUMMARY:Memorial Beach Opening Day
DESCRIPTION:Opening Day!!
URL:https://visit-marlborough.com/event/memorial-beach-opening-day/
LOCATION:Memorial Beach\, Hosmer Street\, Marlborough\, MA\, United States
END:VEVENT
BEGIN:VEVENT
DTSTART;VALUE=DATE:20220613
DTEND;VALUE=DATE:20220614
DTSTAMP:20260425T062147
CREATED:20220531T165140Z
LAST-MODIFIED:20220531T165140Z
UID:210935-1655078400-1655164799@visit-marlborough.com
SUMMARY:Memorial Beach Opening Day
DESCRIPTION:Opening Day!!
URL:https://visit-marlborough.com/event/memorial-beach-opening-day-2/
LOCATION:Memorial Beach\, Hosmer Street\, Marlborough\, MA\, United States
END:VEVENT
BEGIN:VEVENT
DTSTART;VALUE=DATE:20220622
DTEND;VALUE=DATE:20220623
DTSTAMP:20260425T062147
CREATED:20220531T165620Z
LAST-MODIFIED:20220531T165851Z
UID:208601-1655856000-1655942399@visit-marlborough.com
SUMMARY:Wading Pools Opening Day
DESCRIPTION:Wade Park: 157 Orchard Street \nFarrel: 85 Sawin Street
URL:https://visit-marlborough.com/event/wading-pools-opening-day/
LOCATION:MA
END:VEVENT
BEGIN:VEVENT
DTSTART;VALUE=DATE:20220622
DTEND;VALUE=DATE:20220623
DTSTAMP:20260425T062147
CREATED:20220531T165620Z
LAST-MODIFIED:20220531T165620Z
UID:210936-1655856000-1655942399@visit-marlborough.com
SUMMARY:Wading Pools Opening Day
DESCRIPTION:Wade Park: 157 Orchard Street \nFarrel: 85 Sawin Street
URL:https://visit-marlborough.com/event/wading-pools-opening-day-2/
LOCATION:MA
END:VEVENT
END:VCALENDAR