BEGIN:VCALENDAR
VERSION:2.0
PRODID:-//Visit Marlborough - ECPv6.15.20//NONSGML v1.0//EN
CALSCALE:GREGORIAN
METHOD:PUBLISH
X-WR-CALNAME:Visit Marlborough
X-ORIGINAL-URL:https://visit-marlborough.com
X-WR-CALDESC:Events for Visit Marlborough
REFRESH-INTERVAL;VALUE=DURATION:PT1H
X-Robots-Tag:noindex
X-PUBLISHED-TTL:PT1H
BEGIN:VTIMEZONE
TZID:America/New_York
BEGIN:DAYLIGHT
TZOFFSETFROM:-0500
TZOFFSETTO:-0400
TZNAME:EDT
DTSTART:20230312T070000
END:DAYLIGHT
BEGIN:STANDARD
TZOFFSETFROM:-0400
TZOFFSETTO:-0500
TZNAME:EST
DTSTART:20231105T060000
END:STANDARD
BEGIN:DAYLIGHT
TZOFFSETFROM:-0500
TZOFFSETTO:-0400
TZNAME:EDT
DTSTART:20240310T070000
END:DAYLIGHT
BEGIN:STANDARD
TZOFFSETFROM:-0400
TZOFFSETTO:-0500
TZNAME:EST
DTSTART:20241103T060000
END:STANDARD
BEGIN:DAYLIGHT
TZOFFSETFROM:-0500
TZOFFSETTO:-0400
TZNAME:EDT
DTSTART:20250309T070000
END:DAYLIGHT
BEGIN:STANDARD
TZOFFSETFROM:-0400
TZOFFSETTO:-0500
TZNAME:EST
DTSTART:20251102T060000
END:STANDARD
END:VTIMEZONE
BEGIN:VEVENT
DTSTART;TZID=America/New_York:20241201T100000
DTEND;TZID=America/New_York:20241201T150000
DTSTAMP:20260422T112651
CREATED:20241015T201337Z
LAST-MODIFIED:20241015T204231Z
UID:215362-1733047200-1733065200@visit-marlborough.com
SUMMARY:The Annual Gurley Thanksgiving Sunday Antique Show & Sale
DESCRIPTION:Featuring 75+ Quality Dealers offering 18th and 19th Century Antiques\, 18th and 19th Century Furniture\, Paintings\, Ceramics\, Toys\, Folk art\, Nautical and Jewelry.
URL:https://visit-marlborough.com/event/the-annual-gurley-thanksgiving-sunday-antique-show-sale-3/
LOCATION:Best Western Royal Plaza\, 181 Boston Post Road West\, Marlborough\, MA\, 01752\, United States
ORGANIZER;CN="Gurley Antiques":MAILTO:joshua@gurleyauctions.com
END:VEVENT
BEGIN:VEVENT
DTSTART;TZID=America/New_York:20241207T100000
DTEND;TZID=America/New_York:20241207T160000
DTSTAMP:20260422T112651
CREATED:20241015T194540Z
LAST-MODIFIED:20241015T194540Z
UID:215346-1733565600-1733587200@visit-marlborough.com
SUMMARY:New England Model Train Expo
DESCRIPTION:Annual HUB Division Model Train Show at the Royal Plaza Hotel. A family friendly event! New Englands largest holiday train show! \n$12 per adult – two day admission\, FREE for Children under 12\, FREE for Scouts of any age in uniform. *Discount tickets can be purchased in advance through the HUB Division website.
URL:https://visit-marlborough.com/event/new-england-model-train-expo-4/
LOCATION:Best Western Royal Plaza\, 181 Boston Post Road West\, Marlborough\, MA\, 01752\, United States
END:VEVENT
BEGIN:VEVENT
DTSTART;TZID=America/New_York:20241207T130000
DTEND;TZID=America/New_York:20241207T150000
DTSTAMP:20260422T112651
CREATED:20241101T184659Z
LAST-MODIFIED:20241101T184659Z
UID:215439-1733576400-1733583600@visit-marlborough.com
SUMMARY:Meet & Greet with Pat Patriot and Patriots Cheerleaders
DESCRIPTION:Get ready for an exciting afternoon with Pat Patriot and the Patriots Cheerleaders at Apex! Bring your friends and family and join us for a fun-filled event featuring meet-and-greets and photo ops!
URL:https://visit-marlborough.com/event/meet-greet-with-pat-patriot-and-patriots-cheerleaders/
LOCATION:Apex Entertainment Center\, 21 Apex Drive\, Marlborough\, MA\, 01752\, United States
ORGANIZER;CN="Apex Entertainment":MAILTO:infoma@apexentertainment.com
END:VEVENT
BEGIN:VEVENT
DTSTART;TZID=America/New_York:20241208T100000
DTEND;TZID=America/New_York:20241208T140000
DTSTAMP:20260422T112651
CREATED:20240827T200535Z
LAST-MODIFIED:20240827T200535Z
UID:215113-1733652000-1733666400@visit-marlborough.com
SUMMARY:Holiday Market @ Lost Shoe
DESCRIPTION:Grab a brew & shop local vendors this holiday season! \n 
URL:https://visit-marlborough.com/event/holiday-market-lost-shoe-3/
LOCATION:Lost Shoe Brewing & Roasting Co.\, 19 Weed Street\, Marlborough\, MA\, 01752\, United States
END:VEVENT
BEGIN:VEVENT
DTSTART;TZID=America/New_York:20241208T100000
DTEND;TZID=America/New_York:20241208T160000
DTSTAMP:20260422T112651
CREATED:20241015T194623Z
LAST-MODIFIED:20241015T194623Z
UID:215349-1733652000-1733673600@visit-marlborough.com
SUMMARY:New England Model Train Expo
DESCRIPTION:Annual HUB Division Model Train Show at the Royal Plaza Hotel. A family friendly event! New Englands largest holiday train show! \n$12 per adult – two day admission\, FREE for Children under 12\, FREE for Scouts of any age in uniform. *Discount tickets can be purchased in advance through the HUB Division website.
URL:https://visit-marlborough.com/event/new-england-model-train-expo-5/
LOCATION:Best Western Royal Plaza\, 181 Boston Post Road West\, Marlborough\, MA\, 01752\, United States
END:VEVENT
BEGIN:VEVENT
DTSTART;TZID=America/New_York:20241213T210000
DTEND;TZID=America/New_York:20241213T230000
DTSTAMP:20260422T112651
CREATED:20241211T163158Z
LAST-MODIFIED:20241211T163158Z
UID:215552-1734123600-1734130800@visit-marlborough.com
SUMMARY:Live Music @ Dante’s at Firefly's BBQ!
DESCRIPTION:Black Suede \nMarlborough’s Own Hometown Hard Rock Band!
URL:https://visit-marlborough.com/event/live-music-dantes-at-fireflys-bbq-114/
LOCATION:Firefly’s BBQ\, 350 East Main Street\, Marlborough\, MA\, 01752\, United States
END:VEVENT
BEGIN:VEVENT
DTSTART;TZID=America/New_York:20241214T210000
DTEND;TZID=America/New_York:20241214T230000
DTSTAMP:20260422T112651
CREATED:20241211T163315Z
LAST-MODIFIED:20241211T163315Z
UID:215554-1734210000-1734217200@visit-marlborough.com
SUMMARY:Live Music @ Dante’s at Firefly's BBQ!
DESCRIPTION:Starr Faithful \nBoston’s award-winning trio rocks the stage with exquisite songwriting and brilliant showmanship!
URL:https://visit-marlborough.com/event/live-music-dantes-at-fireflys-bbq-115/
LOCATION:Firefly’s BBQ\, 350 East Main Street\, Marlborough\, MA\, 01752\, United States
END:VEVENT
BEGIN:VEVENT
DTSTART;TZID=America/New_York:20241219T090000
DTEND;TZID=America/New_York:20241219T120000
DTSTAMP:20260422T112651
CREATED:20241216T210301Z
LAST-MODIFIED:20241216T210301Z
UID:215593-1734598800-1734609600@visit-marlborough.com
SUMMARY:Beats & Brews with JP @ Lost Shoe
DESCRIPTION:Enjoy a beverage while listening to owner/brewer JP spin some beats. The perfect way to get the weekend ignited!
URL:https://visit-marlborough.com/event/beats-brews-with-jp-lost-shoe-28/
LOCATION:Lost Shoe Brewing & Roasting Co.\, 19 Weed Street\, Marlborough\, MA\, 01752\, United States
END:VEVENT
BEGIN:VEVENT
DTSTART;TZID=America/New_York:20241220T210000
DTEND;TZID=America/New_York:20241220T230000
DTSTAMP:20260422T112651
CREATED:20241211T163612Z
LAST-MODIFIED:20241211T163612Z
UID:215556-1734728400-1734735600@visit-marlborough.com
SUMMARY:Live Music @ Dante’s at Firefly's BBQ!
DESCRIPTION:Crossroad \nOne of Greater Boston’s hottest fun-time party bands\, Crossroad performs Classic Rock covers that speak to fans across the musical spectrum.
URL:https://visit-marlborough.com/event/live-music-dantes-at-fireflys-bbq-116/
LOCATION:Firefly’s BBQ\, 350 East Main Street\, Marlborough\, MA\, 01752\, United States
END:VEVENT
BEGIN:VEVENT
DTSTART;TZID=America/New_York:20241221T210000
DTEND;TZID=America/New_York:20241221T230000
DTSTAMP:20260422T112651
CREATED:20241211T163733Z
LAST-MODIFIED:20241211T163733Z
UID:215558-1734814800-1734822000@visit-marlborough.com
SUMMARY:Live Music @ Dante’s at Firefly's BBQ!
DESCRIPTION:Brat Pack \nThe Brat Pack delivers the sights\, sounds and best-of-times feelings of the 80s\, every show\, every song… Let’s Dance!
URL:https://visit-marlborough.com/event/live-music-dantes-at-fireflys-bbq-117/
LOCATION:Firefly’s BBQ\, 350 East Main Street\, Marlborough\, MA\, 01752\, United States
END:VEVENT
BEGIN:VEVENT
DTSTART;TZID=America/New_York:20241226T090000
DTEND;TZID=America/New_York:20241226T120000
DTSTAMP:20260422T112651
CREATED:20241216T210450Z
LAST-MODIFIED:20241216T210450Z
UID:215595-1735203600-1735214400@visit-marlborough.com
SUMMARY:Beats & Brews with JP @ Lost Shoe
DESCRIPTION:Enjoy a beverage while listening to owner/brewer JP spin some beats. The perfect way to get the weekend ignited!
URL:https://visit-marlborough.com/event/beats-brews-with-jp-lost-shoe-29/
LOCATION:Lost Shoe Brewing & Roasting Co.\, 19 Weed Street\, Marlborough\, MA\, 01752\, United States
END:VEVENT
BEGIN:VEVENT
DTSTART;TZID=America/New_York:20241227T210000
DTEND;TZID=America/New_York:20241227T230000
DTSTAMP:20260422T112651
CREATED:20241211T164434Z
LAST-MODIFIED:20241211T164434Z
UID:215560-1735333200-1735340400@visit-marlborough.com
SUMMARY:Live Music @ Dante’s at Firefly's BBQ!
DESCRIPTION:The Gary Backstrom Band \nA Boston-based band that blends Soul\, R&B\, Funk\, Rock and Latin grooves into its own unique sound\, led by guitarist and front man Gary Backstrom\, who has been termed “one of the most underrated\, fluid\, and melodic players in the Northeast.”
URL:https://visit-marlborough.com/event/live-music-dantes-at-fireflys-bbq-118/
LOCATION:Firefly’s BBQ\, 350 East Main Street\, Marlborough\, MA\, 01752\, United States
END:VEVENT
BEGIN:VEVENT
DTSTART;TZID=America/New_York:20241228T210000
DTEND;TZID=America/New_York:20241228T230000
DTSTAMP:20260422T112651
CREATED:20241211T164729Z
LAST-MODIFIED:20241211T164729Z
UID:215562-1735419600-1735426800@visit-marlborough.com
SUMMARY:Live Music @ Dante’s at Firefly's BBQ!
DESCRIPTION:The Ben Cote Band \nPyrotechnic guitars\, big heavy drums\, and the Rock ’n Roll lifestyle! Rock guitarist and recording and performing artist Ben Cote is also employed full-time by the Guitar Department at Berklee College of Music. The Ben Cote Band has released five original albums!
URL:https://visit-marlborough.com/event/live-music-dantes-at-fireflys-bbq-119/
LOCATION:Firefly’s BBQ\, 350 East Main Street\, Marlborough\, MA\, 01752\, United States
END:VEVENT
BEGIN:VEVENT
DTSTART;TZID=America/New_York:20241231T210000
DTEND;TZID=America/New_York:20241231T235900
DTSTAMP:20260422T112651
CREATED:20241211T165009Z
LAST-MODIFIED:20241211T165009Z
UID:215564-1735678800-1735689540@visit-marlborough.com
SUMMARY:Live Music @ Dante’s at Firefly's BBQ!
DESCRIPTION:New Year’s Eve: Party with Disco Lemonade! \nDance all night to your favorite hits from the 90s and beyond\, with Disco Lemonade\, the freshest party band in New England! Learn more… \n   … Then ring in the New Year with party favors and a champagne toast at midnight (included in cover charge)!
URL:https://visit-marlborough.com/event/live-music-dantes-at-fireflys-bbq-120/
LOCATION:Firefly’s BBQ\, 350 East Main Street\, Marlborough\, MA\, 01752\, United States
END:VEVENT
END:VCALENDAR