BEGIN:VCALENDAR
VERSION:2.0
PRODID:-//Visit Marlborough - ECPv6.15.20//NONSGML v1.0//EN
CALSCALE:GREGORIAN
METHOD:PUBLISH
X-ORIGINAL-URL:https://visit-marlborough.com
X-WR-CALDESC:Events for Visit Marlborough
REFRESH-INTERVAL;VALUE=DURATION:PT1H
X-Robots-Tag:noindex
X-PUBLISHED-TTL:PT1H
BEGIN:VTIMEZONE
TZID:America/New_York
BEGIN:DAYLIGHT
TZOFFSETFROM:-0500
TZOFFSETTO:-0400
TZNAME:EDT
DTSTART:20220313T070000
END:DAYLIGHT
BEGIN:STANDARD
TZOFFSETFROM:-0400
TZOFFSETTO:-0500
TZNAME:EST
DTSTART:20221106T060000
END:STANDARD
BEGIN:DAYLIGHT
TZOFFSETFROM:-0500
TZOFFSETTO:-0400
TZNAME:EDT
DTSTART:20230312T070000
END:DAYLIGHT
BEGIN:STANDARD
TZOFFSETFROM:-0400
TZOFFSETTO:-0500
TZNAME:EST
DTSTART:20231105T060000
END:STANDARD
BEGIN:DAYLIGHT
TZOFFSETFROM:-0500
TZOFFSETTO:-0400
TZNAME:EDT
DTSTART:20240310T070000
END:DAYLIGHT
BEGIN:STANDARD
TZOFFSETFROM:-0400
TZOFFSETTO:-0500
TZNAME:EST
DTSTART:20241103T060000
END:STANDARD
END:VTIMEZONE
BEGIN:VEVENT
DTSTART;TZID=America/New_York:20230722T170000
DTEND;TZID=America/New_York:20230722T220000
DTSTAMP:20260419T091233
CREATED:20230706T154434Z
LAST-MODIFIED:20230706T154434Z
UID:212869-1690045200-1690063200@visit-marlborough.com
SUMMARY:90's Night @ Lost Shoe
DESCRIPTION:DJ Sprino\, Cousins Maine Lobster Food Truck & The Crafted Cookie Company \nYou asked\, we listened.. 90s Night Round 2 is happening on July 22nd!\n  \nDJ Sprino\, Cousins Maine Lobster and The Crafted Cookie Company are helping us bring back the fun! Grab your best throwback threads and come to the taproom for a night of good music\, food & nostalgia inspired specials.\n  \n*Event will be outside\, weather permitting!
URL:https://visit-marlborough.com/event/90s-night-lost-shoe/
LOCATION:Lost Shoe Brewing & Roasting Co.\, 19 Weed Street\, Marlborough\, MA\, 01752\, United States
END:VEVENT
BEGIN:VEVENT
DTSTART;TZID=America/New_York:20230722T190000
DTEND;TZID=America/New_York:20230722T220000
DTSTAMP:20260419T091233
CREATED:20230705T181554Z
LAST-MODIFIED:20230705T181554Z
UID:212791-1690052400-1690063200@visit-marlborough.com
SUMMARY:Live Music @ Tackle Box
DESCRIPTION:Live Music with Bacchus!
URL:https://visit-marlborough.com/event/live-music-tackle-box-128/
LOCATION:Tackle Box Brewing Company\, 416 Boston Post Road East\, Marlborough\, MA\, 01752\, United States
END:VEVENT
END:VCALENDAR