BEGIN:VCALENDAR
VERSION:2.0
PRODID:-//Visit Marlborough - ECPv6.15.20//NONSGML v1.0//EN
CALSCALE:GREGORIAN
METHOD:PUBLISH
X-WR-CALNAME:Visit Marlborough
X-ORIGINAL-URL:https://visit-marlborough.com
X-WR-CALDESC:Events for Visit Marlborough
REFRESH-INTERVAL;VALUE=DURATION:PT1H
X-Robots-Tag:noindex
X-PUBLISHED-TTL:PT1H
BEGIN:VTIMEZONE
TZID:America/New_York
BEGIN:DAYLIGHT
TZOFFSETFROM:-0500
TZOFFSETTO:-0400
TZNAME:EDT
DTSTART:20210314T070000
END:DAYLIGHT
BEGIN:STANDARD
TZOFFSETFROM:-0400
TZOFFSETTO:-0500
TZNAME:EST
DTSTART:20211107T060000
END:STANDARD
BEGIN:DAYLIGHT
TZOFFSETFROM:-0500
TZOFFSETTO:-0400
TZNAME:EDT
DTSTART:20220313T070000
END:DAYLIGHT
BEGIN:STANDARD
TZOFFSETFROM:-0400
TZOFFSETTO:-0500
TZNAME:EST
DTSTART:20221106T060000
END:STANDARD
BEGIN:DAYLIGHT
TZOFFSETFROM:-0500
TZOFFSETTO:-0400
TZNAME:EDT
DTSTART:20230312T070000
END:DAYLIGHT
BEGIN:STANDARD
TZOFFSETFROM:-0400
TZOFFSETTO:-0500
TZNAME:EST
DTSTART:20231105T060000
END:STANDARD
END:VTIMEZONE
BEGIN:VEVENT
DTSTART;TZID=America/New_York:20220521T170000
DTEND;TZID=America/New_York:20220521T200000
DTSTAMP:20260424T073204
CREATED:20220413T151143Z
LAST-MODIFIED:20220413T151437Z
UID:208396-1653152400-1653163200@visit-marlborough.com
SUMMARY:Jazz Night @ Fish!
DESCRIPTION:Jazz Night at Fish featuring Bring Back Pluto
URL:https://visit-marlborough.com/event/jazz-night-every-saturday-fish-3/
LOCATION:Fish Restaurant & Wine Bar\, 29 South Bolton Street\, Marlborough\, 01749\, United States
END:VEVENT
BEGIN:VEVENT
DTSTART;TZID=America/New_York:20220521T170000
DTEND;TZID=America/New_York:20220521T200000
DTSTAMP:20260424T073204
CREATED:20220413T151143Z
LAST-MODIFIED:20220413T151143Z
UID:210851-1653152400-1653163200@visit-marlborough.com
SUMMARY:Jazz Night @ Fish!
DESCRIPTION:Jazz Night at Fish featuring Bring Back Pluto
URL:https://visit-marlborough.com/event/jazz-night-every-saturday-fish-3-2/
LOCATION:Fish Restaurant & Wine Bar\, 29 South Bolton Street\, Marlborough\, 01749\, United States
END:VEVENT
BEGIN:VEVENT
DTSTART;TZID=America/New_York:20220521T190000
DTEND;TZID=America/New_York:20220521T220000
DTSTAMP:20260424T073204
CREATED:20220503T145715Z
LAST-MODIFIED:20220503T145715Z
UID:208485-1653159600-1653170400@visit-marlborough.com
SUMMARY:Live Music @ Tackle Box
DESCRIPTION:Rize is performing at Tackle Box Brewing from 7-10pm!
URL:https://visit-marlborough.com/event/live-music-tackle-box-39/
LOCATION:Tackle Box Brewing Company\, 416 Boston Post Road East\, Marlborough\, MA\, 01752\, United States
END:VEVENT
BEGIN:VEVENT
DTSTART;TZID=America/New_York:20220521T190000
DTEND;TZID=America/New_York:20220521T220000
DTSTAMP:20260424T073204
CREATED:20220503T145715Z
LAST-MODIFIED:20220503T145715Z
UID:210890-1653159600-1653170400@visit-marlborough.com
SUMMARY:Live Music @ Tackle Box
DESCRIPTION:Rize is performing at Tackle Box Brewing from 7-10pm!
URL:https://visit-marlborough.com/event/live-music-tackle-box-39-2/
LOCATION:Tackle Box Brewing Company\, 416 Boston Post Road East\, Marlborough\, MA\, 01752\, United States
END:VEVENT
END:VCALENDAR