BEGIN:VCALENDAR
VERSION:2.0
PRODID:-//Visit Marlborough - ECPv6.15.20//NONSGML v1.0//EN
CALSCALE:GREGORIAN
METHOD:PUBLISH
X-WR-CALNAME:Visit Marlborough
X-ORIGINAL-URL:https://visit-marlborough.com
X-WR-CALDESC:Events for Visit Marlborough
REFRESH-INTERVAL;VALUE=DURATION:PT1H
X-Robots-Tag:noindex
X-PUBLISHED-TTL:PT1H
BEGIN:VTIMEZONE
TZID:America/New_York
BEGIN:DAYLIGHT
TZOFFSETFROM:-0500
TZOFFSETTO:-0400
TZNAME:EDT
DTSTART:20220313T070000
END:DAYLIGHT
BEGIN:STANDARD
TZOFFSETFROM:-0400
TZOFFSETTO:-0500
TZNAME:EST
DTSTART:20221106T060000
END:STANDARD
BEGIN:DAYLIGHT
TZOFFSETFROM:-0500
TZOFFSETTO:-0400
TZNAME:EDT
DTSTART:20230312T070000
END:DAYLIGHT
BEGIN:STANDARD
TZOFFSETFROM:-0400
TZOFFSETTO:-0500
TZNAME:EST
DTSTART:20231105T060000
END:STANDARD
BEGIN:DAYLIGHT
TZOFFSETFROM:-0500
TZOFFSETTO:-0400
TZNAME:EDT
DTSTART:20240310T070000
END:DAYLIGHT
BEGIN:STANDARD
TZOFFSETFROM:-0400
TZOFFSETTO:-0500
TZNAME:EST
DTSTART:20241103T060000
END:STANDARD
END:VTIMEZONE
BEGIN:VEVENT
DTSTART;TZID=America/New_York:20230401T190000
DTEND;TZID=America/New_York:20230401T220000
DTSTAMP:20260419T105012
CREATED:20230330T184537Z
LAST-MODIFIED:20230330T184537Z
UID:212310-1680375600-1680386400@visit-marlborough.com
SUMMARY:Live Music @ Tackle Box
DESCRIPTION:Live Music with Til Dawn!
URL:https://visit-marlborough.com/event/live-music-tackle-box-108/
LOCATION:Tackle Box Brewing Company\, 416 Boston Post Road East\, Marlborough\, MA\, 01752\, United States
END:VEVENT
BEGIN:VEVENT
DTSTART;TZID=America/New_York:20230401T210000
DTEND;TZID=America/New_York:20230401T230000
DTSTAMP:20260419T105012
CREATED:20230302T205217Z
LAST-MODIFIED:20230302T205217Z
UID:212228-1680382800-1680390000@visit-marlborough.com
SUMMARY:Live Music @ Dante’s at Firefly's BBQ!
DESCRIPTION:Ghost Train – Ghost Train has helped define the New England Rock and Blues music scene\, playing all your favorite Blues/Rock anthems\, as well as their hard-hitting originals! Band members have opened for and toured with national and international acts.
URL:https://visit-marlborough.com/event/live-music-dantes-at-fireflys-bbq-42/
LOCATION:Firefly’s BBQ\, 350 East Main Street\, Marlborough\, MA\, 01752\, United States
END:VEVENT
BEGIN:VEVENT
DTSTART;TZID=America/New_York:20230402T113000
DTEND;TZID=America/New_York:20230402T140000
DTSTAMP:20260419T105012
CREATED:20230330T184704Z
LAST-MODIFIED:20230330T184704Z
UID:212312-1680435000-1680444000@visit-marlborough.com
SUMMARY:Live Music @ Tackle Box
DESCRIPTION:Live Music with Greg Schuler!
URL:https://visit-marlborough.com/event/live-music-tackle-box-109/
LOCATION:Tackle Box Brewing Company\, 416 Boston Post Road East\, Marlborough\, MA\, 01752\, United States
END:VEVENT
BEGIN:VEVENT
DTSTART;TZID=America/New_York:20230405T183000
DTEND;TZID=America/New_York:20230405T200000
DTSTAMP:20260419T105012
CREATED:20230330T192619Z
LAST-MODIFIED:20230330T192619Z
UID:212330-1680719400-1680724800@visit-marlborough.com
SUMMARY:Sip & Script @ Tackle Box Brewing Company
DESCRIPTION:Join Sip & Script® for a Night of Learning Calligraphy! Join us at Tackle Box Brewing in Marlborough\, MA for pretty lettering! Whether you’re a stationery nerd\, DIY Bride-to-be\, or just a crafty individual\, in this workshop you’ll be learning an introduction to modern calligraphy with a pointed dip pen and ink….
URL:https://visit-marlborough.com/event/sip-script-tackle-box-brewing-company-5/
LOCATION:Tackle Box Brewing Company\, 416 Boston Post Road East\, Marlborough\, MA\, 01752\, United States
END:VEVENT
BEGIN:VEVENT
DTSTART;TZID=America/New_York:20230405T183000
DTEND;TZID=America/New_York:20230405T200000
DTSTAMP:20260419T105012
CREATED:20230705T183623Z
LAST-MODIFIED:20230705T183623Z
UID:212797-1680719400-1680724800@visit-marlborough.com
SUMMARY:Sip & Script @ Tackle Box Brewing Company
DESCRIPTION:Join Sip & Script® for a Night of Learning Calligraphy! Join us at Tackle Box Brewing in Marlborough\, MA for pretty lettering! Whether you’re a stationery nerd\, DIY Bride-to-be\, or just a crafty individual\, in this workshop you’ll be learning an introduction to modern calligraphy with a pointed dip pen and ink….
URL:https://visit-marlborough.com/event/sip-script-tackle-box-brewing-company-6/
LOCATION:Tackle Box Brewing Company\, 416 Boston Post Road East\, Marlborough\, MA\, 01752\, United States
END:VEVENT
BEGIN:VEVENT
DTSTART;TZID=America/New_York:20230406T190000
DTEND;TZID=America/New_York:20230406T220000
DTSTAMP:20260419T105012
CREATED:20230209T180832Z
LAST-MODIFIED:20230209T180832Z
UID:212102-1680807600-1680818400@visit-marlborough.com
SUMMARY:Live Music @ Kennedy's Pub
DESCRIPTION:Come and enjoy the food\, drinks and music with Jodee Frawlee! \n 
URL:https://visit-marlborough.com/event/live-music-kennedys-pub-32/
LOCATION:Kennedy’s Pub\, 247 Maple Street\, Marlborough\, MA\, 01752\, United States
END:VEVENT
BEGIN:VEVENT
DTSTART;TZID=America/New_York:20230406T190000
DTEND;TZID=America/New_York:20230406T220000
DTSTAMP:20260419T105012
CREATED:20230330T193540Z
LAST-MODIFIED:20230330T193540Z
UID:212343-1680807600-1680818400@visit-marlborough.com
SUMMARY:Karaoke Night @ Tackle Box
DESCRIPTION:Karaoke Night!
URL:https://visit-marlborough.com/event/karaoke-night-tackle-box-25/
LOCATION:Tackle Box Brewing Company\, 416 Boston Post Road East\, Marlborough\, MA\, 01752\, United States
END:VEVENT
BEGIN:VEVENT
DTSTART;TZID=America/New_York:20230407T190000
DTEND;TZID=America/New_York:20230407T220000
DTSTAMP:20260419T105012
CREATED:20230330T184851Z
LAST-MODIFIED:20230330T184851Z
UID:212314-1680894000-1680904800@visit-marlborough.com
SUMMARY:Live Music @ Tackle Box
DESCRIPTION:Live Music with John Demers!
URL:https://visit-marlborough.com/event/live-music-tackle-box-110/
LOCATION:Tackle Box Brewing Company\, 416 Boston Post Road East\, Marlborough\, MA\, 01752\, United States
END:VEVENT
BEGIN:VEVENT
DTSTART;TZID=America/New_York:20230407T210000
DTEND;TZID=America/New_York:20230407T230000
DTSTAMP:20260419T105012
CREATED:20230302T205459Z
LAST-MODIFIED:20230302T205459Z
UID:212230-1680901200-1680908400@visit-marlborough.com
SUMMARY:Live Music @ Dante’s at Firefly's BBQ!
DESCRIPTION:Drive South – This 5-piece Classic Rock Band prides itself on music that’s not “overplayed.” Performing songs by Guns N’ Roses\, 4 Non Blondes\, Boston\, Journey\, Tom Petty\, Green Day and many more\, the dynamic vocals of Stevie Hale will absolutely blow you away!
URL:https://visit-marlborough.com/event/live-music-dantes-at-fireflys-bbq-43/
LOCATION:Firefly’s BBQ\, 350 East Main Street\, Marlborough\, MA\, 01752\, United States
END:VEVENT
BEGIN:VEVENT
DTSTART;TZID=America/New_York:20230408T190000
DTEND;TZID=America/New_York:20230408T220000
DTSTAMP:20260419T105012
CREATED:20230330T184954Z
LAST-MODIFIED:20230330T184954Z
UID:212316-1680980400-1680991200@visit-marlborough.com
SUMMARY:Live Music @ Tackle Box
DESCRIPTION:Live Music with Crossing Kelley!
URL:https://visit-marlborough.com/event/live-music-tackle-box-111/
LOCATION:Tackle Box Brewing Company\, 416 Boston Post Road East\, Marlborough\, MA\, 01752\, United States
END:VEVENT
BEGIN:VEVENT
DTSTART;TZID=America/New_York:20230408T210000
DTEND;TZID=America/New_York:20230408T230000
DTSTAMP:20260419T105012
CREATED:20230302T205906Z
LAST-MODIFIED:20230302T205906Z
UID:212232-1680987600-1680994800@visit-marlborough.com
SUMMARY:Live Music @ Dante’s at Firefly's BBQ!
DESCRIPTION:Playing Dead – Boston’s premier Grateful Dead Experience plays marathon sets featuring music and jams from the entire Grateful Dead catalog — a complex stew of Rock\, Blues\, Jazz\, Folk\, Bluegrass and more. Every show is unique\, featuring exciting improvisational jams.
URL:https://visit-marlborough.com/event/live-music-dantes-at-fireflys-bbq-44/
LOCATION:Firefly’s BBQ\, 350 East Main Street\, Marlborough\, MA\, 01752\, United States
END:VEVENT
BEGIN:VEVENT
DTSTART;TZID=America/New_York:20230413T190000
DTEND;TZID=America/New_York:20230413T220000
DTSTAMP:20260419T105012
CREATED:20230209T180926Z
LAST-MODIFIED:20230209T180926Z
UID:212104-1681412400-1681423200@visit-marlborough.com
SUMMARY:Live Music @ Kennedy's Pub
DESCRIPTION:Come and enjoy the food\, drinks and music with Matt Zajac! \n 
URL:https://visit-marlborough.com/event/live-music-kennedys-pub-33/
LOCATION:Kennedy’s Pub\, 247 Maple Street\, Marlborough\, MA\, 01752\, United States
END:VEVENT
BEGIN:VEVENT
DTSTART;TZID=America/New_York:20230413T190000
DTEND;TZID=America/New_York:20230413T220000
DTSTAMP:20260419T105012
CREATED:20230330T194729Z
LAST-MODIFIED:20230330T194729Z
UID:212349-1681412400-1681423200@visit-marlborough.com
SUMMARY:Open Mic @ Tackle Box
DESCRIPTION:Open Mic Night!! Starting at 7 pm!
URL:https://visit-marlborough.com/event/open-mic-tackle-box-38/
LOCATION:Tackle Box Brewing Company\, 416 Boston Post Road East\, Marlborough\, MA\, 01752\, United States
END:VEVENT
BEGIN:VEVENT
DTSTART;TZID=America/New_York:20230414T180000
DTEND;TZID=America/New_York:20230414T200000
DTSTAMP:20260419T105012
CREATED:20230330T203142Z
LAST-MODIFIED:20230330T203227Z
UID:212359-1681495200-1681502400@visit-marlborough.com
SUMMARY:Father Daughter Dance
DESCRIPTION:Sponsored by the Marlborough Lions and the Mitrakas family. Young ladies ages 3-15 and their fathers\, uncles\, grandfathers\, or other special men in their lives are welcome to dance to music by DJ Victor\, enjoy refreshments\, and create special memories. Photos by Paul Smith and raffle prizes available for purchase. $7 per person with tickets purchased in advance at Bouvier Pharmacy\, Dairy Queen\, Main St. Cafe\, or Taqueria La Tapatia in Marlborough or $10 at the door.
URL:https://visit-marlborough.com/event/father-daughter-dance/
LOCATION:Best Western Royal Plaza\, 181 Boston Post Road West\, Marlborough\, MA\, 01752\, United States
END:VEVENT
BEGIN:VEVENT
DTSTART;TZID=America/New_York:20230414T210000
DTEND;TZID=America/New_York:20230414T230000
DTSTAMP:20260419T105012
CREATED:20230302T210023Z
LAST-MODIFIED:20230302T210023Z
UID:212234-1681506000-1681513200@visit-marlborough.com
SUMMARY:Live Music @ Dante’s at Firefly's BBQ!
DESCRIPTION:Carolyn Rae & The Rumors – Milford\, Mass.-based Carolyn Rae & The Rumors is an energetic 5-piece band guaranteed to have you singing along to all the songs you love from the 60s\, 70s\, 80s and beyond!
URL:https://visit-marlborough.com/event/live-music-dantes-at-fireflys-bbq-45/
LOCATION:Firefly’s BBQ\, 350 East Main Street\, Marlborough\, MA\, 01752\, United States
END:VEVENT
BEGIN:VEVENT
DTSTART;TZID=America/New_York:20230414T210000
DTEND;TZID=America/New_York:20230414T230000
DTSTAMP:20260419T105012
CREATED:20230330T195007Z
LAST-MODIFIED:20230330T195007Z
UID:212355-1681506000-1681513200@visit-marlborough.com
SUMMARY:Laughing Lure Comedy Night @ Tackle Box Brewing
DESCRIPTION:Laughing Lure Comedy night!
URL:https://visit-marlborough.com/event/laughing-lure-comedy-night-tackle-box-brewing-14/
LOCATION:Tackle Box Brewing Company\, 416 Boston Post Road East\, Marlborough\, MA\, 01752\, United States
END:VEVENT
BEGIN:VEVENT
DTSTART;TZID=America/New_York:20230415T190000
DTEND;TZID=America/New_York:20230415T220000
DTSTAMP:20260419T105012
CREATED:20230330T185206Z
LAST-MODIFIED:20230330T185206Z
UID:212318-1681585200-1681596000@visit-marlborough.com
SUMMARY:Live Music @ Tackle Box
DESCRIPTION:Live Music with Autumn Hollow!
URL:https://visit-marlborough.com/event/live-music-tackle-box-112/
LOCATION:Tackle Box Brewing Company\, 416 Boston Post Road East\, Marlborough\, MA\, 01752\, United States
END:VEVENT
BEGIN:VEVENT
DTSTART;TZID=America/New_York:20230415T210000
DTEND;TZID=America/New_York:20230415T230000
DTSTAMP:20260419T105012
CREATED:20230302T210234Z
LAST-MODIFIED:20230302T210234Z
UID:212236-1681592400-1681599600@visit-marlborough.com
SUMMARY:Live Music @ Dante’s at Firefly's BBQ!
DESCRIPTION:Way Up South – Way Up South tears up the New England music scene with a deep well of compelling originals\, stellar musicianship\, and an improvisational “Big Sky” sound that weaves in and out of Southern\, Blues\, Country\, Jazz and Americana Rock!
URL:https://visit-marlborough.com/event/live-music-dantes-at-fireflys-bbq-46/
LOCATION:Firefly’s BBQ\, 350 East Main Street\, Marlborough\, MA\, 01752\, United States
END:VEVENT
BEGIN:VEVENT
DTSTART;TZID=America/New_York:20230420T190000
DTEND;TZID=America/New_York:20230420T220000
DTSTAMP:20260419T105012
CREATED:20230209T181037Z
LAST-MODIFIED:20230209T181037Z
UID:212106-1682017200-1682028000@visit-marlborough.com
SUMMARY:Live Music @ Kennedy's Pub
DESCRIPTION:Come and enjoy the food\, drinks and music with J.P. Royer! \n 
URL:https://visit-marlborough.com/event/live-music-kennedys-pub-34/
LOCATION:Kennedy’s Pub\, 247 Maple Street\, Marlborough\, MA\, 01752\, United States
END:VEVENT
BEGIN:VEVENT
DTSTART;TZID=America/New_York:20230420T190000
DTEND;TZID=America/New_York:20230420T220000
DTSTAMP:20260419T105012
CREATED:20230330T194836Z
LAST-MODIFIED:20230330T194836Z
UID:212351-1682017200-1682028000@visit-marlborough.com
SUMMARY:Open Mic @ Tackle Box
DESCRIPTION:Open Mic Night!! Starting at 7 pm!
URL:https://visit-marlborough.com/event/open-mic-tackle-box-39/
LOCATION:Tackle Box Brewing Company\, 416 Boston Post Road East\, Marlborough\, MA\, 01752\, United States
END:VEVENT
BEGIN:VEVENT
DTSTART;TZID=America/New_York:20230421T180000
DTEND;TZID=America/New_York:20230421T210000
DTSTAMP:20260419T105012
CREATED:20230302T200753Z
LAST-MODIFIED:20230302T200753Z
UID:212193-1682100000-1682110800@visit-marlborough.com
SUMMARY:Live Music @ Chill Kitchen and Bar
DESCRIPTION:Rivers Between @ Chill Kitchen and Bar
URL:https://visit-marlborough.com/event/live-music-chill-kitchen-and-bar-2/
LOCATION:Chill Kitchen and Bar\, 416 Boston Post Road East\, Marlborough\, MA\, 01752\, United States
END:VEVENT
BEGIN:VEVENT
DTSTART;TZID=America/New_York:20230421T190000
DTEND;TZID=America/New_York:20230421T220000
DTSTAMP:20260419T105012
CREATED:20230302T210409Z
LAST-MODIFIED:20230302T210409Z
UID:212238-1682103600-1682114400@visit-marlborough.com
SUMMARY:Live Music @ Dante’s at Firefly's BBQ!
DESCRIPTION:Jared Hanrahan – This talented young singer/songwriter has a voice like an angel and the looks to match! Jared hails from right here in Marlborough\, MA and is rapidly gaining international fame. You may have seen him on American Idol\, at House of Blues\, singing the National Anthem at Gillette Stadium\, in NYC or Paris!
URL:https://visit-marlborough.com/event/live-music-dantes-at-fireflys-bbq-47/
LOCATION:Firefly’s BBQ\, 350 East Main Street\, Marlborough\, MA\, 01752\, United States
END:VEVENT
BEGIN:VEVENT
DTSTART;TZID=America/New_York:20230421T190000
DTEND;TZID=America/New_York:20230421T220000
DTSTAMP:20260419T105012
CREATED:20230330T185312Z
LAST-MODIFIED:20230330T185312Z
UID:212320-1682103600-1682114400@visit-marlborough.com
SUMMARY:Live Music @ Tackle Box
DESCRIPTION:Live Music with Quincy Lord!
URL:https://visit-marlborough.com/event/live-music-tackle-box-113/
LOCATION:Tackle Box Brewing Company\, 416 Boston Post Road East\, Marlborough\, MA\, 01752\, United States
END:VEVENT
BEGIN:VEVENT
DTSTART;TZID=America/New_York:20230421T210000
DTEND;TZID=America/New_York:20230421T235900
DTSTAMP:20260419T105012
CREATED:20230302T202951Z
LAST-MODIFIED:20230302T211206Z
UID:212202-1682110800-1682121540@visit-marlborough.com
SUMMARY:Live Music @ Bolton Street Tavern
DESCRIPTION:Four on the Floor performing your favorite hits from the past several decades!
URL:https://visit-marlborough.com/event/live-music-bolton-street-tavern-17/
LOCATION:Bolton Street Tavern\, 587 Bolton Street\, Marlborough\, MA\, 01752\, United States
END:VEVENT
BEGIN:VEVENT
DTSTART;TZID=America/New_York:20230422T190000
DTEND;TZID=America/New_York:20230422T220000
DTSTAMP:20260419T105012
CREATED:20230330T185419Z
LAST-MODIFIED:20230330T185419Z
UID:212322-1682190000-1682200800@visit-marlborough.com
SUMMARY:Live Music @ Tackle Box
DESCRIPTION:Live Music with Sonic Union!
URL:https://visit-marlborough.com/event/live-music-tackle-box-114/
LOCATION:Tackle Box Brewing Company\, 416 Boston Post Road East\, Marlborough\, MA\, 01752\, United States
END:VEVENT
BEGIN:VEVENT
DTSTART;TZID=America/New_York:20230422T210000
DTEND;TZID=America/New_York:20230422T230000
DTSTAMP:20260419T105012
CREATED:20230302T210543Z
LAST-MODIFIED:20230302T210543Z
UID:212240-1682197200-1682204400@visit-marlborough.com
SUMMARY:Live Music @ Dante’s at Firefly's BBQ!
DESCRIPTION:Rumour Hazit – This 6-piece band from the MetroWest area brings you classic Rock and Pop\, playing your favorite hits from Queen to Pink.
URL:https://visit-marlborough.com/event/live-music-dantes-at-fireflys-bbq-48/
LOCATION:Firefly’s BBQ\, 350 East Main Street\, Marlborough\, MA\, 01752\, United States
END:VEVENT
BEGIN:VEVENT
DTSTART;TZID=America/New_York:20230425T180000
DTEND;TZID=America/New_York:20230425T210000
DTSTAMP:20260419T105012
CREATED:20230314T153603Z
LAST-MODIFIED:20230314T153603Z
UID:212294-1682445600-1682456400@visit-marlborough.com
SUMMARY:Happy Birthday Chill!
DESCRIPTION:It’s their 7th birthday! Celebrate with them! Featuring The Dwayne Haggins Band playing from 6pm – 9pm. Complimentary appetizers & a guided wine tasting starting at 6pm!
URL:https://visit-marlborough.com/event/happy-birthday-chill/
LOCATION:Chill Kitchen and Bar\, 416 Boston Post Road East\, Marlborough\, MA\, 01752\, United States
END:VEVENT
BEGIN:VEVENT
DTSTART;TZID=America/New_York:20230427T190000
DTEND;TZID=America/New_York:20230427T220000
DTSTAMP:20260419T105012
CREATED:20230209T181125Z
LAST-MODIFIED:20230209T181125Z
UID:212108-1682622000-1682632800@visit-marlborough.com
SUMMARY:Live Music @ Kennedy's Pub
DESCRIPTION:Come and enjoy the food\, drinks and music with Jennifer Tefft! \n 
URL:https://visit-marlborough.com/event/live-music-kennedys-pub-35/
LOCATION:Kennedy’s Pub\, 247 Maple Street\, Marlborough\, MA\, 01752\, United States
END:VEVENT
BEGIN:VEVENT
DTSTART;TZID=America/New_York:20230427T190000
DTEND;TZID=America/New_York:20230427T220000
DTSTAMP:20260419T105012
CREATED:20230330T194910Z
LAST-MODIFIED:20230330T194910Z
UID:212353-1682622000-1682632800@visit-marlborough.com
SUMMARY:Open Mic @ Tackle Box
DESCRIPTION:Open Mic Night!! Starting at 7 pm!
URL:https://visit-marlborough.com/event/open-mic-tackle-box-40/
LOCATION:Tackle Box Brewing Company\, 416 Boston Post Road East\, Marlborough\, MA\, 01752\, United States
END:VEVENT
BEGIN:VEVENT
DTSTART;TZID=America/New_York:20230428T190000
DTEND;TZID=America/New_York:20230428T220000
DTSTAMP:20260419T105012
CREATED:20230330T185516Z
LAST-MODIFIED:20230330T185516Z
UID:212324-1682708400-1682719200@visit-marlborough.com
SUMMARY:Live Music @ Tackle Box
DESCRIPTION:Live Music with Bob Moon!
URL:https://visit-marlborough.com/event/live-music-tackle-box-115/
LOCATION:Tackle Box Brewing Company\, 416 Boston Post Road East\, Marlborough\, MA\, 01752\, United States
END:VEVENT
END:VCALENDAR