BEGIN:VCALENDAR
VERSION:2.0
PRODID:-//Visit Marlborough - ECPv6.15.20//NONSGML v1.0//EN
CALSCALE:GREGORIAN
METHOD:PUBLISH
X-ORIGINAL-URL:https://visit-marlborough.com
X-WR-CALDESC:Events for Visit Marlborough
REFRESH-INTERVAL;VALUE=DURATION:PT1H
X-Robots-Tag:noindex
X-PUBLISHED-TTL:PT1H
BEGIN:VTIMEZONE
TZID:America/New_York
BEGIN:DAYLIGHT
TZOFFSETFROM:-0500
TZOFFSETTO:-0400
TZNAME:EDT
DTSTART:20220313T070000
END:DAYLIGHT
BEGIN:STANDARD
TZOFFSETFROM:-0400
TZOFFSETTO:-0500
TZNAME:EST
DTSTART:20221106T060000
END:STANDARD
BEGIN:DAYLIGHT
TZOFFSETFROM:-0500
TZOFFSETTO:-0400
TZNAME:EDT
DTSTART:20230312T070000
END:DAYLIGHT
BEGIN:STANDARD
TZOFFSETFROM:-0400
TZOFFSETTO:-0500
TZNAME:EST
DTSTART:20231105T060000
END:STANDARD
BEGIN:DAYLIGHT
TZOFFSETFROM:-0500
TZOFFSETTO:-0400
TZNAME:EDT
DTSTART:20240310T070000
END:DAYLIGHT
BEGIN:STANDARD
TZOFFSETFROM:-0400
TZOFFSETTO:-0500
TZNAME:EST
DTSTART:20241103T060000
END:STANDARD
END:VTIMEZONE
BEGIN:VEVENT
DTSTART;TZID=America/New_York:20230202T200000
DTEND;TZID=America/New_York:20230202T220000
DTSTAMP:20260419T220615
CREATED:20230201T201703Z
LAST-MODIFIED:20230201T201703Z
UID:212012-1675368000-1675375200@visit-marlborough.com
SUMMARY:Karaoke Night @ Tackle Box
DESCRIPTION:Karaoke Night!
URL:https://visit-marlborough.com/event/karaoke-night-tackle-box-16/
LOCATION:Tackle Box Brewing Company\, 416 Boston Post Road East\, Marlborough\, MA\, 01752\, United States
END:VEVENT
BEGIN:VEVENT
DTSTART;TZID=America/New_York:20230203T180000
DTEND;TZID=America/New_York:20230203T210000
DTSTAMP:20260419T220615
CREATED:20230203T201208Z
LAST-MODIFIED:20230203T201208Z
UID:212043-1675447200-1675458000@visit-marlborough.com
SUMMARY:Get Lost Concert Series @ Lost Shoe
DESCRIPTION:Performing is: Karen Grenier
URL:https://visit-marlborough.com/event/get-lost-concert-series-lost-shoe-11/
LOCATION:Lost Shoe Brewing & Roasting Co.\, 19 Weed Street\, Marlborough\, MA\, 01752\, United States
END:VEVENT
BEGIN:VEVENT
DTSTART;TZID=America/New_York:20230203T190000
DTEND;TZID=America/New_York:20230203T220000
DTSTAMP:20260419T220615
CREATED:20230106T151649Z
LAST-MODIFIED:20230106T151649Z
UID:211898-1675450800-1675461600@visit-marlborough.com
SUMMARY:Live Music @ Dante’s at Fireflys BBQ!
DESCRIPTION:Mike & Missy Unplugged – Mike & Missy have been playing all types and styles of music together\, from the classics to modern Rock\, at many different venues since 2003. When not playing acoustic\, they’re rocking with their full band “The Missy Maxfield Project.”
URL:https://visit-marlborough.com/event/live-music-dantes-at-fireflys-bbq-25/
LOCATION:Firefly’s BBQ\, 350 East Main Street\, Marlborough\, MA\, 01752\, United States
END:VEVENT
BEGIN:VEVENT
DTSTART;TZID=America/New_York:20230203T190000
DTEND;TZID=America/New_York:20230203T220000
DTSTAMP:20260419T220615
CREATED:20230201T200812Z
LAST-MODIFIED:20230201T200812Z
UID:211996-1675450800-1675461600@visit-marlborough.com
SUMMARY:Live Music @ Tackle Box
DESCRIPTION:Live Music with Heads of Steam!
URL:https://visit-marlborough.com/event/live-music-tackle-box-89/
LOCATION:Tackle Box Brewing Company\, 416 Boston Post Road East\, Marlborough\, MA\, 01752\, United States
END:VEVENT
BEGIN:VEVENT
DTSTART;TZID=America/New_York:20230203T210000
DTEND;TZID=America/New_York:20230203T230000
DTSTAMP:20260419T220615
CREATED:20230201T211227Z
LAST-MODIFIED:20230201T211227Z
UID:212039-1675458000-1675465200@visit-marlborough.com
SUMMARY:Laughing Lure Comedy Night @ Tackle Box Brewing
DESCRIPTION:Laughing Lure Comedy night!
URL:https://visit-marlborough.com/event/laughing-lure-comedy-night-tackle-box-brewing-11/
LOCATION:Tackle Box Brewing Company\, 416 Boston Post Road East\, Marlborough\, MA\, 01752\, United States
END:VEVENT
BEGIN:VEVENT
DTSTART;TZID=America/New_York:20230204T160000
DTEND;TZID=America/New_York:20230204T190000
DTSTAMP:20260419T220615
CREATED:20230203T201330Z
LAST-MODIFIED:20230203T201330Z
UID:212045-1675526400-1675537200@visit-marlborough.com
SUMMARY:Get Lost Concert Series @ Lost Shoe
DESCRIPTION:Performing is: Arnolds Carnival
URL:https://visit-marlborough.com/event/get-lost-concert-series-lost-shoe-12/
LOCATION:Lost Shoe Brewing & Roasting Co.\, 19 Weed Street\, Marlborough\, MA\, 01752\, United States
END:VEVENT
BEGIN:VEVENT
DTSTART;TZID=America/New_York:20230204T190000
DTEND;TZID=America/New_York:20230204T220000
DTSTAMP:20260419T220615
CREATED:20230201T200927Z
LAST-MODIFIED:20230201T200927Z
UID:211998-1675537200-1675548000@visit-marlborough.com
SUMMARY:Live Music @ Tackle Box
DESCRIPTION:Live Music with One Eye Jack!
URL:https://visit-marlborough.com/event/live-music-tackle-box-90/
LOCATION:Tackle Box Brewing Company\, 416 Boston Post Road East\, Marlborough\, MA\, 01752\, United States
END:VEVENT
BEGIN:VEVENT
DTSTART;TZID=America/New_York:20230204T210000
DTEND;TZID=America/New_York:20230204T230000
DTSTAMP:20260419T220615
CREATED:20230106T151806Z
LAST-MODIFIED:20230106T151806Z
UID:211900-1675544400-1675551600@visit-marlborough.com
SUMMARY:Live Music @ Dante’s at Fireflys BBQ!
DESCRIPTION:Bone City – Bone City is a high energy rock band aimed at tickling your party bone. They love to get up on stage and have a good time\, while playing Rock songs you know from the 70s\, 80s and 90s to today.
URL:https://visit-marlborough.com/event/live-music-dantes-at-fireflys-bbq-26/
LOCATION:Firefly’s BBQ\, 350 East Main Street\, Marlborough\, MA\, 01752\, United States
END:VEVENT
BEGIN:VEVENT
DTSTART;TZID=America/New_York:20230205T113000
DTEND;TZID=America/New_York:20230205T140000
DTSTAMP:20260419T220615
CREATED:20230201T201023Z
LAST-MODIFIED:20230201T201023Z
UID:212000-1675596600-1675605600@visit-marlborough.com
SUMMARY:Live Music @ Tackle Box
DESCRIPTION:Live Music with Joe Cicero!
URL:https://visit-marlborough.com/event/live-music-tackle-box-91/
LOCATION:Tackle Box Brewing Company\, 416 Boston Post Road East\, Marlborough\, MA\, 01752\, United States
END:VEVENT
BEGIN:VEVENT
DTSTART;TZID=America/New_York:20230205T130000
DTEND;TZID=America/New_York:20230205T160000
DTSTAMP:20260419T220615
CREATED:20230203T201447Z
LAST-MODIFIED:20230203T201447Z
UID:212047-1675602000-1675612800@visit-marlborough.com
SUMMARY:Get Lost Concert Series @ Lost Shoe
DESCRIPTION:Performing is: Sean Magwire
URL:https://visit-marlborough.com/event/get-lost-concert-series-lost-shoe-13/
LOCATION:Lost Shoe Brewing & Roasting Co.\, 19 Weed Street\, Marlborough\, MA\, 01752\, United States
END:VEVENT
BEGIN:VEVENT
DTSTART;TZID=America/New_York:20230207T190000
DTEND;TZID=America/New_York:20230207T220000
DTSTAMP:20260419T220615
CREATED:20230201T201826Z
LAST-MODIFIED:20230201T201826Z
UID:212014-1675796400-1675807200@visit-marlborough.com
SUMMARY:Karaoke Night @ Tackle Box
DESCRIPTION:Karaoke Night!
URL:https://visit-marlborough.com/event/karaoke-night-tackle-box-17/
LOCATION:Tackle Box Brewing Company\, 416 Boston Post Road East\, Marlborough\, MA\, 01752\, United States
END:VEVENT
BEGIN:VEVENT
DTSTART;TZID=America/New_York:20230209T190000
DTEND;TZID=America/New_York:20230209T220000
DTSTAMP:20260419T220615
CREATED:20230201T204201Z
LAST-MODIFIED:20230201T204201Z
UID:212030-1675969200-1675980000@visit-marlborough.com
SUMMARY:Open Mic @ Tackle Box
DESCRIPTION:Open Mic Night!! Starting at 7 pm!
URL:https://visit-marlborough.com/event/open-mic-tackle-box-31/
LOCATION:Tackle Box Brewing Company\, 416 Boston Post Road East\, Marlborough\, MA\, 01752\, United States
END:VEVENT
BEGIN:VEVENT
DTSTART;TZID=America/New_York:20230209T190000
DTEND;TZID=America/New_York:20230209T220000
DTSTAMP:20260419T220615
CREATED:20230209T180127Z
LAST-MODIFIED:20230209T180127Z
UID:212086-1675969200-1675980000@visit-marlborough.com
SUMMARY:Live Music @ Kennedys Pub
DESCRIPTION:Come and enjoy the food\, drinks and music with J.P. Royer! \n 
URL:https://visit-marlborough.com/event/live-music-kennedys-pub-17/
LOCATION:Kennedy’s Pub\, 247 Maple Street\, Marlborough\, MA\, 01752\, United States
END:VEVENT
BEGIN:VEVENT
DTSTART;TZID=America/New_York:20230210T180000
DTEND;TZID=America/New_York:20230210T210000
DTSTAMP:20260419T220615
CREATED:20230203T200803Z
LAST-MODIFIED:20230203T200803Z
UID:212041-1676052000-1676062800@visit-marlborough.com
SUMMARY:Get Lost Concert Series @ Lost Shoe
DESCRIPTION:Performing is: DJ Trex
URL:https://visit-marlborough.com/event/get-lost-concert-series-lost-shoe-10/
LOCATION:Lost Shoe Brewing & Roasting Co.\, 19 Weed Street\, Marlborough\, MA\, 01752\, United States
END:VEVENT
BEGIN:VEVENT
DTSTART;TZID=America/New_York:20230210T180000
DTEND;TZID=America/New_York:20230210T210000
DTSTAMP:20260419T220615
CREATED:20240129T171700Z
LAST-MODIFIED:20240129T173105Z
UID:214010-1676052000-1676062800@visit-marlborough.com
SUMMARY:Live Music @ Flying Dreams Brewing Co.
DESCRIPTION:Live music with Heads of Steam at Flying Dreams Brewing Co!
URL:https://visit-marlborough.com/event/live-music-flying-dreams-brewing-co-2/
LOCATION:Flying Dreams Brewing Co.\, 277 Main Street\, Marlborough\, MA\, 01752\, United States
END:VEVENT
BEGIN:VEVENT
DTSTART;TZID=America/New_York:20230210T210000
DTEND;TZID=America/New_York:20230210T230000
DTSTAMP:20260419T220615
CREATED:20230106T151914Z
LAST-MODIFIED:20230106T151914Z
UID:211902-1676062800-1676070000@visit-marlborough.com
SUMMARY:Live Music @ Dante’s at Fireflys BBQ!
DESCRIPTION:Our So-Called Live Music… and Friends – All things ’90s! Featuring Melissa Gates and Sarah Clark\, performing songs from women who ruled the decade of plaid and angst. It’s not red\, it’s crimson glow.
URL:https://visit-marlborough.com/event/live-music-dantes-at-fireflys-bbq-27/
LOCATION:Firefly’s BBQ\, 350 East Main Street\, Marlborough\, MA\, 01752\, United States
END:VEVENT
BEGIN:VEVENT
DTSTART;TZID=America/New_York:20230211T160000
DTEND;TZID=America/New_York:20230211T190000
DTSTAMP:20260419T220615
CREATED:20230203T201825Z
LAST-MODIFIED:20230203T201825Z
UID:212049-1676131200-1676142000@visit-marlborough.com
SUMMARY:Get Lost Concert Series @ Lost Shoe
DESCRIPTION:Performing is: Booty & The Jett
URL:https://visit-marlborough.com/event/get-lost-concert-series-lost-shoe-14/
LOCATION:Lost Shoe Brewing & Roasting Co.\, 19 Weed Street\, Marlborough\, MA\, 01752\, United States
END:VEVENT
BEGIN:VEVENT
DTSTART;TZID=America/New_York:20230211T190000
DTEND;TZID=America/New_York:20230211T220000
DTSTAMP:20260419T220615
CREATED:20230201T201142Z
LAST-MODIFIED:20230201T201142Z
UID:212002-1676142000-1676152800@visit-marlborough.com
SUMMARY:Live Music @ Tackle Box
DESCRIPTION:Live Music with Last Call Radio!
URL:https://visit-marlborough.com/event/live-music-tackle-box-92/
LOCATION:Tackle Box Brewing Company\, 416 Boston Post Road East\, Marlborough\, MA\, 01752\, United States
END:VEVENT
BEGIN:VEVENT
DTSTART;TZID=America/New_York:20230211T210000
DTEND;TZID=America/New_York:20230211T230000
DTSTAMP:20260419T220615
CREATED:20230106T152009Z
LAST-MODIFIED:20230106T152009Z
UID:211904-1676149200-1676156400@visit-marlborough.com
SUMMARY:Live Music @ Dante’s at Fireflys BBQ!
DESCRIPTION:Hot Acoustics – Rockin’ electric tunes to keep you on the dance floor all night long!
URL:https://visit-marlborough.com/event/live-music-dantes-at-fireflys-bbq-28/
LOCATION:Firefly’s BBQ\, 350 East Main Street\, Marlborough\, MA\, 01752\, United States
END:VEVENT
BEGIN:VEVENT
DTSTART;TZID=America/New_York:20230212T120000
DTEND;TZID=America/New_York:20230212T150000
DTSTAMP:20260419T220615
CREATED:20230203T202023Z
LAST-MODIFIED:20230203T202023Z
UID:212051-1676203200-1676214000@visit-marlborough.com
SUMMARY:Get Lost Concert Series @ Lost Shoe
DESCRIPTION:Performing is: Screen Door
URL:https://visit-marlborough.com/event/get-lost-concert-series-lost-shoe-15/
LOCATION:Lost Shoe Brewing & Roasting Co.\, 19 Weed Street\, Marlborough\, MA\, 01752\, United States
END:VEVENT
BEGIN:VEVENT
DTSTART;TZID=America/New_York:20230214T190000
DTEND;TZID=America/New_York:20230214T220000
DTSTAMP:20260419T220615
CREATED:20230201T201920Z
LAST-MODIFIED:20230201T201920Z
UID:212016-1676401200-1676412000@visit-marlborough.com
SUMMARY:Karaoke Night @ Tackle Box
DESCRIPTION:Karaoke Night!
URL:https://visit-marlborough.com/event/karaoke-night-tackle-box-18/
LOCATION:Tackle Box Brewing Company\, 416 Boston Post Road East\, Marlborough\, MA\, 01752\, United States
END:VEVENT
BEGIN:VEVENT
DTSTART;TZID=America/New_York:20230216T190000
DTEND;TZID=America/New_York:20230216T220000
DTSTAMP:20260419T220615
CREATED:20230201T204248Z
LAST-MODIFIED:20230201T204248Z
UID:212032-1676574000-1676584800@visit-marlborough.com
SUMMARY:Open Mic @ Tackle Box
DESCRIPTION:Open Mic Night!! Starting at 7 pm!
URL:https://visit-marlborough.com/event/open-mic-tackle-box-32/
LOCATION:Tackle Box Brewing Company\, 416 Boston Post Road East\, Marlborough\, MA\, 01752\, United States
END:VEVENT
BEGIN:VEVENT
DTSTART;TZID=America/New_York:20230216T190000
DTEND;TZID=America/New_York:20230216T220000
DTSTAMP:20260419T220615
CREATED:20230209T180209Z
LAST-MODIFIED:20230209T180209Z
UID:212088-1676574000-1676584800@visit-marlborough.com
SUMMARY:Live Music @ Kennedys Pub
DESCRIPTION:Come and enjoy the food\, drinks and music with Matt Zajac! \n 
URL:https://visit-marlborough.com/event/live-music-kennedys-pub-18/
LOCATION:Kennedy’s Pub\, 247 Maple Street\, Marlborough\, MA\, 01752\, United States
END:VEVENT
BEGIN:VEVENT
DTSTART;TZID=America/New_York:20230217T180000
DTEND;TZID=America/New_York:20230217T210000
DTSTAMP:20260419T220615
CREATED:20230203T202126Z
LAST-MODIFIED:20230203T202126Z
UID:212053-1676656800-1676667600@visit-marlborough.com
SUMMARY:Get Lost Concert Series @ Lost Shoe
DESCRIPTION:Performing is: Chris Barber
URL:https://visit-marlborough.com/event/get-lost-concert-series-lost-shoe-16/
LOCATION:Lost Shoe Brewing & Roasting Co.\, 19 Weed Street\, Marlborough\, MA\, 01752\, United States
END:VEVENT
BEGIN:VEVENT
DTSTART;TZID=America/New_York:20230217T190000
DTEND;TZID=America/New_York:20230217T220000
DTSTAMP:20260419T220615
CREATED:20230201T201315Z
LAST-MODIFIED:20230201T201315Z
UID:212004-1676660400-1676671200@visit-marlborough.com
SUMMARY:Live Music @ Tackle Box
DESCRIPTION:Live Music with Hit the Bus!
URL:https://visit-marlborough.com/event/live-music-tackle-box-93/
LOCATION:Tackle Box Brewing Company\, 416 Boston Post Road East\, Marlborough\, MA\, 01752\, United States
END:VEVENT
BEGIN:VEVENT
DTSTART;TZID=America/New_York:20230217T210000
DTEND;TZID=America/New_York:20230217T230000
DTSTAMP:20260419T220615
CREATED:20230106T152111Z
LAST-MODIFIED:20230106T152111Z
UID:211906-1676667600-1676674800@visit-marlborough.com
SUMMARY:Live Music @ Dante’s at Fireflys BBQ!
DESCRIPTION:Crash & Burn – Crash & Burn is a female fronted rock ‘n’ roll cover band playing rock/pop/blues hits from the 70s to now.
URL:https://visit-marlborough.com/event/live-music-dantes-at-fireflys-bbq-29/
LOCATION:Firefly’s BBQ\, 350 East Main Street\, Marlborough\, MA\, 01752\, United States
END:VEVENT
BEGIN:VEVENT
DTSTART;TZID=America/New_York:20230218T160000
DTEND;TZID=America/New_York:20230218T190000
DTSTAMP:20260419T220615
CREATED:20230203T202235Z
LAST-MODIFIED:20230203T202235Z
UID:212055-1676736000-1676746800@visit-marlborough.com
SUMMARY:Get Lost Concert Series @ Lost Shoe
DESCRIPTION:Performing is: Kyle & Matt Black
URL:https://visit-marlborough.com/event/get-lost-concert-series-lost-shoe-17/
LOCATION:Lost Shoe Brewing & Roasting Co.\, 19 Weed Street\, Marlborough\, MA\, 01752\, United States
END:VEVENT
BEGIN:VEVENT
DTSTART;TZID=America/New_York:20230218T190000
DTEND;TZID=America/New_York:20230218T220000
DTSTAMP:20260419T220615
CREATED:20230201T201357Z
LAST-MODIFIED:20230201T201357Z
UID:212006-1676746800-1676757600@visit-marlborough.com
SUMMARY:Live Music @ Tackle Box
DESCRIPTION:Live Music with Tony Soul Project!
URL:https://visit-marlborough.com/event/live-music-tackle-box-94/
LOCATION:Tackle Box Brewing Company\, 416 Boston Post Road East\, Marlborough\, MA\, 01752\, United States
END:VEVENT
BEGIN:VEVENT
DTSTART;TZID=America/New_York:20230218T210000
DTEND;TZID=America/New_York:20230218T230000
DTSTAMP:20260419T220615
CREATED:20230106T152213Z
LAST-MODIFIED:20230106T152213Z
UID:211908-1676754000-1676761200@visit-marlborough.com
SUMMARY:Live Music @ Dante’s at Fireflys BBQ!
DESCRIPTION:Flock of A*Holes – Central Massachusetts’ most totally righteous 80’s band\, Flock of A**holes! Re-live the golden era of MTV with your favorite 80s tunes!
URL:https://visit-marlborough.com/event/live-music-dantes-at-fireflys-bbq-30/
LOCATION:Firefly’s BBQ\, 350 East Main Street\, Marlborough\, MA\, 01752\, United States
END:VEVENT
BEGIN:VEVENT
DTSTART;TZID=America/New_York:20230219T130000
DTEND;TZID=America/New_York:20230219T160000
DTSTAMP:20260419T220615
CREATED:20230203T202322Z
LAST-MODIFIED:20230203T202322Z
UID:212057-1676811600-1676822400@visit-marlborough.com
SUMMARY:Get Lost Concert Series @ Lost Shoe
DESCRIPTION:Performing is: The Moscas
URL:https://visit-marlborough.com/event/get-lost-concert-series-lost-shoe-18/
LOCATION:Lost Shoe Brewing & Roasting Co.\, 19 Weed Street\, Marlborough\, MA\, 01752\, United States
END:VEVENT
END:VCALENDAR