BEGIN:VCALENDAR
VERSION:2.0
PRODID:-//Visit Marlborough - ECPv6.15.20//NONSGML v1.0//EN
CALSCALE:GREGORIAN
METHOD:PUBLISH
X-ORIGINAL-URL:https://visit-marlborough.com
X-WR-CALDESC:Events for Visit Marlborough
REFRESH-INTERVAL;VALUE=DURATION:PT1H
X-Robots-Tag:noindex
X-PUBLISHED-TTL:PT1H
BEGIN:VTIMEZONE
TZID:America/New_York
BEGIN:DAYLIGHT
TZOFFSETFROM:-0500
TZOFFSETTO:-0400
TZNAME:EDT
DTSTART:20220313T070000
END:DAYLIGHT
BEGIN:STANDARD
TZOFFSETFROM:-0400
TZOFFSETTO:-0500
TZNAME:EST
DTSTART:20221106T060000
END:STANDARD
BEGIN:DAYLIGHT
TZOFFSETFROM:-0500
TZOFFSETTO:-0400
TZNAME:EDT
DTSTART:20230312T070000
END:DAYLIGHT
BEGIN:STANDARD
TZOFFSETFROM:-0400
TZOFFSETTO:-0500
TZNAME:EST
DTSTART:20231105T060000
END:STANDARD
BEGIN:DAYLIGHT
TZOFFSETFROM:-0500
TZOFFSETTO:-0400
TZNAME:EDT
DTSTART:20240310T070000
END:DAYLIGHT
BEGIN:STANDARD
TZOFFSETFROM:-0400
TZOFFSETTO:-0500
TZNAME:EST
DTSTART:20241103T060000
END:STANDARD
END:VTIMEZONE
BEGIN:VEVENT
DTSTART;TZID=America/New_York:20230105T200000
DTEND;TZID=America/New_York:20230105T220000
DTSTAMP:20260420T031211
CREATED:20230104T182633Z
LAST-MODIFIED:20230104T182633Z
UID:211847-1672948800-1672956000@visit-marlborough.com
SUMMARY:Karaoke Night @ Tackle Box
DESCRIPTION:Karaoke Night!
URL:https://visit-marlborough.com/event/karaoke-night-tackle-box-15/
LOCATION:Tackle Box Brewing Company\, 416 Boston Post Road East\, Marlborough\, MA\, 01752\, United States
END:VEVENT
BEGIN:VEVENT
DTSTART;TZID=America/New_York:20230106T180000
DTEND;TZID=America/New_York:20230106T210000
DTSTAMP:20260420T031211
CREATED:20230106T205520Z
LAST-MODIFIED:20230106T205520Z
UID:211919-1673028000-1673038800@visit-marlborough.com
SUMMARY:Get Lost Concert Series @ Lost Shoe
DESCRIPTION:Performing is: Quincy Lord
URL:https://visit-marlborough.com/event/get-lost-concert-series-lost-shoe/
LOCATION:Lost Shoe Brewing & Roasting Co.\, 19 Weed Street\, Marlborough\, MA\, 01752\, United States
END:VEVENT
BEGIN:VEVENT
DTSTART;TZID=America/New_York:20230106T190000
DTEND;TZID=America/New_York:20230106T220000
DTSTAMP:20260420T031211
CREATED:20230104T182818Z
LAST-MODIFIED:20230104T182818Z
UID:211849-1673031600-1673042400@visit-marlborough.com
SUMMARY:Live Music @ Tackle Box
DESCRIPTION:Live Music with Jae Mannion!
URL:https://visit-marlborough.com/event/live-music-tackle-box-82/
LOCATION:Tackle Box Brewing Company\, 416 Boston Post Road East\, Marlborough\, MA\, 01752\, United States
END:VEVENT
BEGIN:VEVENT
DTSTART;TZID=America/New_York:20230106T210000
DTEND;TZID=America/New_York:20230106T230000
DTSTAMP:20260420T031211
CREATED:20230106T145154Z
LAST-MODIFIED:20230106T155057Z
UID:211884-1673038800-1673046000@visit-marlborough.com
SUMMARY:Live Music @ Dante’s at Fireflys BBQ!
DESCRIPTION:Moose Juice – Covering the best of the Grateful Dead…with some special surprises at each show!
URL:https://visit-marlborough.com/event/live-music-dantes-at-fireflys-bbq-5/
LOCATION:Firefly’s BBQ\, 350 East Main Street\, Marlborough\, MA\, 01752\, United States
END:VEVENT
BEGIN:VEVENT
DTSTART;TZID=America/New_York:20230107T160000
DTEND;TZID=America/New_York:20230107T190000
DTSTAMP:20260420T031211
CREATED:20230106T205603Z
LAST-MODIFIED:20230106T205622Z
UID:211921-1673107200-1673118000@visit-marlborough.com
SUMMARY:Get Lost Concert Series @ Lost Shoe
DESCRIPTION:Performing is: John Demers
URL:https://visit-marlborough.com/event/get-lost-concert-series-lost-shoe-2/
LOCATION:Lost Shoe Brewing & Roasting Co.\, 19 Weed Street\, Marlborough\, MA\, 01752\, United States
END:VEVENT
BEGIN:VEVENT
DTSTART;TZID=America/New_York:20230107T190000
DTEND;TZID=America/New_York:20230107T220000
DTSTAMP:20260420T031211
CREATED:20230104T182927Z
LAST-MODIFIED:20230104T182927Z
UID:211851-1673118000-1673128800@visit-marlborough.com
SUMMARY:Live Music @ Tackle Box
DESCRIPTION:Live Music with Element 119!
URL:https://visit-marlborough.com/event/live-music-tackle-box-83/
LOCATION:Tackle Box Brewing Company\, 416 Boston Post Road East\, Marlborough\, MA\, 01752\, United States
END:VEVENT
BEGIN:VEVENT
DTSTART;TZID=America/New_York:20230107T210000
DTEND;TZID=America/New_York:20230108T230000
DTSTAMP:20260420T031211
CREATED:20230106T145347Z
LAST-MODIFIED:20230106T145347Z
UID:211886-1673125200-1673218800@visit-marlborough.com
SUMMARY:Live Music @ Dante’s at Fireflys BBQ!
DESCRIPTION:Studio Two Beatles Tribute – You’ll be transported in time by this Beatles tribute featuring Berklee alums with period-correct attire and equipment\, focused on danceable 50s and 60s Rock ‘n Roll hits from the Fab Four’s club and touring performances. Voted the BEST Beatles tribute band in New England! ~ The Boston Globe
URL:https://visit-marlborough.com/event/live-music-dantes-at-fireflys-bbq-6/
LOCATION:Firefly’s BBQ\, 350 East Main Street\, Marlborough\, MA\, 01752\, United States
END:VEVENT
BEGIN:VEVENT
DTSTART;TZID=America/New_York:20230108T130000
DTEND;TZID=America/New_York:20230108T160000
DTSTAMP:20260420T031211
CREATED:20230106T205730Z
LAST-MODIFIED:20230106T205730Z
UID:211923-1673182800-1673193600@visit-marlborough.com
SUMMARY:Get Lost Concert Series @ Lost Shoe
DESCRIPTION:Performing is: John Gauvin
URL:https://visit-marlborough.com/event/get-lost-concert-series-lost-shoe-3/
LOCATION:Lost Shoe Brewing & Roasting Co.\, 19 Weed Street\, Marlborough\, MA\, 01752\, United States
END:VEVENT
BEGIN:VEVENT
DTSTART;TZID=America/New_York:20230108T160000
DTEND;TZID=America/New_York:20230108T180000
DTSTAMP:20260420T031211
CREATED:20230106T160613Z
LAST-MODIFIED:20230106T160613Z
UID:211916-1673193600-1673200800@visit-marlborough.com
SUMMARY:Rock Voices
DESCRIPTION:Rock Voices – Americas Community Rock Choir \nJoin the area’s only community rock choir for an evening of rock music like you’ve never heard it before! The choir will be backed up by a full band. Add to that the harmonies of Tony Lechner’s arrangements sung by a 80-voice choir and you are in for a real treat. \nRock Voices represents everything that is wonderful about the metro-west area: a sense of community\, a love of music\, and a desire to share that joy with others. But be careful; once you experience this choir in person\, you might find yourself signing up to sing next time around!
URL:https://visit-marlborough.com/event/rock-voices/
LOCATION:Marlborough Whitcomb Middle School\, 25 Union Street\, Marlborough\, MA\, 01752\, United States
ORGANIZER;CN="Rock Voices Auburn/Framingham":MAILTO:info@rockvoices.com
END:VEVENT
BEGIN:VEVENT
DTSTART;TZID=America/New_York:20230112T190000
DTEND;TZID=America/New_York:20230112T220000
DTSTAMP:20260420T031211
CREATED:20230104T213510Z
LAST-MODIFIED:20230104T213510Z
UID:211871-1673550000-1673560800@visit-marlborough.com
SUMMARY:Open Mic @ Tackle Box
DESCRIPTION:Open Mic Night!! Starting at 7 pm!
URL:https://visit-marlborough.com/event/open-mic-tackle-box-28/
LOCATION:Tackle Box Brewing Company\, 416 Boston Post Road East\, Marlborough\, MA\, 01752\, United States
END:VEVENT
BEGIN:VEVENT
DTSTART;TZID=America/New_York:20230113T180000
DTEND;TZID=America/New_York:20230113T210000
DTSTAMP:20260420T031211
CREATED:20230106T205828Z
LAST-MODIFIED:20230106T205828Z
UID:211925-1673632800-1673643600@visit-marlborough.com
SUMMARY:Get Lost Concert Series @ Lost Shoe
DESCRIPTION:Performing is: Mystical Village
URL:https://visit-marlborough.com/event/get-lost-concert-series-lost-shoe-4/
LOCATION:Lost Shoe Brewing & Roasting Co.\, 19 Weed Street\, Marlborough\, MA\, 01752\, United States
END:VEVENT
BEGIN:VEVENT
DTSTART;TZID=America/New_York:20230113T210000
DTEND;TZID=America/New_York:20230113T230000
DTSTAMP:20260420T031211
CREATED:20230106T145505Z
LAST-MODIFIED:20230106T155125Z
UID:211888-1673643600-1673650800@visit-marlborough.com
SUMMARY:Live Music @ Dante’s at Fireflys BBQ!
DESCRIPTION:Shady Armadillo – This high-energy Country/Rock cover band from Central Massachusetts keeps the dance floor jumping all night long!
URL:https://visit-marlborough.com/event/live-music-dantes-at-fireflys-bbq-7/
LOCATION:Firefly’s BBQ\, 350 East Main Street\, Marlborough\, MA\, 01752\, United States
END:VEVENT
BEGIN:VEVENT
DTSTART;TZID=America/New_York:20230114T190000
DTEND;TZID=America/New_York:20230114T220000
DTSTAMP:20260420T031211
CREATED:20230104T183031Z
LAST-MODIFIED:20230104T183031Z
UID:211853-1673722800-1673733600@visit-marlborough.com
SUMMARY:Live Music @ Tackle Box
DESCRIPTION:Live Music with Til Dawn!
URL:https://visit-marlborough.com/event/live-music-tackle-box-84/
LOCATION:Tackle Box Brewing Company\, 416 Boston Post Road East\, Marlborough\, MA\, 01752\, United States
END:VEVENT
BEGIN:VEVENT
DTSTART;TZID=America/New_York:20230114T210000
DTEND;TZID=America/New_York:20230115T230000
DTSTAMP:20260420T031211
CREATED:20230106T150523Z
LAST-MODIFIED:20230106T150523Z
UID:211890-1673730000-1673823600@visit-marlborough.com
SUMMARY:Live Music @ Dante’s at Fireflys BBQ!
DESCRIPTION:Iron Tiger – Iron Tiger pays tribute to all the great 80s hair metal bands — Bon Jovi\, Warrant\, Skid Row\, Dokken\, Extreme\, Guns N’ Roses\, Whitesnake\, and more — a really fun show!
URL:https://visit-marlborough.com/event/live-music-dantes-at-fireflys-bbq-8/
LOCATION:Firefly’s BBQ\, 350 East Main Street\, Marlborough\, MA\, 01752\, United States
END:VEVENT
BEGIN:VEVENT
DTSTART;TZID=America/New_York:20230119T190000
DTEND;TZID=America/New_York:20230119T220000
DTSTAMP:20260420T031211
CREATED:20230104T213600Z
LAST-MODIFIED:20230104T213600Z
UID:211873-1674154800-1674165600@visit-marlborough.com
SUMMARY:Open Mic @ Tackle Box
DESCRIPTION:Open Mic Night!! Starting at 7 pm!
URL:https://visit-marlborough.com/event/open-mic-tackle-box-29/
LOCATION:Tackle Box Brewing Company\, 416 Boston Post Road East\, Marlborough\, MA\, 01752\, United States
END:VEVENT
BEGIN:VEVENT
DTSTART;TZID=America/New_York:20230120T180000
DTEND;TZID=America/New_York:20230120T210000
DTSTAMP:20260420T031211
CREATED:20230106T205959Z
LAST-MODIFIED:20230106T205959Z
UID:211927-1674237600-1674248400@visit-marlborough.com
SUMMARY:Get Lost Concert Series @ Lost Shoe
DESCRIPTION:Performing is: Adam Makes Noise
URL:https://visit-marlborough.com/event/get-lost-concert-series-lost-shoe-5/
LOCATION:Lost Shoe Brewing & Roasting Co.\, 19 Weed Street\, Marlborough\, MA\, 01752\, United States
END:VEVENT
BEGIN:VEVENT
DTSTART;TZID=America/New_York:20230120T190000
DTEND;TZID=America/New_York:20230120T220000
DTSTAMP:20260420T031211
CREATED:20230104T183130Z
LAST-MODIFIED:20230104T183130Z
UID:211855-1674241200-1674252000@visit-marlborough.com
SUMMARY:Live Music @ Tackle Box
DESCRIPTION:Live Music with Quincy Lord!
URL:https://visit-marlborough.com/event/live-music-tackle-box-85/
LOCATION:Tackle Box Brewing Company\, 416 Boston Post Road East\, Marlborough\, MA\, 01752\, United States
END:VEVENT
BEGIN:VEVENT
DTSTART;TZID=America/New_York:20230120T210000
DTEND;TZID=America/New_York:20230120T230000
DTSTAMP:20260420T031211
CREATED:20230106T151255Z
LAST-MODIFIED:20230106T155151Z
UID:211892-1674248400-1674255600@visit-marlborough.com
SUMMARY:Live Music @ Dante’s at Fireflys BBQ!
DESCRIPTION:Gain 211 – Come out and dance\, and sing along to all your favorite party radio rock cover songs.
URL:https://visit-marlborough.com/event/live-music-dantes-at-fireflys-bbq-9/
LOCATION:Firefly’s BBQ\, 350 East Main Street\, Marlborough\, MA\, 01752\, United States
END:VEVENT
BEGIN:VEVENT
DTSTART;TZID=America/New_York:20230121T170000
DTEND;TZID=America/New_York:20230121T220000
DTSTAMP:20260420T031211
CREATED:20230106T154646Z
LAST-MODIFIED:20230106T154646Z
UID:211914-1674320400-1674338400@visit-marlborough.com
SUMMARY:90s Night at Lost Shoe
DESCRIPTION:We will have throwback tunes spun by DJ Sprino\, food from Raina’s Plate and nostalgia inspired specials. Hope to see you there!
URL:https://visit-marlborough.com/event/90s-night-at-lost-shoe/
LOCATION:Lost Shoe Brewing & Roasting Co.\, 19 Weed Street\, Marlborough\, MA\, 01752\, United States
END:VEVENT
BEGIN:VEVENT
DTSTART;TZID=America/New_York:20230121T190000
DTEND;TZID=America/New_York:20230121T220000
DTSTAMP:20260420T031211
CREATED:20230104T183218Z
LAST-MODIFIED:20230104T183218Z
UID:211857-1674327600-1674338400@visit-marlborough.com
SUMMARY:Live Music @ Tackle Box
DESCRIPTION:Live Music with Sonic Union!
URL:https://visit-marlborough.com/event/live-music-tackle-box-86/
LOCATION:Tackle Box Brewing Company\, 416 Boston Post Road East\, Marlborough\, MA\, 01752\, United States
END:VEVENT
BEGIN:VEVENT
DTSTART;TZID=America/New_York:20230121T210000
DTEND;TZID=America/New_York:20230122T230000
DTSTAMP:20260420T031211
CREATED:20230106T151412Z
LAST-MODIFIED:20230106T151412Z
UID:211894-1674334800-1674428400@visit-marlborough.com
SUMMARY:Live Music @ Dante’s at Fireflys BBQ!
DESCRIPTION:Freeballin’ – Comprised of experienced musicians\, Freeballin’s mix of covers and originals includes Rock\, Rap\, Dance and Funk — from The Red Hot Chili Peppers to Prince!
URL:https://visit-marlborough.com/event/live-music-dantes-at-fireflys-bbq-23/
LOCATION:Firefly’s BBQ\, 350 East Main Street\, Marlborough\, MA\, 01752\, United States
END:VEVENT
BEGIN:VEVENT
DTSTART;TZID=America/New_York:20230122T130000
DTEND;TZID=America/New_York:20230122T160000
DTSTAMP:20260420T031211
CREATED:20230106T210106Z
LAST-MODIFIED:20230106T210106Z
UID:211929-1674392400-1674403200@visit-marlborough.com
SUMMARY:Get Lost Concert Series @ Lost Shoe
DESCRIPTION:Performing is: Ashley Rhodes
URL:https://visit-marlborough.com/event/get-lost-concert-series-lost-shoe-6/
LOCATION:Lost Shoe Brewing & Roasting Co.\, 19 Weed Street\, Marlborough\, MA\, 01752\, United States
END:VEVENT
BEGIN:VEVENT
DTSTART;TZID=America/New_York:20230126T190000
DTEND;TZID=America/New_York:20230126T220000
DTSTAMP:20260420T031211
CREATED:20230104T213633Z
LAST-MODIFIED:20230104T213633Z
UID:211875-1674759600-1674770400@visit-marlborough.com
SUMMARY:Open Mic @ Tackle Box
DESCRIPTION:Open Mic Night!! Starting at 7 pm!
URL:https://visit-marlborough.com/event/open-mic-tackle-box-30/
LOCATION:Tackle Box Brewing Company\, 416 Boston Post Road East\, Marlborough\, MA\, 01752\, United States
END:VEVENT
BEGIN:VEVENT
DTSTART;TZID=America/New_York:20230127T180000
DTEND;TZID=America/New_York:20230127T210000
DTSTAMP:20260420T031211
CREATED:20230106T210200Z
LAST-MODIFIED:20230106T210200Z
UID:211931-1674842400-1674853200@visit-marlborough.com
SUMMARY:Get Lost Concert Series @ Lost Shoe
DESCRIPTION:Performing is: Bus-14
URL:https://visit-marlborough.com/event/get-lost-concert-series-lost-shoe-7/
LOCATION:Lost Shoe Brewing & Roasting Co.\, 19 Weed Street\, Marlborough\, MA\, 01752\, United States
END:VEVENT
BEGIN:VEVENT
DTSTART;TZID=America/New_York:20230127T190000
DTEND;TZID=America/New_York:20230127T220000
DTSTAMP:20260420T031211
CREATED:20230104T183323Z
LAST-MODIFIED:20230104T183323Z
UID:211859-1674846000-1674856800@visit-marlborough.com
SUMMARY:Live Music @ Tackle Box
DESCRIPTION:Live Music with Paul Janowski!
URL:https://visit-marlborough.com/event/live-music-tackle-box-87/
LOCATION:Tackle Box Brewing Company\, 416 Boston Post Road East\, Marlborough\, MA\, 01752\, United States
END:VEVENT
BEGIN:VEVENT
DTSTART;TZID=America/New_York:20230128T160000
DTEND;TZID=America/New_York:20230128T190000
DTSTAMP:20260420T031211
CREATED:20230106T210255Z
LAST-MODIFIED:20230106T210255Z
UID:211933-1674921600-1674932400@visit-marlborough.com
SUMMARY:Get Lost Concert Series @ Lost Shoe
DESCRIPTION:Performing is: The Maniac Loves You
URL:https://visit-marlborough.com/event/get-lost-concert-series-lost-shoe-8/
LOCATION:Lost Shoe Brewing & Roasting Co.\, 19 Weed Street\, Marlborough\, MA\, 01752\, United States
END:VEVENT
BEGIN:VEVENT
DTSTART;TZID=America/New_York:20230128T190000
DTEND;TZID=America/New_York:20230128T220000
DTSTAMP:20260420T031211
CREATED:20230104T183414Z
LAST-MODIFIED:20230104T183414Z
UID:211861-1674932400-1674943200@visit-marlborough.com
SUMMARY:Live Music @ Tackle Box
DESCRIPTION:Live Music with Settle Down Easy!
URL:https://visit-marlborough.com/event/live-music-tackle-box-88/
LOCATION:Tackle Box Brewing Company\, 416 Boston Post Road East\, Marlborough\, MA\, 01752\, United States
END:VEVENT
BEGIN:VEVENT
DTSTART;TZID=America/New_York:20230128T210000
DTEND;TZID=America/New_York:20230129T000000
DTSTAMP:20260420T031211
CREATED:20230106T151525Z
LAST-MODIFIED:20230106T151525Z
UID:211896-1674939600-1674950400@visit-marlborough.com
SUMMARY:Live Music @ Dante’s at Fireflys BBQ!
DESCRIPTION:Playing Dead – Boston’s premiere Grateful Dead Experience! Their marathon sets feature music and jams from the entire Grateful Dead catalog — a complex stew of Rock\, Blues\, Jazz\, Folk\, Bluegrass and more. Every Playing Dead show is unique\, featuring exciting improvisational jams!
URL:https://visit-marlborough.com/event/live-music-dantes-at-fireflys-bbq-24/
LOCATION:Firefly’s BBQ\, 350 East Main Street\, Marlborough\, MA\, 01752\, United States
END:VEVENT
BEGIN:VEVENT
DTSTART;TZID=America/New_York:20230129T130000
DTEND;TZID=America/New_York:20230129T160000
DTSTAMP:20260420T031211
CREATED:20230106T210353Z
LAST-MODIFIED:20230106T210353Z
UID:211935-1674997200-1675008000@visit-marlborough.com
SUMMARY:Get Lost Concert Series @ Lost Shoe
DESCRIPTION:Performing is: Keith & Theo
URL:https://visit-marlborough.com/event/get-lost-concert-series-lost-shoe-9/
LOCATION:Lost Shoe Brewing & Roasting Co.\, 19 Weed Street\, Marlborough\, MA\, 01752\, United States
END:VEVENT
END:VCALENDAR