BEGIN:VCALENDAR
VERSION:2.0
PRODID:-//Visit Marlborough - ECPv6.15.20//NONSGML v1.0//EN
CALSCALE:GREGORIAN
METHOD:PUBLISH
X-WR-CALNAME:Visit Marlborough
X-ORIGINAL-URL:https://visit-marlborough.com
X-WR-CALDESC:Events for Visit Marlborough
REFRESH-INTERVAL;VALUE=DURATION:PT1H
X-Robots-Tag:noindex
X-PUBLISHED-TTL:PT1H
BEGIN:VTIMEZONE
TZID:America/New_York
BEGIN:DAYLIGHT
TZOFFSETFROM:-0500
TZOFFSETTO:-0400
TZNAME:EDT
DTSTART:20210314T070000
END:DAYLIGHT
BEGIN:STANDARD
TZOFFSETFROM:-0400
TZOFFSETTO:-0500
TZNAME:EST
DTSTART:20211107T060000
END:STANDARD
BEGIN:DAYLIGHT
TZOFFSETFROM:-0500
TZOFFSETTO:-0400
TZNAME:EDT
DTSTART:20220313T070000
END:DAYLIGHT
BEGIN:STANDARD
TZOFFSETFROM:-0400
TZOFFSETTO:-0500
TZNAME:EST
DTSTART:20221106T060000
END:STANDARD
BEGIN:DAYLIGHT
TZOFFSETFROM:-0500
TZOFFSETTO:-0400
TZNAME:EDT
DTSTART:20230312T070000
END:DAYLIGHT
BEGIN:STANDARD
TZOFFSETFROM:-0400
TZOFFSETTO:-0500
TZNAME:EST
DTSTART:20231105T060000
END:STANDARD
END:VTIMEZONE
BEGIN:VEVENT
DTSTART;VALUE=DATE:20220802
DTEND;VALUE=DATE:20220804
DTSTAMP:20260420T162030
CREATED:20220722T161926Z
LAST-MODIFIED:20220722T161926Z
UID:208906-1659398400-1659571199@visit-marlborough.com
SUMMARY:Movie Express $2 Movies @ Regal Cinema
DESCRIPTION:Climb aboard and enjoy a great selection of family friendly films this summer during Regal Cinemas’ Summer Movie Express 2021. The Marlborough Regal Cinemas will play two different movies (rated G or PG) for only $2 on Tuesdays and Wednesdays at various times. \nThe Summer Movie Express  runs for consecutive Tuesdays and Wednesdays. Tickets are available exclusively at the theater’s box office on the day of the show. Seating is on a first-come\, first-served basis and is limited to theater capacity. \nBoth movies will play both days. (Please call ahead to check schedule as they may change without notice!) \nTue. Aug 02 to Wed. Aug 03\nBoth movies play on all days \n\nThe Croods: A New Age\nThe Boss Baby: Family Business
URL:https://visit-marlborough.com/event/movie-express-2-movies-regal-cinema-2/
LOCATION:Regal Cinema\, 591 Donald Lynch Blvd\, Marlborough\, MA\, 01752\, United States
END:VEVENT
BEGIN:VEVENT
DTSTART;TZID=America/New_York:20220804T060000
DTEND;TZID=America/New_York:20220804T210000
DTSTAMP:20260420T162030
CREATED:20220503T141341Z
LAST-MODIFIED:20220503T141341Z
UID:208447-1659592800-1659646800@visit-marlborough.com
SUMMARY:Live Music @ Kennedy's Pub
DESCRIPTION:Come and enjoy the food\, drinks and music on the Patio with Jared Hanrahan! \n 
URL:https://visit-marlborough.com/event/live-music-kennedys-pub-15/
LOCATION:Kennedy’s Pub\, 247 Maple Street\, Marlborough\, MA\, 01752\, United States
END:VEVENT
BEGIN:VEVENT
DTSTART;TZID=America/New_York:20220804T060000
DTEND;TZID=America/New_York:20220804T210000
DTSTAMP:20260420T162030
CREATED:20220503T141341Z
LAST-MODIFIED:20220503T141341Z
UID:210870-1659592800-1659646800@visit-marlborough.com
SUMMARY:Live Music @ Kennedy's Pub
DESCRIPTION:Come and enjoy the food\, drinks and music on the Patio with Jared Hanrahan! \n 
URL:https://visit-marlborough.com/event/live-music-kennedys-pub-15-2/
LOCATION:Kennedy’s Pub\, 247 Maple Street\, Marlborough\, MA\, 01752\, United States
END:VEVENT
BEGIN:VEVENT
DTSTART;TZID=America/New_York:20220804T190000
DTEND;TZID=America/New_York:20220804T190000
DTSTAMP:20260420T162030
CREATED:20220803T163747Z
LAST-MODIFIED:20220803T163747Z
UID:211073-1659639600-1659639600@visit-marlborough.com
SUMMARY:Summer Concerts @ Union Common
DESCRIPTION:Preforming is Rico Bar Band! Pop music through the decades!
URL:https://visit-marlborough.com/event/summer-concerts-union-common/
LOCATION:MA
END:VEVENT
BEGIN:VEVENT
DTSTART;TZID=America/New_York:20220804T200000
DTEND;TZID=America/New_York:20220804T200000
DTSTAMP:20260420T162030
CREATED:20220801T193702Z
LAST-MODIFIED:20220801T193702Z
UID:208933-1659643200-1659643200@visit-marlborough.com
SUMMARY:Karaoke Night @ Tackle Box
DESCRIPTION:Karaoke Night!
URL:https://visit-marlborough.com/event/karaoke-night-tackle-box-12-2/
LOCATION:Tackle Box Brewing Company\, 416 Boston Post Road East\, Marlborough\, MA\, 01752\, United States
END:VEVENT
BEGIN:VEVENT
DTSTART;TZID=America/New_York:20220805T180000
DTEND;TZID=America/New_York:20220805T210000
DTSTAMP:20260420T162030
CREATED:20220705T171414Z
LAST-MODIFIED:20220705T171414Z
UID:211033-1659722400-1659733200@visit-marlborough.com
SUMMARY:Get Lost Summer Concert Series @ Lost Shoe
DESCRIPTION:Get Lost Summer Concert Series from 4pm – 7pm! \nPerforming is Ryan Pinette!
URL:https://visit-marlborough.com/event/get-lost-summer-concert-series-lost-shoe-16-2/
LOCATION:Lost Shoe Brewing & Roasting Co.\, 19 Weed Street\, Marlborough\, MA\, 01752\, United States
END:VEVENT
BEGIN:VEVENT
DTSTART;TZID=America/New_York:20220805T190000
DTEND;TZID=America/New_York:20220805T220000
DTSTAMP:20260420T162030
CREATED:20220802T132105Z
LAST-MODIFIED:20220802T132105Z
UID:211051-1659726000-1659736800@visit-marlborough.com
SUMMARY:Live Music @ Tackle Box
DESCRIPTION:John Maddock is performing at Tackle Box Brewing!
URL:https://visit-marlborough.com/event/live-music-tackle-box-62-2/
LOCATION:Tackle Box Brewing Company\, 416 Boston Post Road East\, Marlborough\, MA\, 01752\, United States
END:VEVENT
BEGIN:VEVENT
DTSTART;TZID=America/New_York:20220805T210000
DTEND;TZID=America/New_York:20220805T230000
DTSTAMP:20260420T162030
CREATED:20220722T160800Z
LAST-MODIFIED:20220722T160800Z
UID:208902-1659733200-1659740400@visit-marlborough.com
SUMMARY:Live Music @  Dante’s at Firefly's BBQ!
DESCRIPTION:TBD
URL:https://visit-marlborough.com/event/live-music-dantes-at-fireflys-bbq-10/
LOCATION:Firefly’s BBQ\, 350 East Main Street\, Marlborough\, MA\, 01752\, United States
END:VEVENT
BEGIN:VEVENT
DTSTART;TZID=America/New_York:20220806T160000
DTEND;TZID=America/New_York:20220806T190000
DTSTAMP:20260420T162030
CREATED:20220803T150709Z
LAST-MODIFIED:20220803T150709Z
UID:209030-1659801600-1659812400@visit-marlborough.com
SUMMARY:Get Lost Summer Concert Series @ Lost Shoe
DESCRIPTION:Get Lost Summer Concert Series from 4pm – 7pm! \nPerforming is Simmer Down!
URL:https://visit-marlborough.com/event/get-lost-summer-concert-series-lost-shoe-24/
LOCATION:Lost Shoe Brewing & Roasting Co.\, 19 Weed Street\, Marlborough\, MA\, 01752\, United States
END:VEVENT
BEGIN:VEVENT
DTSTART;TZID=America/New_York:20220806T190000
DTEND;TZID=America/New_York:20220806T220000
DTSTAMP:20260420T162030
CREATED:20220802T132232Z
LAST-MODIFIED:20220802T132232Z
UID:208960-1659812400-1659823200@visit-marlborough.com
SUMMARY:Live Music @ Tackle Box
DESCRIPTION:Paul Janowski is performing at Tackle Box Brewing!
URL:https://visit-marlborough.com/event/live-music-tackle-box-63/
LOCATION:Tackle Box Brewing Company\, 416 Boston Post Road East\, Marlborough\, MA\, 01752\, United States
END:VEVENT
BEGIN:VEVENT
DTSTART;TZID=America/New_York:20220806T190000
DTEND;TZID=America/New_York:20220806T220000
DTSTAMP:20260420T162030
CREATED:20220802T132437Z
LAST-MODIFIED:20220802T132437Z
UID:208962-1659812400-1659823200@visit-marlborough.com
SUMMARY:Live Music @ Tackle Box
DESCRIPTION:Sonic Union is performing at Tackle Box Brewing!
URL:https://visit-marlborough.com/event/live-music-tackle-box-64/
LOCATION:Tackle Box Brewing Company\, 416 Boston Post Road East\, Marlborough\, MA\, 01752\, United States
END:VEVENT
BEGIN:VEVENT
DTSTART;TZID=America/New_York:20220806T210000
DTEND;TZID=America/New_York:20220806T230000
DTSTAMP:20260420T162030
CREATED:20220722T153928Z
LAST-MODIFIED:20220722T153928Z
UID:208888-1659819600-1659826800@visit-marlborough.com
SUMMARY:Live Music @  Dante’s at Firefly's BBQ!
DESCRIPTION:Whiskey Church\n\n\nTop 40 Rock ‘n Roll that guarantees a good time!
URL:https://visit-marlborough.com/event/live-music-dantes-at-fireflys-bbq-3/
LOCATION:Firefly’s BBQ\, 350 East Main Street\, Marlborough\, MA\, 01752\, United States
END:VEVENT
BEGIN:VEVENT
DTSTART;TZID=America/New_York:20220807T130000
DTEND;TZID=America/New_York:20220807T160000
DTSTAMP:20260420T162030
CREATED:20220802T162932Z
LAST-MODIFIED:20220802T162932Z
UID:209013-1659877200-1659888000@visit-marlborough.com
SUMMARY:Get Lost Summer Concert Series @ Lost Shoe
DESCRIPTION:Get Lost Summer Concert Series from 1pm – 4pm! \nPerforming is JP Royer!
URL:https://visit-marlborough.com/event/get-lost-summer-concert-series-lost-shoe-17-2/
LOCATION:Lost Shoe Brewing & Roasting Co.\, 19 Weed Street\, Marlborough\, MA\, 01752\, United States
END:VEVENT
BEGIN:VEVENT
DTSTART;VALUE=DATE:20220809
DTEND;VALUE=DATE:20220811
DTSTAMP:20260420T162030
CREATED:20220722T162427Z
LAST-MODIFIED:20220722T162427Z
UID:211044-1660003200-1660175999@visit-marlborough.com
SUMMARY:Movie Express $2 Movies @ Regal Cinema
DESCRIPTION:Climb aboard and enjoy a great selection of family friendly films this summer during Regal Cinemas’ Summer Movie Express 2021. The Marlborough Regal Cinemas will play two different movies (rated G or PG) for only $2 on Tuesdays and Wednesdays at various times. \nThe Summer Movie Express  runs for consecutive Tuesdays and Wednesdays. Tickets are available exclusively at the theater’s box office on the day of the show. Seating is on a first-come\, first-served basis and is limited to theater capacity. \nBoth movies will play both days. (Please call ahead to check schedule as they may change without notice!) \nTue. Aug 09 to Wed. Aug 10\nBoth movies play on all days \n\nTrolls\nHow to Train Your Dragon: The Hidden World
URL:https://visit-marlborough.com/event/movie-express-2-movies-regal-cinema-3/
LOCATION:Regal Cinema\, 591 Donald Lynch Blvd\, Marlborough\, MA\, 01752\, United States
END:VEVENT
BEGIN:VEVENT
DTSTART;TZID=America/New_York:20220811T060000
DTEND;TZID=America/New_York:20220811T210000
DTSTAMP:20260420T162030
CREATED:20220503T141417Z
LAST-MODIFIED:20220503T141417Z
UID:208449-1660197600-1660251600@visit-marlborough.com
SUMMARY:Live Music @ Kennedy's Pub
DESCRIPTION:Come and enjoy the food\, drinks and music on the Patio with Paul Rodriguez! \n 
URL:https://visit-marlborough.com/event/live-music-kennedys-pub-16/
LOCATION:Kennedy’s Pub\, 247 Maple Street\, Marlborough\, MA\, 01752\, United States
END:VEVENT
BEGIN:VEVENT
DTSTART;TZID=America/New_York:20220811T180000
DTEND;TZID=America/New_York:20220811T210000
DTSTAMP:20260420T162030
CREATED:20220503T141417Z
LAST-MODIFIED:20220503T141417Z
UID:210871-1660240800-1660251600@visit-marlborough.com
SUMMARY:Live Music @ Kennedy's Pub
DESCRIPTION:Come and enjoy the food\, drinks and music on the Patio with Paul Rodriguez! \n 
URL:https://visit-marlborough.com/event/live-music-kennedys-pub-16-2/
LOCATION:Kennedy’s Pub\, 247 Maple Street\, Marlborough\, MA\, 01752\, United States
END:VEVENT
BEGIN:VEVENT
DTSTART;TZID=America/New_York:20220811T190000
DTEND;TZID=America/New_York:20220811T190000
DTSTAMP:20260420T162030
CREATED:20220803T163954Z
LAST-MODIFIED:20220803T163954Z
UID:209048-1660244400-1660244400@visit-marlborough.com
SUMMARY:Summer Concerts @ Union Common
DESCRIPTION:Preforming is The Reminisants! Oldies & Rock-N-Roll!
URL:https://visit-marlborough.com/event/summer-concerts-union-common-2/
LOCATION:MA
END:VEVENT
BEGIN:VEVENT
DTSTART;TZID=America/New_York:20220811T190000
DTEND;TZID=America/New_York:20220811T220000
DTSTAMP:20260420T162030
CREATED:20220801T193830Z
LAST-MODIFIED:20220801T193830Z
UID:208935-1660244400-1660255200@visit-marlborough.com
SUMMARY:Open Mic @ Tackle Box
DESCRIPTION:Open Mic Night!! Starting at 7 pm!
URL:https://visit-marlborough.com/event/open-mic-tackle-box-20-2/
LOCATION:Tackle Box Brewing Company\, 416 Boston Post Road East\, Marlborough\, MA\, 01752\, United States
END:VEVENT
BEGIN:VEVENT
DTSTART;TZID=America/New_York:20220812T160000
DTEND;TZID=America/New_York:20220812T190000
DTSTAMP:20260420T162030
CREATED:20220802T185720Z
LAST-MODIFIED:20220802T185720Z
UID:211063-1660320000-1660330800@visit-marlborough.com
SUMMARY:Get Lost Summer Concert Series @ Lost Shoe
DESCRIPTION:Get Lost Summer Concert Series from 6pm – 9pm! \nPerforming is Rivers Between!
URL:https://visit-marlborough.com/event/get-lost-summer-concert-series-lost-shoe-18/
LOCATION:Lost Shoe Brewing & Roasting Co.\, 19 Weed Street\, Marlborough\, MA\, 01752\, United States
END:VEVENT
BEGIN:VEVENT
DTSTART;TZID=America/New_York:20220812T210000
DTEND;TZID=America/New_York:20220812T230000
DTSTAMP:20260420T162030
CREATED:20220722T154033Z
LAST-MODIFIED:20220722T154033Z
UID:208890-1660338000-1660345200@visit-marlborough.com
SUMMARY:Live Music @  Dante’s at Firefly's BBQ!
DESCRIPTION:Shady Armadillo\n\n\nThis high-energy Country/Rock cover band from Central Massachusetts keeps the dance floor jumping all night long!
URL:https://visit-marlborough.com/event/live-music-dantes-at-fireflys-bbq-4/
LOCATION:Firefly’s BBQ\, 350 East Main Street\, Marlborough\, MA\, 01752\, United States
END:VEVENT
END:VCALENDAR