BEGIN:VCALENDAR
VERSION:2.0
PRODID:-//Visit Marlborough - ECPv6.15.20//NONSGML v1.0//EN
CALSCALE:GREGORIAN
METHOD:PUBLISH
X-ORIGINAL-URL:https://visit-marlborough.com
X-WR-CALDESC:Events for Visit Marlborough
REFRESH-INTERVAL;VALUE=DURATION:PT1H
X-Robots-Tag:noindex
X-PUBLISHED-TTL:PT1H
BEGIN:VTIMEZONE
TZID:America/New_York
BEGIN:DAYLIGHT
TZOFFSETFROM:-0500
TZOFFSETTO:-0400
TZNAME:EDT
DTSTART:20210314T070000
END:DAYLIGHT
BEGIN:STANDARD
TZOFFSETFROM:-0400
TZOFFSETTO:-0500
TZNAME:EST
DTSTART:20211107T060000
END:STANDARD
BEGIN:DAYLIGHT
TZOFFSETFROM:-0500
TZOFFSETTO:-0400
TZNAME:EDT
DTSTART:20220313T070000
END:DAYLIGHT
BEGIN:STANDARD
TZOFFSETFROM:-0400
TZOFFSETTO:-0500
TZNAME:EST
DTSTART:20221106T060000
END:STANDARD
BEGIN:DAYLIGHT
TZOFFSETFROM:-0500
TZOFFSETTO:-0400
TZNAME:EDT
DTSTART:20230312T070000
END:DAYLIGHT
BEGIN:STANDARD
TZOFFSETFROM:-0400
TZOFFSETTO:-0500
TZNAME:EST
DTSTART:20231105T060000
END:STANDARD
END:VTIMEZONE
BEGIN:VEVENT
DTSTART;TZID=America/New_York:20220701T190000
DTEND;TZID=America/New_York:20220701T220000
DTSTAMP:20260423T035438
CREATED:20220705T134612Z
LAST-MODIFIED:20220705T134612Z
UID:210987-1656702000-1656712800@visit-marlborough.com
SUMMARY:Live Music @ Tackle Box
DESCRIPTION:Adam Clapper is performing at Tackle Box Brewing!
URL:https://visit-marlborough.com/event/live-music-tackle-box-51-2/
LOCATION:Tackle Box Brewing Company\, 416 Boston Post Road East\, Marlborough\, MA\, 01752\, United States
END:VEVENT
BEGIN:VEVENT
DTSTART;TZID=America/New_York:20220701T190000
DTEND;TZID=America/New_York:20220701T220000
DTSTAMP:20260423T035438
CREATED:20220705T134612Z
LAST-MODIFIED:20220705T134612Z
UID:208742-1656702000-1656712800@visit-marlborough.com
SUMMARY:Live Music @ Tackle Box
DESCRIPTION:Adam Clapper is performing at Tackle Box Brewing!
URL:https://visit-marlborough.com/event/live-music-tackle-box-51/
LOCATION:Tackle Box Brewing Company\, 416 Boston Post Road East\, Marlborough\, MA\, 01752\, United States
END:VEVENT
BEGIN:VEVENT
DTSTART;TZID=America/New_York:20220702T190000
DTEND;TZID=America/New_York:20220702T220000
DTSTAMP:20260423T035438
CREATED:20220705T134536Z
LAST-MODIFIED:20220705T134536Z
UID:210986-1656788400-1656799200@visit-marlborough.com
SUMMARY:Live Music @ Tackle Box
DESCRIPTION:Mr. G and the Bad Men is performing at Tackle Box Brewing!
URL:https://visit-marlborough.com/event/live-music-tackle-box-50-2/
LOCATION:Tackle Box Brewing Company\, 416 Boston Post Road East\, Marlborough\, MA\, 01752\, United States
END:VEVENT
BEGIN:VEVENT
DTSTART;TZID=America/New_York:20220702T190000
DTEND;TZID=America/New_York:20220702T220000
DTSTAMP:20260423T035438
CREATED:20220705T134536Z
LAST-MODIFIED:20220705T134536Z
UID:208740-1656788400-1656799200@visit-marlborough.com
SUMMARY:Live Music @ Tackle Box
DESCRIPTION:Mr. G and the Bad Men is performing at Tackle Box Brewing!
URL:https://visit-marlborough.com/event/live-music-tackle-box-50/
LOCATION:Tackle Box Brewing Company\, 416 Boston Post Road East\, Marlborough\, MA\, 01752\, United States
END:VEVENT
BEGIN:VEVENT
DTSTART;TZID=America/New_York:20220707T060000
DTEND;TZID=America/New_York:20220707T210000
DTSTAMP:20260423T035438
CREATED:20220503T140857Z
LAST-MODIFIED:20220503T140857Z
UID:208439-1657173600-1657227600@visit-marlborough.com
SUMMARY:Live Music @ Kennedy's Pub
DESCRIPTION:Come and enjoy the food\, drinks and music on the Patio with Jared Hanrahan! \n 
URL:https://visit-marlborough.com/event/live-music-kennedys-pub-11/
LOCATION:Kennedy’s Pub\, 247 Maple Street\, Marlborough\, MA\, 01752\, United States
END:VEVENT
BEGIN:VEVENT
DTSTART;TZID=America/New_York:20220707T060000
DTEND;TZID=America/New_York:20220707T210000
DTSTAMP:20260423T035438
CREATED:20220503T140857Z
LAST-MODIFIED:20220503T140857Z
UID:210866-1657173600-1657227600@visit-marlborough.com
SUMMARY:Live Music @ Kennedy's Pub
DESCRIPTION:Come and enjoy the food\, drinks and music on the Patio with Jared Hanrahan! \n 
URL:https://visit-marlborough.com/event/live-music-kennedys-pub-11-2/
LOCATION:Kennedy’s Pub\, 247 Maple Street\, Marlborough\, MA\, 01752\, United States
END:VEVENT
BEGIN:VEVENT
DTSTART;TZID=America/New_York:20220707T200000
DTEND;TZID=America/New_York:20220707T230000
DTSTAMP:20260423T035438
CREATED:20220705T145521Z
LAST-MODIFIED:20220705T145521Z
UID:211004-1657224000-1657234800@visit-marlborough.com
SUMMARY:Karaoke Night @ Tackle Box
DESCRIPTION:Karaoke Night!
URL:https://visit-marlborough.com/event/karaoke-night-tackle-box-11-2/
LOCATION:Tackle Box Brewing Company\, 416 Boston Post Road East\, Marlborough\, MA\, 01752\, United States
END:VEVENT
BEGIN:VEVENT
DTSTART;TZID=America/New_York:20220707T200000
DTEND;TZID=America/New_York:20220707T230000
DTSTAMP:20260423T035438
CREATED:20220705T145521Z
LAST-MODIFIED:20220705T145521Z
UID:208776-1657224000-1657234800@visit-marlborough.com
SUMMARY:Karaoke Night @ Tackle Box
DESCRIPTION:Karaoke Night!
URL:https://visit-marlborough.com/event/karaoke-night-tackle-box-11/
LOCATION:Tackle Box Brewing Company\, 416 Boston Post Road East\, Marlborough\, MA\, 01752\, United States
END:VEVENT
BEGIN:VEVENT
DTSTART;TZID=America/New_York:20220708T180000
DTEND;TZID=America/New_York:20220708T210000
DTSTAMP:20260423T035438
CREATED:20220705T162918Z
LAST-MODIFIED:20220705T162918Z
UID:208820-1657303200-1657314000@visit-marlborough.com
SUMMARY:Live Music in the Taproom! @ Lost Shoe
DESCRIPTION:Jon Hollywood at the Lost Shoe Brewery!
URL:https://visit-marlborough.com/event/live-music-in-the-taproom-lost-shoe-4/
LOCATION:Lost Shoe Brewing & Roasting Co.\, 19 Weed Street\, Marlborough\, MA\, 01752\, United States
END:VEVENT
BEGIN:VEVENT
DTSTART;TZID=America/New_York:20220708T180000
DTEND;TZID=America/New_York:20220708T210000
DTSTAMP:20260423T035438
CREATED:20220705T162918Z
LAST-MODIFIED:20220705T162918Z
UID:211023-1657303200-1657314000@visit-marlborough.com
SUMMARY:Live Music in the Taproom! @ Lost Shoe
DESCRIPTION:Jon Hollywood at the Lost Shoe Brewery!
URL:https://visit-marlborough.com/event/live-music-in-the-taproom-lost-shoe-4-2/
LOCATION:Lost Shoe Brewing & Roasting Co.\, 19 Weed Street\, Marlborough\, MA\, 01752\, United States
END:VEVENT
BEGIN:VEVENT
DTSTART;TZID=America/New_York:20220708T190000
DTEND;TZID=America/New_York:20220708T220000
DTSTAMP:20260423T035438
CREATED:20220705T134801Z
LAST-MODIFIED:20220705T134801Z
UID:210988-1657306800-1657317600@visit-marlborough.com
SUMMARY:Live Music @ Tackle Box
DESCRIPTION:John Gauvin is performing at Tackle Box Brewing!
URL:https://visit-marlborough.com/event/live-music-tackle-box-52-2/
LOCATION:Tackle Box Brewing Company\, 416 Boston Post Road East\, Marlborough\, MA\, 01752\, United States
END:VEVENT
BEGIN:VEVENT
DTSTART;TZID=America/New_York:20220708T190000
DTEND;TZID=America/New_York:20220708T220000
DTSTAMP:20260423T035438
CREATED:20220705T134801Z
LAST-MODIFIED:20220705T134801Z
UID:208744-1657306800-1657317600@visit-marlborough.com
SUMMARY:Live Music @ Tackle Box
DESCRIPTION:John Gauvin is performing at Tackle Box Brewing!
URL:https://visit-marlborough.com/event/live-music-tackle-box-52/
LOCATION:Tackle Box Brewing Company\, 416 Boston Post Road East\, Marlborough\, MA\, 01752\, United States
END:VEVENT
BEGIN:VEVENT
DTSTART;TZID=America/New_York:20220709T130000
DTEND;TZID=America/New_York:20220709T130000
DTSTAMP:20260423T035438
CREATED:20220705T143334Z
LAST-MODIFIED:20220705T143334Z
UID:208766-1657371600-1657371600@visit-marlborough.com
SUMMARY:Darts Tournament @ Tackle Box
DESCRIPTION:Darts Tournament at the Tackle Box!!
URL:https://visit-marlborough.com/event/darts-tournament-tackle-box-2/
LOCATION:Tackle Box Brewing Company\, 416 Boston Post Road East\, Marlborough\, MA\, 01752\, United States
END:VEVENT
BEGIN:VEVENT
DTSTART;TZID=America/New_York:20220709T130000
DTEND;TZID=America/New_York:20220709T130000
DTSTAMP:20260423T035438
CREATED:20220705T143334Z
LAST-MODIFIED:20220705T143334Z
UID:210999-1657371600-1657371600@visit-marlborough.com
SUMMARY:Darts Tournament @ Tackle Box
DESCRIPTION:Darts Tournament at the Tackle Box!!
URL:https://visit-marlborough.com/event/darts-tournament-tackle-box-2-2/
LOCATION:Tackle Box Brewing Company\, 416 Boston Post Road East\, Marlborough\, MA\, 01752\, United States
END:VEVENT
BEGIN:VEVENT
DTSTART;TZID=America/New_York:20220709T160000
DTEND;TZID=America/New_York:20220709T190000
DTSTAMP:20260423T035438
CREATED:20220705T164842Z
LAST-MODIFIED:20220705T164842Z
UID:208834-1657382400-1657393200@visit-marlborough.com
SUMMARY:Get Lost Summer Concert Series @ Lost Shoe
DESCRIPTION:Get Lost Summer Concert Series from 4pm – 7pm! \nPerforming is The Pub Kings!
URL:https://visit-marlborough.com/event/get-lost-summer-concert-series-lost-shoe-13/
LOCATION:Lost Shoe Brewing & Roasting Co.\, 19 Weed Street\, Marlborough\, MA\, 01752\, United States
END:VEVENT
BEGIN:VEVENT
DTSTART;TZID=America/New_York:20220709T160000
DTEND;TZID=America/New_York:20220709T190000
DTSTAMP:20260423T035438
CREATED:20220705T164842Z
LAST-MODIFIED:20220705T164842Z
UID:211030-1657382400-1657393200@visit-marlborough.com
SUMMARY:Get Lost Summer Concert Series @ Lost Shoe
DESCRIPTION:Get Lost Summer Concert Series from 4pm – 7pm! \nPerforming is The Pub Kings!
URL:https://visit-marlborough.com/event/get-lost-summer-concert-series-lost-shoe-13-2/
LOCATION:Lost Shoe Brewing & Roasting Co.\, 19 Weed Street\, Marlborough\, MA\, 01752\, United States
END:VEVENT
BEGIN:VEVENT
DTSTART;TZID=America/New_York:20220709T190000
DTEND;TZID=America/New_York:20220709T220000
DTSTAMP:20260423T035438
CREATED:20220705T134901Z
LAST-MODIFIED:20220705T134901Z
UID:208746-1657393200-1657404000@visit-marlborough.com
SUMMARY:Live Music @ Tackle Box
DESCRIPTION:The Moscas are performing at Tackle Box Brewing!
URL:https://visit-marlborough.com/event/live-music-tackle-box-53/
LOCATION:Tackle Box Brewing Company\, 416 Boston Post Road East\, Marlborough\, MA\, 01752\, United States
END:VEVENT
BEGIN:VEVENT
DTSTART;TZID=America/New_York:20220709T190000
DTEND;TZID=America/New_York:20220709T220000
DTSTAMP:20260423T035438
CREATED:20220705T134901Z
LAST-MODIFIED:20220705T134901Z
UID:210989-1657393200-1657404000@visit-marlborough.com
SUMMARY:Live Music @ Tackle Box
DESCRIPTION:The Moscas are performing at Tackle Box Brewing!
URL:https://visit-marlborough.com/event/live-music-tackle-box-53-2/
LOCATION:Tackle Box Brewing Company\, 416 Boston Post Road East\, Marlborough\, MA\, 01752\, United States
END:VEVENT
BEGIN:VEVENT
DTSTART;TZID=America/New_York:20220710T130000
DTEND;TZID=America/New_York:20220710T160000
DTSTAMP:20260423T035438
CREATED:20220705T163722Z
LAST-MODIFIED:20220705T163722Z
UID:211026-1657458000-1657468800@visit-marlborough.com
SUMMARY:Get Lost Summer Concert Series @ Lost Shoe
DESCRIPTION:Get Lost Summer Concert Series from 1 – 4! \nPerforming is Whiskey Duo!
URL:https://visit-marlborough.com/event/get-lost-summer-concert-series-lost-shoe-9-2/
LOCATION:Lost Shoe Brewing & Roasting Co.\, 19 Weed Street\, Marlborough\, MA\, 01752\, United States
END:VEVENT
BEGIN:VEVENT
DTSTART;TZID=America/New_York:20220710T130000
DTEND;TZID=America/New_York:20220710T160000
DTSTAMP:20260423T035438
CREATED:20220705T163722Z
LAST-MODIFIED:20220705T163722Z
UID:208826-1657458000-1657468800@visit-marlborough.com
SUMMARY:Get Lost Summer Concert Series @ Lost Shoe
DESCRIPTION:Get Lost Summer Concert Series from 1 – 4! \nPerforming is Whiskey Duo!
URL:https://visit-marlborough.com/event/get-lost-summer-concert-series-lost-shoe-9/
LOCATION:Lost Shoe Brewing & Roasting Co.\, 19 Weed Street\, Marlborough\, MA\, 01752\, United States
END:VEVENT
BEGIN:VEVENT
DTSTART;TZID=America/New_York:20220710T140000
DTEND;TZID=America/New_York:20220710T140000
DTSTAMP:20260423T035438
CREATED:20220705T152343Z
LAST-MODIFIED:20220705T152343Z
UID:211014-1657461600-1657461600@visit-marlborough.com
SUMMARY:Summer Paint & Sip @ Tackle Box Brewing Company
DESCRIPTION:Come and paint a beautiful sea coast picture to start off your summer!
URL:https://visit-marlborough.com/event/summer-paint-and-sip-tackle-box-brewing-company-2/
LOCATION:Tackle Box Brewing Company\, 416 Boston Post Road East\, Marlborough\, MA\, 01752\, United States
END:VEVENT
BEGIN:VEVENT
DTSTART;TZID=America/New_York:20220710T140000
DTEND;TZID=America/New_York:20220710T140000
DTSTAMP:20260423T035438
CREATED:20220705T152343Z
LAST-MODIFIED:20220705T152718Z
UID:208799-1657461600-1657461600@visit-marlborough.com
SUMMARY:Summer Paint & Sip @ Tackle Box Brewing Company
DESCRIPTION:Come and paint a beautiful sea coast picture to start off your summer!
URL:https://visit-marlborough.com/event/summer-paint-and-sip-tackle-box-brewing-company/
LOCATION:Tackle Box Brewing Company\, 416 Boston Post Road East\, Marlborough\, MA\, 01752\, United States
END:VEVENT
BEGIN:VEVENT
DTSTART;TZID=America/New_York:20220714T060000
DTEND;TZID=America/New_York:20220714T210000
DTSTAMP:20260423T035438
CREATED:20220503T140951Z
LAST-MODIFIED:20220503T140951Z
UID:208441-1657778400-1657832400@visit-marlborough.com
SUMMARY:Live Music @ Kennedy's Pub
DESCRIPTION:Come and enjoy the food\, drinks and music on the Patio with Jon Paul! \n 
URL:https://visit-marlborough.com/event/live-music-kennedys-pub-12/
LOCATION:Kennedy’s Pub\, 247 Maple Street\, Marlborough\, MA\, 01752\, United States
END:VEVENT
BEGIN:VEVENT
DTSTART;TZID=America/New_York:20220714T060000
DTEND;TZID=America/New_York:20220714T210000
DTSTAMP:20260423T035438
CREATED:20220503T140951Z
LAST-MODIFIED:20220503T140951Z
UID:210867-1657778400-1657832400@visit-marlborough.com
SUMMARY:Live Music @ Kennedy's Pub
DESCRIPTION:Come and enjoy the food\, drinks and music on the Patio with Jon Paul! \n 
URL:https://visit-marlborough.com/event/live-music-kennedys-pub-12-2/
LOCATION:Kennedy’s Pub\, 247 Maple Street\, Marlborough\, MA\, 01752\, United States
END:VEVENT
BEGIN:VEVENT
DTSTART;TZID=America/New_York:20220714T190000
DTEND;TZID=America/New_York:20220714T220000
DTSTAMP:20260423T035438
CREATED:20220705T143602Z
LAST-MODIFIED:20220705T143602Z
UID:208768-1657825200-1657836000@visit-marlborough.com
SUMMARY:Open Mic @ Tackle Box
DESCRIPTION:Open Mic Night!! Starting at 7 pm!
URL:https://visit-marlborough.com/event/open-mic-tackle-box-17/
LOCATION:Tackle Box Brewing Company\, 416 Boston Post Road East\, Marlborough\, MA\, 01752\, United States
END:VEVENT
BEGIN:VEVENT
DTSTART;TZID=America/New_York:20220714T190000
DTEND;TZID=America/New_York:20220714T220000
DTSTAMP:20260423T035438
CREATED:20220705T143602Z
LAST-MODIFIED:20220705T143602Z
UID:211000-1657825200-1657836000@visit-marlborough.com
SUMMARY:Open Mic @ Tackle Box
DESCRIPTION:Open Mic Night!! Starting at 7 pm!
URL:https://visit-marlborough.com/event/open-mic-tackle-box-17-2/
LOCATION:Tackle Box Brewing Company\, 416 Boston Post Road East\, Marlborough\, MA\, 01752\, United States
END:VEVENT
BEGIN:VEVENT
DTSTART;TZID=America/New_York:20220715T180000
DTEND;TZID=America/New_York:20220715T210000
DTSTAMP:20260423T035438
CREATED:20220706T141710Z
LAST-MODIFIED:20220706T141710Z
UID:208849-1657908000-1657918800@visit-marlborough.com
SUMMARY:Live Music in the Taproom! @ Lost Shoe
DESCRIPTION:John Demers is preforming at the Lost Shoe Brewery!
URL:https://visit-marlborough.com/event/live-music-in-the-taproom-lost-shoe-7/
LOCATION:Lost Shoe Brewing & Roasting Co.\, 19 Weed Street\, Marlborough\, MA\, 01752\, United States
END:VEVENT
BEGIN:VEVENT
DTSTART;TZID=America/New_York:20220715T180000
DTEND;TZID=America/New_York:20220715T210000
DTSTAMP:20260423T035438
CREATED:20220706T141710Z
LAST-MODIFIED:20220706T141710Z
UID:211034-1657908000-1657918800@visit-marlborough.com
SUMMARY:Live Music in the Taproom! @ Lost Shoe
DESCRIPTION:John Demers is preforming at the Lost Shoe Brewery!
URL:https://visit-marlborough.com/event/live-music-in-the-taproom-lost-shoe-7-2/
LOCATION:Lost Shoe Brewing & Roasting Co.\, 19 Weed Street\, Marlborough\, MA\, 01752\, United States
END:VEVENT
BEGIN:VEVENT
DTSTART;TZID=America/New_York:20220715T180000
DTEND;TZID=America/New_York:20220715T220000
DTSTAMP:20260423T035438
CREATED:20220714T152859Z
LAST-MODIFIED:20220714T152859Z
UID:208861-1657908000-1657922400@visit-marlborough.com
SUMMARY:Live Music @ Firefly's BBQ!
DESCRIPTION:True Vibe Band\n\n\nFriends sharing a common passion for making great music and entertaining\, the True Vibe Band performs a variety of Funk\, Soul\, Blues\, Jazz\, and Rock songs. You’ll love the variety!
URL:https://visit-marlborough.com/event/live-music-fireflys-bbq-9-2/
LOCATION:Firefly’s BBQ\, 350 East Main Street\, Marlborough\, MA\, 01752\, United States
END:VEVENT
BEGIN:VEVENT
DTSTART;TZID=America/New_York:20220715T190000
DTEND;TZID=America/New_York:20220715T220000
DTSTAMP:20260423T035438
CREATED:20220705T135012Z
LAST-MODIFIED:20220705T135012Z
UID:208748-1657911600-1657922400@visit-marlborough.com
SUMMARY:Live Music @ Tackle Box
DESCRIPTION:Tom Abbott is performing at Tackle Box Brewing!
URL:https://visit-marlborough.com/event/live-music-tackle-box-54/
LOCATION:Tackle Box Brewing Company\, 416 Boston Post Road East\, Marlborough\, MA\, 01752\, United States
END:VEVENT
END:VCALENDAR