BEGIN:VCALENDAR
VERSION:2.0
PRODID:-//Visit Marlborough - ECPv6.15.20//NONSGML v1.0//EN
CALSCALE:GREGORIAN
METHOD:PUBLISH
X-WR-CALNAME:Visit Marlborough
X-ORIGINAL-URL:https://visit-marlborough.com
X-WR-CALDESC:Events for Visit Marlborough
REFRESH-INTERVAL;VALUE=DURATION:PT1H
X-Robots-Tag:noindex
X-PUBLISHED-TTL:PT1H
BEGIN:VTIMEZONE
TZID:America/New_York
BEGIN:DAYLIGHT
TZOFFSETFROM:-0500
TZOFFSETTO:-0400
TZNAME:EDT
DTSTART:20210314T070000
END:DAYLIGHT
BEGIN:STANDARD
TZOFFSETFROM:-0400
TZOFFSETTO:-0500
TZNAME:EST
DTSTART:20211107T060000
END:STANDARD
BEGIN:DAYLIGHT
TZOFFSETFROM:-0500
TZOFFSETTO:-0400
TZNAME:EDT
DTSTART:20220313T070000
END:DAYLIGHT
BEGIN:STANDARD
TZOFFSETFROM:-0400
TZOFFSETTO:-0500
TZNAME:EST
DTSTART:20221106T060000
END:STANDARD
BEGIN:DAYLIGHT
TZOFFSETFROM:-0500
TZOFFSETTO:-0400
TZNAME:EDT
DTSTART:20230312T070000
END:DAYLIGHT
BEGIN:STANDARD
TZOFFSETFROM:-0400
TZOFFSETTO:-0500
TZNAME:EST
DTSTART:20231105T060000
END:STANDARD
END:VTIMEZONE
BEGIN:VEVENT
DTSTART;TZID=America/New_York:20220505T060000
DTEND;TZID=America/New_York:20220505T210000
DTSTAMP:20260424T043458
CREATED:20220503T135318Z
LAST-MODIFIED:20220503T135318Z
UID:210857-1651730400-1651784400@visit-marlborough.com
SUMMARY:Live Music @ Kennedy's Pub
DESCRIPTION:Come and enjoy the food\, drinks and music on the Patio with Jared Hanrahan! \n 
URL:https://visit-marlborough.com/event/live-music-kennedys-pub-2-2/
LOCATION:Kennedy’s Pub\, 247 Maple Street\, Marlborough\, MA\, 01752\, United States
END:VEVENT
BEGIN:VEVENT
DTSTART;TZID=America/New_York:20220505T060000
DTEND;TZID=America/New_York:20220505T210000
DTSTAMP:20260424T043458
CREATED:20220503T135318Z
LAST-MODIFIED:20220503T135318Z
UID:208420-1651730400-1651784400@visit-marlborough.com
SUMMARY:Live Music @ Kennedy's Pub
DESCRIPTION:Come and enjoy the food\, drinks and music on the Patio with Jared Hanrahan! \n 
URL:https://visit-marlborough.com/event/live-music-kennedys-pub-2/
LOCATION:Kennedy’s Pub\, 247 Maple Street\, Marlborough\, MA\, 01752\, United States
END:VEVENT
BEGIN:VEVENT
DTSTART;TZID=America/New_York:20220505T200000
DTEND;TZID=America/New_York:20220505T230000
DTSTAMP:20260424T043458
CREATED:20220503T151617Z
LAST-MODIFIED:20220503T151617Z
UID:210896-1651780800-1651791600@visit-marlborough.com
SUMMARY:Karaoke Night @ Tackle Box
DESCRIPTION:Karaoke Night!
URL:https://visit-marlborough.com/event/karaoke-night-tackle-box-9-2/
LOCATION:Tackle Box Brewing Company\, 416 Boston Post Road East\, Marlborough\, MA\, 01752\, United States
END:VEVENT
BEGIN:VEVENT
DTSTART;TZID=America/New_York:20220505T200000
DTEND;TZID=America/New_York:20220505T230000
DTSTAMP:20260424T043458
CREATED:20220503T151617Z
LAST-MODIFIED:20220503T151617Z
UID:208497-1651780800-1651791600@visit-marlborough.com
SUMMARY:Karaoke Night @ Tackle Box
DESCRIPTION:Karaoke Night!
URL:https://visit-marlborough.com/event/karaoke-night-tackle-box-9/
LOCATION:Tackle Box Brewing Company\, 416 Boston Post Road East\, Marlborough\, MA\, 01752\, United States
END:VEVENT
BEGIN:VEVENT
DTSTART;TZID=America/New_York:20220506T190000
DTEND;TZID=America/New_York:20220506T220000
DTSTAMP:20260424T043458
CREATED:20220503T144416Z
LAST-MODIFIED:20220503T144416Z
UID:210883-1651863600-1651874400@visit-marlborough.com
SUMMARY:Live Music @ Tackle Box
DESCRIPTION:Joe Armanetti is performing at Tackle Box Brewing from 7-10pm!
URL:https://visit-marlborough.com/event/live-music-tackle-box-33-2/
LOCATION:Tackle Box Brewing Company\, 416 Boston Post Road East\, Marlborough\, MA\, 01752\, United States
END:VEVENT
BEGIN:VEVENT
DTSTART;TZID=America/New_York:20220506T190000
DTEND;TZID=America/New_York:20220506T220000
DTSTAMP:20260424T043458
CREATED:20220503T144416Z
LAST-MODIFIED:20220503T144416Z
UID:208473-1651863600-1651874400@visit-marlborough.com
SUMMARY:Live Music @ Tackle Box
DESCRIPTION:Joe Armanetti is performing at Tackle Box Brewing from 7-10pm!
URL:https://visit-marlborough.com/event/live-music-tackle-box-33/
LOCATION:Tackle Box Brewing Company\, 416 Boston Post Road East\, Marlborough\, MA\, 01752\, United States
END:VEVENT
BEGIN:VEVENT
DTSTART;TZID=America/New_York:20220507T170000
DTEND;TZID=America/New_York:20220507T200000
DTSTAMP:20260424T043458
CREATED:20220413T150142Z
LAST-MODIFIED:20220413T150142Z
UID:210849-1651942800-1651953600@visit-marlborough.com
SUMMARY:Jazz Night Every Saturday @ Fish!
DESCRIPTION:Jazz Night at Fish featuring Portrait in Jazz
URL:https://visit-marlborough.com/event/jazz-night-every-saturday-fish-5/
LOCATION:Fish Restaurant & Wine Bar\, 29 South Bolton Street\, Marlborough\, 01749\, United States
END:VEVENT
BEGIN:VEVENT
DTSTART;TZID=America/New_York:20220507T170000
DTEND;TZID=America/New_York:20220507T200000
DTSTAMP:20260424T043458
CREATED:20220413T150142Z
LAST-MODIFIED:20220413T150510Z
UID:208392-1651942800-1651953600@visit-marlborough.com
SUMMARY:Jazz Night Every Saturday @ Fish!
DESCRIPTION:Jazz Night at Fish featuring Portrait in Jazz
URL:https://visit-marlborough.com/event/jazz-night-every-saturday-fish/
LOCATION:Fish Restaurant & Wine Bar\, 29 South Bolton Street\, Marlborough\, 01749\, United States
END:VEVENT
BEGIN:VEVENT
DTSTART;TZID=America/New_York:20220507T190000
DTEND;TZID=America/New_York:20220507T220000
DTSTAMP:20260424T043458
CREATED:20220503T145452Z
LAST-MODIFIED:20220503T145452Z
UID:210888-1651950000-1651960800@visit-marlborough.com
SUMMARY:Live Music @ Tackle Box
DESCRIPTION:According to Nancy is performing at Tackle Box Brewing from 7-10pm!
URL:https://visit-marlborough.com/event/live-music-tackle-box-37-2/
LOCATION:Tackle Box Brewing Company\, 416 Boston Post Road East\, Marlborough\, MA\, 01752\, United States
END:VEVENT
BEGIN:VEVENT
DTSTART;TZID=America/New_York:20220507T190000
DTEND;TZID=America/New_York:20220507T220000
DTSTAMP:20260424T043458
CREATED:20220503T145452Z
LAST-MODIFIED:20220503T145452Z
UID:208481-1651950000-1651960800@visit-marlborough.com
SUMMARY:Live Music @ Tackle Box
DESCRIPTION:According to Nancy is performing at Tackle Box Brewing from 7-10pm!
URL:https://visit-marlborough.com/event/live-music-tackle-box-37/
LOCATION:Tackle Box Brewing Company\, 416 Boston Post Road East\, Marlborough\, MA\, 01752\, United States
END:VEVENT
BEGIN:VEVENT
DTSTART;TZID=America/New_York:20220512T060000
DTEND;TZID=America/New_York:20220512T210000
DTSTAMP:20260424T043458
CREATED:20220503T135511Z
LAST-MODIFIED:20220503T135511Z
UID:210858-1652335200-1652389200@visit-marlborough.com
SUMMARY:Live Music @ Kennedy's Pub
DESCRIPTION:Come and enjoy the food\, drinks and music on the Patio with Mike Gargone! \n 
URL:https://visit-marlborough.com/event/live-music-kennedys-pub-3-2/
LOCATION:Kennedy’s Pub\, 247 Maple Street\, Marlborough\, MA\, 01752\, United States
END:VEVENT
BEGIN:VEVENT
DTSTART;TZID=America/New_York:20220512T060000
DTEND;TZID=America/New_York:20220512T210000
DTSTAMP:20260424T043458
CREATED:20220503T135511Z
LAST-MODIFIED:20220503T140004Z
UID:208422-1652335200-1652389200@visit-marlborough.com
SUMMARY:Live Music @ Kennedy's Pub
DESCRIPTION:Come and enjoy the food\, drinks and music on the Patio with Mike Gargone! \n 
URL:https://visit-marlborough.com/event/live-music-kennedys-pub-3/
LOCATION:Kennedy’s Pub\, 247 Maple Street\, Marlborough\, MA\, 01752\, United States
END:VEVENT
BEGIN:VEVENT
DTSTART;TZID=America/New_York:20220512T190000
DTEND;TZID=America/New_York:20220512T220000
DTSTAMP:20260424T043458
CREATED:20220503T150006Z
LAST-MODIFIED:20220503T150006Z
UID:210892-1652382000-1652392800@visit-marlborough.com
SUMMARY:Open Mic @ Tackle Box
DESCRIPTION:
URL:https://visit-marlborough.com/event/open-mic-tackle-box-10-2/
LOCATION:Tackle Box Brewing Company\, 416 Boston Post Road East\, Marlborough\, MA\, 01752\, United States
END:VEVENT
BEGIN:VEVENT
DTSTART;TZID=America/New_York:20220512T190000
DTEND;TZID=America/New_York:20220512T220000
DTSTAMP:20260424T043458
CREATED:20220503T150006Z
LAST-MODIFIED:20220503T150006Z
UID:208489-1652382000-1652392800@visit-marlborough.com
SUMMARY:Open Mic @ Tackle Box
DESCRIPTION:
URL:https://visit-marlborough.com/event/open-mic-tackle-box-10/
LOCATION:Tackle Box Brewing Company\, 416 Boston Post Road East\, Marlborough\, MA\, 01752\, United States
END:VEVENT
BEGIN:VEVENT
DTSTART;TZID=America/New_York:20220513T190000
DTEND;TZID=America/New_York:20220513T220000
DTSTAMP:20260424T043458
CREATED:20220503T144659Z
LAST-MODIFIED:20220503T144659Z
UID:210885-1652468400-1652479200@visit-marlborough.com
SUMMARY:Live Music @ Tackle Box
DESCRIPTION:Pete & Steve is performing at Tackle Box Brewing from 7-10pm!
URL:https://visit-marlborough.com/event/live-music-tackle-box-34-2/
LOCATION:Tackle Box Brewing Company\, 416 Boston Post Road East\, Marlborough\, MA\, 01752\, United States
END:VEVENT
BEGIN:VEVENT
DTSTART;TZID=America/New_York:20220513T190000
DTEND;TZID=America/New_York:20220513T220000
DTSTAMP:20260424T043458
CREATED:20220503T144659Z
LAST-MODIFIED:20220503T144659Z
UID:208475-1652468400-1652479200@visit-marlborough.com
SUMMARY:Live Music @ Tackle Box
DESCRIPTION:Pete & Steve is performing at Tackle Box Brewing from 7-10pm!
URL:https://visit-marlborough.com/event/live-music-tackle-box-34/
LOCATION:Tackle Box Brewing Company\, 416 Boston Post Road East\, Marlborough\, MA\, 01752\, United States
END:VEVENT
BEGIN:VEVENT
DTSTART;TZID=America/New_York:20220514T140000
DTEND;TZID=America/New_York:20220514T160000
DTSTAMP:20260424T043458
CREATED:20220503T160256Z
LAST-MODIFIED:20220503T160256Z
UID:210905-1652536800-1652544000@visit-marlborough.com
SUMMARY:Summer Vibes Cupcake Decorating Class @ Tackle Box Brewery!
DESCRIPTION:Summer Vibes Cupcake Decorating\n\n~Sip and Sugar Art~\nAll supplies are provided to decorate summer fun cupcakes- 3 vanilla and 3 chocolate cupcakes\, buttercream\, edible flamingo décor and fondant embellishments\, along with a carry home cupcake box. \nStep-by-step instructions by Instructor Sue from Let’s Cake Decorate. \n\nTo get your tickets click on the link below!\nhttps://letscakedecorate.square.site/#knCjs
URL:https://visit-marlborough.com/event/summer-vibes-cupcake-decorating-class-tackle-box-brewery-2/
LOCATION:Tackle Box Brewing Company\, 416 Boston Post Road East\, Marlborough\, MA\, 01752\, United States
END:VEVENT
BEGIN:VEVENT
DTSTART;TZID=America/New_York:20220514T140000
DTEND;TZID=America/New_York:20220514T160000
DTSTAMP:20260424T043458
CREATED:20220503T160256Z
LAST-MODIFIED:20220503T160256Z
UID:208523-1652536800-1652544000@visit-marlborough.com
SUMMARY:Summer Vibes Cupcake Decorating Class @ Tackle Box Brewery!
DESCRIPTION:Summer Vibes Cupcake Decorating\n\n~Sip and Sugar Art~\nAll supplies are provided to decorate summer fun cupcakes- 3 vanilla and 3 chocolate cupcakes\, buttercream\, edible flamingo décor and fondant embellishments\, along with a carry home cupcake box. \nStep-by-step instructions by Instructor Sue from Let’s Cake Decorate. \n\nTo get your tickets click on the link below!\nhttps://letscakedecorate.square.site/#knCjs
URL:https://visit-marlborough.com/event/summer-vibes-cupcake-decorating-class-tackle-box-brewery/
LOCATION:Tackle Box Brewing Company\, 416 Boston Post Road East\, Marlborough\, MA\, 01752\, United States
END:VEVENT
BEGIN:VEVENT
DTSTART;TZID=America/New_York:20220514T170000
DTEND;TZID=America/New_York:20220514T200000
DTSTAMP:20260424T043458
CREATED:20220413T151022Z
LAST-MODIFIED:20220413T151022Z
UID:210850-1652547600-1652558400@visit-marlborough.com
SUMMARY:Jazz Night @ Fish!
DESCRIPTION:Jazz Night at Fish featuring Blueprint Jazz Club
URL:https://visit-marlborough.com/event/jazz-night-every-saturday-fish-2-2/
LOCATION:Fish Restaurant & Wine Bar\, 29 South Bolton Street\, Marlborough\, 01749\, United States
END:VEVENT
BEGIN:VEVENT
DTSTART;TZID=America/New_York:20220514T170000
DTEND;TZID=America/New_York:20220514T200000
DTSTAMP:20260424T043458
CREATED:20220413T151022Z
LAST-MODIFIED:20220413T151419Z
UID:208394-1652547600-1652558400@visit-marlborough.com
SUMMARY:Jazz Night @ Fish!
DESCRIPTION:Jazz Night at Fish featuring Blueprint Jazz Club
URL:https://visit-marlborough.com/event/jazz-night-every-saturday-fish-2/
LOCATION:Fish Restaurant & Wine Bar\, 29 South Bolton Street\, Marlborough\, 01749\, United States
END:VEVENT
BEGIN:VEVENT
DTSTART;TZID=America/New_York:20220514T190000
DTEND;TZID=America/New_York:20220514T220000
DTSTAMP:20260424T043458
CREATED:20220503T145615Z
LAST-MODIFIED:20220503T145615Z
UID:210889-1652554800-1652565600@visit-marlborough.com
SUMMARY:Live Music @ Tackle Box
DESCRIPTION:Last Call Radio is performing at Tackle Box Brewing from 7-10pm!
URL:https://visit-marlborough.com/event/live-music-tackle-box-38-2/
LOCATION:Tackle Box Brewing Company\, 416 Boston Post Road East\, Marlborough\, MA\, 01752\, United States
END:VEVENT
BEGIN:VEVENT
DTSTART;TZID=America/New_York:20220514T190000
DTEND;TZID=America/New_York:20220514T220000
DTSTAMP:20260424T043458
CREATED:20220503T145615Z
LAST-MODIFIED:20220503T145615Z
UID:208483-1652554800-1652565600@visit-marlborough.com
SUMMARY:Live Music @ Tackle Box
DESCRIPTION:Last Call Radio is performing at Tackle Box Brewing from 7-10pm!
URL:https://visit-marlborough.com/event/live-music-tackle-box-38/
LOCATION:Tackle Box Brewing Company\, 416 Boston Post Road East\, Marlborough\, MA\, 01752\, United States
END:VEVENT
BEGIN:VEVENT
DTSTART;TZID=America/New_York:20220519T060000
DTEND;TZID=America/New_York:20220519T210000
DTSTAMP:20260424T043458
CREATED:20220503T140121Z
LAST-MODIFIED:20220503T140121Z
UID:210859-1652940000-1652994000@visit-marlborough.com
SUMMARY:Live Music @ Kennedy's Pub
DESCRIPTION:Come and enjoy the food\, drinks and music on the Patio with Jodiee Foster! \n 
URL:https://visit-marlborough.com/event/live-music-kennedys-pub-4-2/
LOCATION:Kennedy’s Pub\, 247 Maple Street\, Marlborough\, MA\, 01752\, United States
END:VEVENT
BEGIN:VEVENT
DTSTART;TZID=America/New_York:20220519T060000
DTEND;TZID=America/New_York:20220519T210000
DTSTAMP:20260424T043458
CREATED:20220503T140121Z
LAST-MODIFIED:20220503T140121Z
UID:208425-1652940000-1652994000@visit-marlborough.com
SUMMARY:Live Music @ Kennedy's Pub
DESCRIPTION:Come and enjoy the food\, drinks and music on the Patio with Jodiee Foster! \n 
URL:https://visit-marlborough.com/event/live-music-kennedys-pub-4/
LOCATION:Kennedy’s Pub\, 247 Maple Street\, Marlborough\, MA\, 01752\, United States
END:VEVENT
BEGIN:VEVENT
DTSTART;TZID=America/New_York:20220519T190000
DTEND;TZID=America/New_York:20220519T220000
DTSTAMP:20260424T043458
CREATED:20220503T150041Z
LAST-MODIFIED:20220503T150041Z
UID:210893-1652986800-1652997600@visit-marlborough.com
SUMMARY:Open Mic @ Tackle Box
DESCRIPTION:
URL:https://visit-marlborough.com/event/open-mic-tackle-box-11-2/
LOCATION:Tackle Box Brewing Company\, 416 Boston Post Road East\, Marlborough\, MA\, 01752\, United States
END:VEVENT
BEGIN:VEVENT
DTSTART;TZID=America/New_York:20220519T190000
DTEND;TZID=America/New_York:20220519T220000
DTSTAMP:20260424T043458
CREATED:20220503T150041Z
LAST-MODIFIED:20220503T150041Z
UID:208491-1652986800-1652997600@visit-marlborough.com
SUMMARY:Open Mic @ Tackle Box
DESCRIPTION:
URL:https://visit-marlborough.com/event/open-mic-tackle-box-11/
LOCATION:Tackle Box Brewing Company\, 416 Boston Post Road East\, Marlborough\, MA\, 01752\, United States
END:VEVENT
BEGIN:VEVENT
DTSTART;TZID=America/New_York:20220520T210000
DTEND;TZID=America/New_York:20220520T230000
DTSTAMP:20260424T043458
CREATED:20220503T151235Z
LAST-MODIFIED:20220503T151235Z
UID:210895-1653080400-1653087600@visit-marlborough.com
SUMMARY:Laughing Lure Comedy Night @ Tackle Box Brewing
DESCRIPTION:Laughing Lure Comedy night!
URL:https://visit-marlborough.com/event/laughing-lure-comedy-night-tackle-box-brewing-5-2/
LOCATION:Tackle Box Brewing Company\, 416 Boston Post Road East\, Marlborough\, MA\, 01752\, United States
END:VEVENT
BEGIN:VEVENT
DTSTART;TZID=America/New_York:20220520T210000
DTEND;TZID=America/New_York:20220520T230000
DTSTAMP:20260424T043458
CREATED:20220503T151235Z
LAST-MODIFIED:20220503T151235Z
UID:208495-1653080400-1653087600@visit-marlborough.com
SUMMARY:Laughing Lure Comedy Night @ Tackle Box Brewing
DESCRIPTION:Laughing Lure Comedy night!
URL:https://visit-marlborough.com/event/laughing-lure-comedy-night-tackle-box-brewing-5/
LOCATION:Tackle Box Brewing Company\, 416 Boston Post Road East\, Marlborough\, MA\, 01752\, United States
END:VEVENT
BEGIN:VEVENT
DTSTART;TZID=America/New_York:20220521T170000
DTEND;TZID=America/New_York:20220521T200000
DTSTAMP:20260424T043458
CREATED:20220413T151143Z
LAST-MODIFIED:20220413T151143Z
UID:210851-1653152400-1653163200@visit-marlborough.com
SUMMARY:Jazz Night @ Fish!
DESCRIPTION:Jazz Night at Fish featuring Bring Back Pluto
URL:https://visit-marlborough.com/event/jazz-night-every-saturday-fish-3-2/
LOCATION:Fish Restaurant & Wine Bar\, 29 South Bolton Street\, Marlborough\, 01749\, United States
END:VEVENT
BEGIN:VEVENT
DTSTART;TZID=America/New_York:20220521T170000
DTEND;TZID=America/New_York:20220521T200000
DTSTAMP:20260424T043458
CREATED:20220413T151143Z
LAST-MODIFIED:20220413T151437Z
UID:208396-1653152400-1653163200@visit-marlborough.com
SUMMARY:Jazz Night @ Fish!
DESCRIPTION:Jazz Night at Fish featuring Bring Back Pluto
URL:https://visit-marlborough.com/event/jazz-night-every-saturday-fish-3/
LOCATION:Fish Restaurant & Wine Bar\, 29 South Bolton Street\, Marlborough\, 01749\, United States
END:VEVENT
END:VCALENDAR