BEGIN:VCALENDAR
VERSION:2.0
PRODID:-//Visit Marlborough - ECPv6.15.20//NONSGML v1.0//EN
CALSCALE:GREGORIAN
METHOD:PUBLISH
X-ORIGINAL-URL:https://visit-marlborough.com
X-WR-CALDESC:Events for Visit Marlborough
REFRESH-INTERVAL;VALUE=DURATION:PT1H
X-Robots-Tag:noindex
X-PUBLISHED-TTL:PT1H
BEGIN:VTIMEZONE
TZID:America/New_York
BEGIN:DAYLIGHT
TZOFFSETFROM:-0500
TZOFFSETTO:-0400
TZNAME:EDT
DTSTART:20210314T070000
END:DAYLIGHT
BEGIN:STANDARD
TZOFFSETFROM:-0400
TZOFFSETTO:-0500
TZNAME:EST
DTSTART:20211107T060000
END:STANDARD
BEGIN:DAYLIGHT
TZOFFSETFROM:-0500
TZOFFSETTO:-0400
TZNAME:EDT
DTSTART:20220313T070000
END:DAYLIGHT
BEGIN:STANDARD
TZOFFSETFROM:-0400
TZOFFSETTO:-0500
TZNAME:EST
DTSTART:20221106T060000
END:STANDARD
BEGIN:DAYLIGHT
TZOFFSETFROM:-0500
TZOFFSETTO:-0400
TZNAME:EDT
DTSTART:20230312T070000
END:DAYLIGHT
BEGIN:STANDARD
TZOFFSETFROM:-0400
TZOFFSETTO:-0500
TZNAME:EST
DTSTART:20231105T060000
END:STANDARD
END:VTIMEZONE
BEGIN:VEVENT
DTSTART;TZID=America/New_York:20220401T190000
DTEND;TZID=America/New_York:20220401T220000
DTSTAMP:20260425T175503
CREATED:20220401T200247Z
LAST-MODIFIED:20220401T200247Z
UID:210798-1648839600-1648850400@visit-marlborough.com
SUMMARY:Live Music @ Tackle Box
DESCRIPTION:BobKat is performing at Tackle Box Brewing from 7-10pm!
URL:https://visit-marlborough.com/event/live-music-tackle-box-24-2/
LOCATION:Tackle Box Brewing Company\, 416 Boston Post Road East\, Marlborough\, MA\, 01752\, United States
END:VEVENT
BEGIN:VEVENT
DTSTART;TZID=America/New_York:20220401T190000
DTEND;TZID=America/New_York:20220401T220000
DTSTAMP:20260425T175503
CREATED:20220401T200247Z
LAST-MODIFIED:20220401T200247Z
UID:208261-1648839600-1648850400@visit-marlborough.com
SUMMARY:Live Music @ Tackle Box
DESCRIPTION:BobKat is performing at Tackle Box Brewing from 7-10pm!
URL:https://visit-marlborough.com/event/live-music-tackle-box-24/
LOCATION:Tackle Box Brewing Company\, 416 Boston Post Road East\, Marlborough\, MA\, 01752\, United States
END:VEVENT
BEGIN:VEVENT
DTSTART;TZID=America/New_York:20220402T190000
DTEND;TZID=America/New_York:20220402T220000
DTSTAMP:20260425T175503
CREATED:20220401T200401Z
LAST-MODIFIED:20220401T200401Z
UID:210799-1648926000-1648936800@visit-marlborough.com
SUMMARY:Live Music @ Tackle Box
DESCRIPTION:Criminals & Beauty Queens is performing at Tackle Box Brewing from 7-10pm!
URL:https://visit-marlborough.com/event/live-music-tackle-box-25-2/
LOCATION:Tackle Box Brewing Company\, 416 Boston Post Road East\, Marlborough\, MA\, 01752\, United States
END:VEVENT
BEGIN:VEVENT
DTSTART;TZID=America/New_York:20220402T190000
DTEND;TZID=America/New_York:20220402T220000
DTSTAMP:20260425T175503
CREATED:20220401T200401Z
LAST-MODIFIED:20220401T200401Z
UID:208263-1648926000-1648936800@visit-marlborough.com
SUMMARY:Live Music @ Tackle Box
DESCRIPTION:Criminals & Beauty Queens is performing at Tackle Box Brewing from 7-10pm!
URL:https://visit-marlborough.com/event/live-music-tackle-box-25/
LOCATION:Tackle Box Brewing Company\, 416 Boston Post Road East\, Marlborough\, MA\, 01752\, United States
END:VEVENT
BEGIN:VEVENT
DTSTART;TZID=America/New_York:20220402T210000
DTEND;TZID=America/New_York:20220402T233000
DTSTAMP:20260425T175503
CREATED:20220317T181359Z
LAST-MODIFIED:20220317T181359Z
UID:210794-1648933200-1648942200@visit-marlborough.com
SUMMARY:Live Music @ Firefly's BBQ
DESCRIPTION:Aquanett returns to Dante’s! (inside Firefly’s restaurant) Come early\, reserve a table and order some great food and then see Aquanett perform their 80s Hard Rock ‘n Metal show! Guaranteed to be a great evening of LIVE music!\n\nShowtime – 9:00pm (21+)\n$12 cover charge\nFor reservations (recommended) call (508) 357-8883\n\n*Come follow Aquanett on Instagram @\nhttps://instagram.com/aquanett_rocks?r=nametag\n\nWhile the AQUANETT experience is anchored by the sound of ’80s metal bands like Bon Jovi and Whitesnake\, don’t expect a run-of-the-mill club band that just stands in the corner. Quite the opposite – this is one of the most decadent and colorful tribute acts today. Imagine Hollywood … the Sunset Strip … when bands like Motley Crue and GnR ruled the world. This is the scene AQUANETT re-creates night after night. With a complement of lights\, special effects and the full production of an ’80s rock concert is brought to life on your stage. It’s wild\, flashy and full of the decadence that marked the ’80s. It’s the sound\, the clothes\, and of course\, the hair…but most of all\, it’s pure fun. Seeing is believing\, but know that AQUANETT is truly an experience\, unlike anything you have seen before…or at least since 1991!\nAquanett celebrated their 20th\nAnniversary in 2020!
URL:https://visit-marlborough.com/event/live-music-fireflys-bbq-8-2/
LOCATION:Firefly’s BBQ\, 350 East Main Street\, Marlborough\, MA\, 01752\, United States
END:VEVENT
BEGIN:VEVENT
DTSTART;TZID=America/New_York:20220402T210000
DTEND;TZID=America/New_York:20220402T233000
DTSTAMP:20260425T175503
CREATED:20220317T181359Z
LAST-MODIFIED:20220317T181359Z
UID:208235-1648933200-1648942200@visit-marlborough.com
SUMMARY:Live Music @ Firefly's BBQ
DESCRIPTION:Aquanett returns to Dante’s! (inside Firefly’s restaurant) Come early\, reserve a table and order some great food and then see Aquanett perform their 80s Hard Rock ‘n Metal show! Guaranteed to be a great evening of LIVE music!\n\nShowtime – 9:00pm (21+)\n$12 cover charge\nFor reservations (recommended) call (508) 357-8883\n\n*Come follow Aquanett on Instagram @\nhttps://instagram.com/aquanett_rocks?r=nametag\n\nWhile the AQUANETT experience is anchored by the sound of ’80s metal bands like Bon Jovi and Whitesnake\, don’t expect a run-of-the-mill club band that just stands in the corner. Quite the opposite – this is one of the most decadent and colorful tribute acts today. Imagine Hollywood … the Sunset Strip … when bands like Motley Crue and GnR ruled the world. This is the scene AQUANETT re-creates night after night. With a complement of lights\, special effects and the full production of an ’80s rock concert is brought to life on your stage. It’s wild\, flashy and full of the decadence that marked the ’80s. It’s the sound\, the clothes\, and of course\, the hair…but most of all\, it’s pure fun. Seeing is believing\, but know that AQUANETT is truly an experience\, unlike anything you have seen before…or at least since 1991!\nAquanett celebrated their 20th\nAnniversary in 2020!
URL:https://visit-marlborough.com/event/live-music-fireflys-bbq-8/
LOCATION:Firefly’s BBQ\, 350 East Main Street\, Marlborough\, MA\, 01752\, United States
END:VEVENT
BEGIN:VEVENT
DTSTART;TZID=America/New_York:20220405T190000
DTEND;TZID=America/New_York:20220405T210000
DTSTAMP:20260425T175503
CREATED:20220404T181521Z
LAST-MODIFIED:20220404T181521Z
UID:208339-1649185200-1649192400@visit-marlborough.com
SUMMARY:Geeks Who Drink Trivia @ Lost Shoe Brewing
DESCRIPTION:Join us every Tuesday in the taproom for Geeks Who Drink Trivia! https://www.geekswhodrink.com/venues/1141283554/ \n\nBring a team (up to 6)\, or join one at the bar\nIt’s free to play (but order something\, cheapo)\nExpect 70-ish questions over 2 hours\nWin free pints and other prizes*\nGo on to massive fame\, fortune\, a happy home life\, self-realization\, etc.*\n*depending on jurisdiction
URL:https://visit-marlborough.com/event/geeks-who-drink-trivia-lost-shoe-brewing-10/
LOCATION:Lost Shoe Brewing & Roasting Co.\, 19 Weed Street\, Marlborough\, MA\, 01752\, United States
END:VEVENT
BEGIN:VEVENT
DTSTART;TZID=America/New_York:20220405T190000
DTEND;TZID=America/New_York:20220405T210000
DTSTAMP:20260425T175503
CREATED:20220404T181521Z
LAST-MODIFIED:20220404T181521Z
UID:210831-1649185200-1649192400@visit-marlborough.com
SUMMARY:Geeks Who Drink Trivia @ Lost Shoe Brewing
DESCRIPTION:Join us every Tuesday in the taproom for Geeks Who Drink Trivia! https://www.geekswhodrink.com/venues/1141283554/ \n\nBring a team (up to 6)\, or join one at the bar\nIt’s free to play (but order something\, cheapo)\nExpect 70-ish questions over 2 hours\nWin free pints and other prizes*\nGo on to massive fame\, fortune\, a happy home life\, self-realization\, etc.*\n*depending on jurisdiction
URL:https://visit-marlborough.com/event/geeks-who-drink-trivia-lost-shoe-brewing-10-2/
LOCATION:Lost Shoe Brewing & Roasting Co.\, 19 Weed Street\, Marlborough\, MA\, 01752\, United States
END:VEVENT
BEGIN:VEVENT
DTSTART;TZID=America/New_York:20220407T200000
DTEND;TZID=America/New_York:20220407T220000
DTSTAMP:20260425T175503
CREATED:20220404T141335Z
LAST-MODIFIED:20220404T141349Z
UID:208291-1649361600-1649368800@visit-marlborough.com
SUMMARY:Open Mic @ Tackle Box
DESCRIPTION:
URL:https://visit-marlborough.com/event/open-mic-tackle-box-7/
LOCATION:Tackle Box Brewing Company\, 416 Boston Post Road East\, Marlborough\, MA\, 01752\, United States
END:VEVENT
BEGIN:VEVENT
DTSTART;TZID=America/New_York:20220407T200000
DTEND;TZID=America/New_York:20220407T220000
DTSTAMP:20260425T175503
CREATED:20220404T141335Z
LAST-MODIFIED:20220404T141335Z
UID:210811-1649361600-1649368800@visit-marlborough.com
SUMMARY:Open Mic @ Tackle Box
DESCRIPTION:
URL:https://visit-marlborough.com/event/open-mic-tackle-box-7-2/
LOCATION:Tackle Box Brewing Company\, 416 Boston Post Road East\, Marlborough\, MA\, 01752\, United States
END:VEVENT
BEGIN:VEVENT
DTSTART;TZID=America/New_York:20220408T180000
DTEND;TZID=America/New_York:20220408T210000
DTSTAMP:20260425T175503
CREATED:20220404T175935Z
LAST-MODIFIED:20220404T175935Z
UID:208337-1649440800-1649451600@visit-marlborough.com
SUMMARY:Joel Cage Plays: Live Music @ Lost Shoe
DESCRIPTION:Joel Cage Plays! – Live at Lost Shoe Brewery!
URL:https://visit-marlborough.com/event/joel-cage-plays-live-music-lost-shoe/
LOCATION:Lost Shoe Brewing & Roasting Co.\, 19 Weed Street\, Marlborough\, MA\, 01752\, United States
END:VEVENT
BEGIN:VEVENT
DTSTART;TZID=America/New_York:20220408T180000
DTEND;TZID=America/New_York:20220408T210000
DTSTAMP:20260425T175503
CREATED:20220404T175935Z
LAST-MODIFIED:20220404T175935Z
UID:210830-1649440800-1649451600@visit-marlborough.com
SUMMARY:Joel Cage Plays: Live Music @ Lost Shoe
DESCRIPTION:Joel Cage Plays! – Live at Lost Shoe Brewery!
URL:https://visit-marlborough.com/event/joel-cage-plays-live-music-lost-shoe-2/
LOCATION:Lost Shoe Brewing & Roasting Co.\, 19 Weed Street\, Marlborough\, MA\, 01752\, United States
END:VEVENT
BEGIN:VEVENT
DTSTART;TZID=America/New_York:20220408T183000
DTEND;TZID=America/New_York:20220408T210000
DTSTAMP:20260425T175503
CREATED:20220407T185940Z
LAST-MODIFIED:20220407T185940Z
UID:210835-1649442600-1649451600@visit-marlborough.com
SUMMARY:Love Music @ Chill Kitchen and Bar
DESCRIPTION:Preforming @ Chill is Little Black Dress!
URL:https://visit-marlborough.com/event/love-music-chill-kitchen-and-bar-2-2/
LOCATION:Chill Kitchen and Bar\, 416 Boston Post Road East\, Marlborough\, MA\, 01752\, United States
END:VEVENT
BEGIN:VEVENT
DTSTART;TZID=America/New_York:20220408T183000
DTEND;TZID=America/New_York:20220408T210000
DTSTAMP:20260425T175503
CREATED:20220407T185940Z
LAST-MODIFIED:20220407T190759Z
UID:208350-1649442600-1649451600@visit-marlborough.com
SUMMARY:Love Music @ Chill Kitchen and Bar
DESCRIPTION:Preforming @ Chill is Little Black Dress!
URL:https://visit-marlborough.com/event/love-music-chill-kitchen-and-bar-2/
LOCATION:Chill Kitchen and Bar\, 416 Boston Post Road East\, Marlborough\, MA\, 01752\, United States
END:VEVENT
BEGIN:VEVENT
DTSTART;TZID=America/New_York:20220408T190000
DTEND;TZID=America/New_York:20220408T190000
DTSTAMP:20260425T175503
CREATED:20220404T163620Z
LAST-MODIFIED:20220404T163620Z
UID:208319-1649444400-1649444400@visit-marlborough.com
SUMMARY:Live Music Ft. Mike & Missy @ Marlborough Country Club
DESCRIPTION:Join us for a night of tunes from Mike & Missy on our deck overlooking the 18th green.
URL:https://visit-marlborough.com/event/live-music-ft-mike-missy-marlborough-country-club/
LOCATION:Marlborough Country Club\, 200 Concord Rd\, Marlborough\, MA\, 01752\, United States
END:VEVENT
BEGIN:VEVENT
DTSTART;TZID=America/New_York:20220408T190000
DTEND;TZID=America/New_York:20220408T190000
DTSTAMP:20260425T175503
CREATED:20220404T163620Z
LAST-MODIFIED:20220404T163620Z
UID:210822-1649444400-1649444400@visit-marlborough.com
SUMMARY:Live Music Ft. Mike & Missy @ Marlborough Country Club
DESCRIPTION:Join us for a night of tunes from Mike & Missy on our deck overlooking the 18th green.
URL:https://visit-marlborough.com/event/live-music-ft-mike-missy-marlborough-country-club-2/
LOCATION:Marlborough Country Club\, 200 Concord Rd\, Marlborough\, MA\, 01752\, United States
END:VEVENT
BEGIN:VEVENT
DTSTART;TZID=America/New_York:20220408T190000
DTEND;TZID=America/New_York:20220408T220000
DTSTAMP:20260425T175503
CREATED:20220404T141912Z
LAST-MODIFIED:20220404T141912Z
UID:210814-1649444400-1649455200@visit-marlborough.com
SUMMARY:Live Music @ Tackle Box
DESCRIPTION:Radio Honey is performing at Tackle Box Brewing from 7-10pm!
URL:https://visit-marlborough.com/event/live-music-tackle-box-30-2/
LOCATION:Tackle Box Brewing Company\, 416 Boston Post Road East\, Marlborough\, MA\, 01752\, United States
END:VEVENT
BEGIN:VEVENT
DTSTART;TZID=America/New_York:20220408T190000
DTEND;TZID=America/New_York:20220408T220000
DTSTAMP:20260425T175503
CREATED:20220404T141912Z
LAST-MODIFIED:20220404T141912Z
UID:208297-1649444400-1649455200@visit-marlborough.com
SUMMARY:Live Music @ Tackle Box
DESCRIPTION:Radio Honey is performing at Tackle Box Brewing from 7-10pm!
URL:https://visit-marlborough.com/event/live-music-tackle-box-30/
LOCATION:Tackle Box Brewing Company\, 416 Boston Post Road East\, Marlborough\, MA\, 01752\, United States
END:VEVENT
BEGIN:VEVENT
DTSTART;TZID=America/New_York:20220409T183000
DTEND;TZID=America/New_York:20220409T210000
DTSTAMP:20260425T175503
CREATED:20220407T190107Z
LAST-MODIFIED:20220407T190107Z
UID:210836-1649529000-1649538000@visit-marlborough.com
SUMMARY:Love Music @ Chill Kitchen and Bar
DESCRIPTION:Preforming @ Chill is Rivers Between!
URL:https://visit-marlborough.com/event/love-music-chill-kitchen-and-bar-3-2/
LOCATION:Chill Kitchen and Bar\, 416 Boston Post Road East\, Marlborough\, MA\, 01752\, United States
END:VEVENT
BEGIN:VEVENT
DTSTART;TZID=America/New_York:20220409T183000
DTEND;TZID=America/New_York:20220409T210000
DTSTAMP:20260425T175503
CREATED:20220407T190107Z
LAST-MODIFIED:20220407T190446Z
UID:208352-1649529000-1649538000@visit-marlborough.com
SUMMARY:Love Music @ Chill Kitchen and Bar
DESCRIPTION:Preforming @ Chill is Rivers Between!
URL:https://visit-marlborough.com/event/love-music-chill-kitchen-and-bar-3/
LOCATION:Chill Kitchen and Bar\, 416 Boston Post Road East\, Marlborough\, MA\, 01752\, United States
END:VEVENT
BEGIN:VEVENT
DTSTART;TZID=America/New_York:20220409T190000
DTEND;TZID=America/New_York:20220409T210000
DTSTAMP:20260425T175503
CREATED:20220404T163752Z
LAST-MODIFIED:20220404T163752Z
UID:208321-1649530800-1649538000@visit-marlborough.com
SUMMARY:Live Music Ft. 3 of a Kind @ Marlborough Country Club
DESCRIPTION:Join us for a night of tunes from 3 of a Kind on our deck overlooking the 18th green.
URL:https://visit-marlborough.com/event/live-music-ft-3-of-a-kind-marlborough-country-club/
LOCATION:Marlborough Country Club\, 200 Concord Rd\, Marlborough\, MA\, 01752\, United States
END:VEVENT
BEGIN:VEVENT
DTSTART;TZID=America/New_York:20220409T190000
DTEND;TZID=America/New_York:20220409T210000
DTSTAMP:20260425T175503
CREATED:20220404T163752Z
LAST-MODIFIED:20220404T163752Z
UID:210823-1649530800-1649538000@visit-marlborough.com
SUMMARY:Live Music Ft. 3 of a Kind @ Marlborough Country Club
DESCRIPTION:Join us for a night of tunes from 3 of a Kind on our deck overlooking the 18th green.
URL:https://visit-marlborough.com/event/live-music-ft-3-of-a-kind-marlborough-country-club-2/
LOCATION:Marlborough Country Club\, 200 Concord Rd\, Marlborough\, MA\, 01752\, United States
END:VEVENT
BEGIN:VEVENT
DTSTART;TZID=America/New_York:20220409T190000
DTEND;TZID=America/New_York:20220409T220000
DTSTAMP:20260425T175503
CREATED:20220401T201323Z
LAST-MODIFIED:20220401T201323Z
UID:210800-1649530800-1649541600@visit-marlborough.com
SUMMARY:Live Music @ Tackle Box
DESCRIPTION:Crossing Kelley is performing at Tackle Box Brewing from 7-10pm!
URL:https://visit-marlborough.com/event/live-music-tackle-box-26-2/
LOCATION:Tackle Box Brewing Company\, 416 Boston Post Road East\, Marlborough\, MA\, 01752\, United States
END:VEVENT
BEGIN:VEVENT
DTSTART;TZID=America/New_York:20220409T190000
DTEND;TZID=America/New_York:20220409T220000
DTSTAMP:20260425T175503
CREATED:20220401T201323Z
LAST-MODIFIED:20220401T201627Z
UID:208266-1649530800-1649541600@visit-marlborough.com
SUMMARY:Live Music @ Tackle Box
DESCRIPTION:Crossing Kelley is performing at Tackle Box Brewing from 7-10pm!
URL:https://visit-marlborough.com/event/live-music-tackle-box-26/
LOCATION:Tackle Box Brewing Company\, 416 Boston Post Road East\, Marlborough\, MA\, 01752\, United States
END:VEVENT
BEGIN:VEVENT
DTSTART;TZID=America/New_York:20220412T190000
DTEND;TZID=America/New_York:20220412T210000
DTSTAMP:20260425T175503
CREATED:20220404T181641Z
LAST-MODIFIED:20220404T181641Z
UID:210832-1649790000-1649797200@visit-marlborough.com
SUMMARY:Geeks Who Drink Trivia @ Lost Shoe Brewing
DESCRIPTION:Join us every Tuesday in the taproom for Geeks Who Drink Trivia! https://www.geekswhodrink.com/venues/1141283554/ \n\nBring a team (up to 6)\, or join one at the bar\nIt’s free to play (but order something\, cheapo)\nExpect 70-ish questions over 2 hours\nWin free pints and other prizes*\nGo on to massive fame\, fortune\, a happy home life\, self-realization\, etc.*\n*depending on jurisdiction
URL:https://visit-marlborough.com/event/geeks-who-drink-trivia-lost-shoe-brewing-11-2/
LOCATION:Lost Shoe Brewing & Roasting Co.\, 19 Weed Street\, Marlborough\, MA\, 01752\, United States
END:VEVENT
BEGIN:VEVENT
DTSTART;TZID=America/New_York:20220412T190000
DTEND;TZID=America/New_York:20220412T210000
DTSTAMP:20260425T175503
CREATED:20220404T181641Z
LAST-MODIFIED:20220404T181641Z
UID:208341-1649790000-1649797200@visit-marlborough.com
SUMMARY:Geeks Who Drink Trivia @ Lost Shoe Brewing
DESCRIPTION:Join us every Tuesday in the taproom for Geeks Who Drink Trivia! https://www.geekswhodrink.com/venues/1141283554/ \n\nBring a team (up to 6)\, or join one at the bar\nIt’s free to play (but order something\, cheapo)\nExpect 70-ish questions over 2 hours\nWin free pints and other prizes*\nGo on to massive fame\, fortune\, a happy home life\, self-realization\, etc.*\n*depending on jurisdiction
URL:https://visit-marlborough.com/event/geeks-who-drink-trivia-lost-shoe-brewing-11/
LOCATION:Lost Shoe Brewing & Roasting Co.\, 19 Weed Street\, Marlborough\, MA\, 01752\, United States
END:VEVENT
BEGIN:VEVENT
DTSTART;TZID=America/New_York:20220414T190000
DTEND;TZID=America/New_York:20220414T220000
DTSTAMP:20260425T175503
CREATED:20220404T141446Z
LAST-MODIFIED:20220404T141446Z
UID:210812-1649962800-1649973600@visit-marlborough.com
SUMMARY:Open Mic @ Tackle Box
DESCRIPTION:
URL:https://visit-marlborough.com/event/open-mic-tackle-box-8-2/
LOCATION:Tackle Box Brewing Company\, 416 Boston Post Road East\, Marlborough\, MA\, 01752\, United States
END:VEVENT
BEGIN:VEVENT
DTSTART;TZID=America/New_York:20220414T190000
DTEND;TZID=America/New_York:20220414T220000
DTSTAMP:20260425T175503
CREATED:20220404T141446Z
LAST-MODIFIED:20220404T141601Z
UID:208293-1649962800-1649973600@visit-marlborough.com
SUMMARY:Open Mic @ Tackle Box
DESCRIPTION:
URL:https://visit-marlborough.com/event/open-mic-tackle-box-8/
LOCATION:Tackle Box Brewing Company\, 416 Boston Post Road East\, Marlborough\, MA\, 01752\, United States
END:VEVENT
BEGIN:VEVENT
DTSTART;TZID=America/New_York:20220415T183000
DTEND;TZID=America/New_York:20220415T210000
DTSTAMP:20260425T175503
CREATED:20220407T190137Z
LAST-MODIFIED:20220407T190137Z
UID:210837-1650047400-1650056400@visit-marlborough.com
SUMMARY:Love Music @ Chill Kitchen and Bar
DESCRIPTION:Preforming @ Chill is Rivers Between!
URL:https://visit-marlborough.com/event/love-music-chill-kitchen-and-bar-4-2/
LOCATION:Chill Kitchen and Bar\, 416 Boston Post Road East\, Marlborough\, MA\, 01752\, United States
END:VEVENT
BEGIN:VEVENT
DTSTART;TZID=America/New_York:20220415T183000
DTEND;TZID=America/New_York:20220415T210000
DTSTAMP:20260425T175503
CREATED:20220407T190137Z
LAST-MODIFIED:20220407T190848Z
UID:208354-1650047400-1650056400@visit-marlborough.com
SUMMARY:Love Music @ Chill Kitchen and Bar
DESCRIPTION:Preforming @ Chill is Rivers Between!
URL:https://visit-marlborough.com/event/love-music-chill-kitchen-and-bar-4/
LOCATION:Chill Kitchen and Bar\, 416 Boston Post Road East\, Marlborough\, MA\, 01752\, United States
END:VEVENT
END:VCALENDAR