BEGIN:VCALENDAR
VERSION:2.0
PRODID:-//Visit Marlborough - ECPv6.15.20//NONSGML v1.0//EN
CALSCALE:GREGORIAN
METHOD:PUBLISH
X-ORIGINAL-URL:https://visit-marlborough.com
X-WR-CALDESC:Events for Visit Marlborough
REFRESH-INTERVAL;VALUE=DURATION:PT1H
X-Robots-Tag:noindex
X-PUBLISHED-TTL:PT1H
BEGIN:VTIMEZONE
TZID:America/New_York
BEGIN:DAYLIGHT
TZOFFSETFROM:-0500
TZOFFSETTO:-0400
TZNAME:EDT
DTSTART:20200308T070000
END:DAYLIGHT
BEGIN:STANDARD
TZOFFSETFROM:-0400
TZOFFSETTO:-0500
TZNAME:EST
DTSTART:20201101T060000
END:STANDARD
BEGIN:DAYLIGHT
TZOFFSETFROM:-0500
TZOFFSETTO:-0400
TZNAME:EDT
DTSTART:20210314T070000
END:DAYLIGHT
BEGIN:STANDARD
TZOFFSETFROM:-0400
TZOFFSETTO:-0500
TZNAME:EST
DTSTART:20211107T060000
END:STANDARD
BEGIN:DAYLIGHT
TZOFFSETFROM:-0500
TZOFFSETTO:-0400
TZNAME:EDT
DTSTART:20220313T070000
END:DAYLIGHT
BEGIN:STANDARD
TZOFFSETFROM:-0400
TZOFFSETTO:-0500
TZNAME:EST
DTSTART:20221106T060000
END:STANDARD
END:VTIMEZONE
BEGIN:VEVENT
DTSTART;TZID=America/New_York:20210703T210000
DTEND;TZID=America/New_York:20210704T000000
DTSTAMP:20260420T162303
CREATED:20210625T181808Z
LAST-MODIFIED:20210625T181808Z
UID:207639-1625346000-1625356800@visit-marlborough.com
SUMMARY:American WHO @ Firefly's BBQ
DESCRIPTION:American WHO Returns to FIREFLY’S!
URL:https://visit-marlborough.com/event/american-who-fireflys-bbq/
LOCATION:Firefly’s BBQ\, 350 East Main Street\, Marlborough\, MA\, 01752\, United States
END:VEVENT
BEGIN:VEVENT
DTSTART;TZID=America/New_York:20210703T210000
DTEND;TZID=America/New_York:20210704T000000
DTSTAMP:20260420T162303
CREATED:20210625T181808Z
LAST-MODIFIED:20210625T181808Z
UID:210629-1625346000-1625356800@visit-marlborough.com
SUMMARY:American WHO @ Firefly's BBQ
DESCRIPTION:American WHO Returns to FIREFLY’S!
URL:https://visit-marlborough.com/event/american-who-fireflys-bbq-2/
LOCATION:Firefly’s BBQ\, 350 East Main Street\, Marlborough\, MA\, 01752\, United States
END:VEVENT
BEGIN:VEVENT
DTSTART;TZID=America/New_York:20210724T200000
DTEND;TZID=America/New_York:20210724T231500
DTSTAMP:20260420T162303
CREATED:20210628T154007Z
LAST-MODIFIED:20210628T154007Z
UID:207656-1627156800-1627168500@visit-marlborough.com
SUMMARY:Playing Dead @ Firefly's BBQ
DESCRIPTION:Join us on Sat July 24th at Firefly’s BBQ in Marlboro\, MA. Reservations suggested! Please call (508) 357-8883 to reserve your table in Dante’s.\n+++ Shows in Dante’s are 21+ +++\n+++ Admission: $15 +++\nPlaying Dead is a Grateful Dead tribute featuring former members of Dark Star Orchestra\, Slipknot!\, and Uncle John’s Band. Their marathon sets feature music and jams from the entire Grateful Dead catalog. Playing Dead faithfully recreates the experience of a live Grateful Dead concert. The music of The Grateful Dead is a complex stew of different styles of music including rock\, blues\, jazz\, folk\, bluegrass and more. Their improvisational style and large repertoire guaranteed that every musical performance would be unique. Every Playing Dead show is equally unique featuring different set lists each night and exciting improvisational jams. \nSee Less
URL:https://visit-marlborough.com/event/playing-dead-fireflys-bbq/
LOCATION:Firefly’s BBQ\, 350 East Main Street\, Marlborough\, MA\, 01752\, United States
END:VEVENT
BEGIN:VEVENT
DTSTART;TZID=America/New_York:20210724T200000
DTEND;TZID=America/New_York:20210724T231500
DTSTAMP:20260420T162303
CREATED:20210628T154007Z
LAST-MODIFIED:20210628T154007Z
UID:210635-1627156800-1627168500@visit-marlborough.com
SUMMARY:Playing Dead @ Firefly's BBQ
DESCRIPTION:Join us on Sat July 24th at Firefly’s BBQ in Marlboro\, MA. Reservations suggested! Please call (508) 357-8883 to reserve your table in Dante’s.\n+++ Shows in Dante’s are 21+ +++\n+++ Admission: $15 +++\nPlaying Dead is a Grateful Dead tribute featuring former members of Dark Star Orchestra\, Slipknot!\, and Uncle John’s Band. Their marathon sets feature music and jams from the entire Grateful Dead catalog. Playing Dead faithfully recreates the experience of a live Grateful Dead concert. The music of The Grateful Dead is a complex stew of different styles of music including rock\, blues\, jazz\, folk\, bluegrass and more. Their improvisational style and large repertoire guaranteed that every musical performance would be unique. Every Playing Dead show is equally unique featuring different set lists each night and exciting improvisational jams. \nSee Less
URL:https://visit-marlborough.com/event/playing-dead-fireflys-bbq-2/
LOCATION:Firefly’s BBQ\, 350 East Main Street\, Marlborough\, MA\, 01752\, United States
END:VEVENT
BEGIN:VEVENT
DTSTART;TZID=America/New_York:20210730T200000
DTEND;TZID=America/New_York:20210730T200000
DTSTAMP:20260420T162303
CREATED:20210701T154303Z
LAST-MODIFIED:20210701T154318Z
UID:207680-1627675200-1627675200@visit-marlborough.com
SUMMARY:The Petty Larceny Band @ Firefly's
DESCRIPTION:Firefly’s is a great venue for a show\, and we’ll bring some of the best songs ever written for you to enjoy!
URL:https://visit-marlborough.com/event/the-petty-larceny-band-fireflys/
LOCATION:Firefly’s BBQ\, 350 East Main Street\, Marlborough\, MA\, 01752\, United States
END:VEVENT
BEGIN:VEVENT
DTSTART;TZID=America/New_York:20210730T200000
DTEND;TZID=America/New_York:20210730T200000
DTSTAMP:20260420T162303
CREATED:20210701T154303Z
LAST-MODIFIED:20210701T154303Z
UID:210643-1627675200-1627675200@visit-marlborough.com
SUMMARY:The Petty Larceny Band @ Firefly's
DESCRIPTION:Firefly’s is a great venue for a show\, and we’ll bring some of the best songs ever written for you to enjoy!
URL:https://visit-marlborough.com/event/the-petty-larceny-band-fireflys-2/
LOCATION:Firefly’s BBQ\, 350 East Main Street\, Marlborough\, MA\, 01752\, United States
END:VEVENT
END:VCALENDAR