BEGIN:VCALENDAR
VERSION:2.0
PRODID:-//Visit Marlborough - ECPv6.15.20//NONSGML v1.0//EN
CALSCALE:GREGORIAN
METHOD:PUBLISH
X-ORIGINAL-URL:https://visit-marlborough.com
X-WR-CALDESC:Events for Visit Marlborough
REFRESH-INTERVAL;VALUE=DURATION:PT1H
X-Robots-Tag:noindex
X-PUBLISHED-TTL:PT1H
BEGIN:VTIMEZONE
TZID:America/New_York
BEGIN:DAYLIGHT
TZOFFSETFROM:-0500
TZOFFSETTO:-0400
TZNAME:EDT
DTSTART:20230312T070000
END:DAYLIGHT
BEGIN:STANDARD
TZOFFSETFROM:-0400
TZOFFSETTO:-0500
TZNAME:EST
DTSTART:20231105T060000
END:STANDARD
BEGIN:DAYLIGHT
TZOFFSETFROM:-0500
TZOFFSETTO:-0400
TZNAME:EDT
DTSTART:20240310T070000
END:DAYLIGHT
BEGIN:STANDARD
TZOFFSETFROM:-0400
TZOFFSETTO:-0500
TZNAME:EST
DTSTART:20241103T060000
END:STANDARD
BEGIN:DAYLIGHT
TZOFFSETFROM:-0500
TZOFFSETTO:-0400
TZNAME:EDT
DTSTART:20250309T070000
END:DAYLIGHT
BEGIN:STANDARD
TZOFFSETFROM:-0400
TZOFFSETTO:-0500
TZNAME:EST
DTSTART:20251102T060000
END:STANDARD
END:VTIMEZONE
BEGIN:VEVENT
DTSTART;TZID=America/New_York:20240127T130000
DTEND;TZID=America/New_York:20240127T140000
DTSTAMP:20260419T091751
CREATED:20240116T170515Z
LAST-MODIFIED:20240116T170515Z
UID:213938-1706360400-1706364000@visit-marlborough.com
SUMMARY:Candle Making Class @ Kennedy's
DESCRIPTION:New Year! New Vibes! Crystal Candle making class @ Kennedy’s\nAnother exciting “don’t miss” event in our cozy\, upstairs Loft! An entertaining and hands-on Candles & Champagne event! Class includes Champagne!\nJoin Lex\, Owner of Vibes Candles as she guides in making your very own\ncrystal candle! These classes are known to sell out fast so reserve your seat today! \nYou’ll be making “New Year\, New Vibes Clear Quartz”
URL:https://visit-marlborough.com/event/candle-making-class-kennedys/
LOCATION:Kennedy’s Pub\, 247 Maple Street\, Marlborough\, MA\, 01752\, United States
END:VEVENT
END:VCALENDAR