BEGIN:VCALENDAR
VERSION:2.0
PRODID:-//Visit Marlborough - ECPv6.15.20//NONSGML v1.0//EN
CALSCALE:GREGORIAN
METHOD:PUBLISH
X-WR-CALNAME:Visit Marlborough
X-ORIGINAL-URL:https://visit-marlborough.com
X-WR-CALDESC:Events for Visit Marlborough
REFRESH-INTERVAL;VALUE=DURATION:PT1H
X-Robots-Tag:noindex
X-PUBLISHED-TTL:PT1H
BEGIN:VTIMEZONE
TZID:America/New_York
BEGIN:DAYLIGHT
TZOFFSETFROM:-0500
TZOFFSETTO:-0400
TZNAME:EDT
DTSTART:20220313T070000
END:DAYLIGHT
BEGIN:STANDARD
TZOFFSETFROM:-0400
TZOFFSETTO:-0500
TZNAME:EST
DTSTART:20221106T060000
END:STANDARD
BEGIN:DAYLIGHT
TZOFFSETFROM:-0500
TZOFFSETTO:-0400
TZNAME:EDT
DTSTART:20230312T070000
END:DAYLIGHT
BEGIN:STANDARD
TZOFFSETFROM:-0400
TZOFFSETTO:-0500
TZNAME:EST
DTSTART:20231105T060000
END:STANDARD
BEGIN:DAYLIGHT
TZOFFSETFROM:-0500
TZOFFSETTO:-0400
TZNAME:EDT
DTSTART:20240310T070000
END:DAYLIGHT
BEGIN:STANDARD
TZOFFSETFROM:-0400
TZOFFSETTO:-0500
TZNAME:EST
DTSTART:20241103T060000
END:STANDARD
END:VTIMEZONE
BEGIN:VEVENT
DTSTART;TZID=America/New_York:20230901T160000
DTEND;TZID=America/New_York:20230901T200000
DTSTAMP:20260424T055658
CREATED:20230605T204502Z
LAST-MODIFIED:20230605T204502Z
UID:212691-1693584000-1693598400@visit-marlborough.com
SUMMARY:Downtown Pop-Up Shops
DESCRIPTION:Downtown Pop-Up Shops\n\n\n\n\nWe’ve created a temporary retail marketplace in Downtown Marlborough as an opportunity for local small businesses to test the market in a “storefront” set up uniquely by them. Online retailers\, makers & artists will fill these pop-up shops with their specialty products giving shoppers a chance to meet them & see their goods in person on a rotating basis. \nThe shops are set up at the corner of Weed & Court Streets (directly across from Crown Fried Chicken). \nAugust 31st – September 3rd Vendors: \n\nVibes Candles\n\nwww.vibescandles.com\n\n\nM’s SweetsNTreats\n\nhttps://www.instagram.com/mailas.sweetsntreats/\n\n\nONE SPACE AVAILABLE! Contact Ljaworek@marlboroughedc.com for more information. 
URL:https://visit-marlborough.com/event/downtown-pop-up-shops-54/
LOCATION:Downtown Pop-Up Shops\, 17 Weed Street\, Marlborough\, MA\, 01752\, United States
ORGANIZER;CN="MEDC":MAILTO:ljaworek@marlboroughedc.com
END:VEVENT
BEGIN:VEVENT
DTSTART;TZID=America/New_York:20230902T090000
DTEND;TZID=America/New_York:20230902T170000
DTSTAMP:20260424T055658
CREATED:20230605T204545Z
LAST-MODIFIED:20230605T204545Z
UID:212693-1693645200-1693674000@visit-marlborough.com
SUMMARY:Downtown Pop-Up Shops
DESCRIPTION:Downtown Pop-Up Shops\n\n\n\n\nWe’ve created a temporary retail marketplace in Downtown Marlborough as an opportunity for local small businesses to test the market in a “storefront” set up uniquely by them. Online retailers\, makers & artists will fill these pop-up shops with their specialty products giving shoppers a chance to meet them & see their goods in person on a rotating basis. \nThe shops are set up at the corner of Weed & Court Streets (directly across from Crown Fried Chicken). \nAugust 31st – September 3rd Vendors: \n\nVibes Candles\n\nwww.vibescandles.com\n\n\nM’s SweetsNTreats\n\nhttps://www.instagram.com/mailas.sweetsntreats/\n\n\nONE SPACE AVAILABLE! Contact Ljaworek@marlboroughedc.com for more information. 
URL:https://visit-marlborough.com/event/downtown-pop-up-shops-55/
LOCATION:Downtown Pop-Up Shops\, 17 Weed Street\, Marlborough\, MA\, 01752\, United States
ORGANIZER;CN="MEDC":MAILTO:ljaworek@marlboroughedc.com
END:VEVENT
BEGIN:VEVENT
DTSTART;TZID=America/New_York:20230903T090000
DTEND;TZID=America/New_York:20230903T170000
DTSTAMP:20260424T055658
CREATED:20230605T204620Z
LAST-MODIFIED:20230605T204620Z
UID:212695-1693731600-1693760400@visit-marlborough.com
SUMMARY:Downtown Pop-Up Shops
DESCRIPTION:Downtown Pop-Up Shops\n\n\n\n\nWe’ve created a temporary retail marketplace in Downtown Marlborough as an opportunity for local small businesses to test the market in a “storefront” set up uniquely by them. Online retailers\, makers & artists will fill these pop-up shops with their specialty products giving shoppers a chance to meet them & see their goods in person on a rotating basis. \nThe shops are set up at the corner of Weed & Court Streets (directly across from Crown Fried Chicken). \nAugust 31st – September 3rd Vendors: \n\nVibes Candles\n\nwww.vibescandles.com\n\n\nM’s SweetsNTreats\n\nhttps://www.instagram.com/mailas.sweetsntreats/\n\n\nONE SPACE AVAILABLE! Contact Ljaworek@marlboroughedc.com for more information. 
URL:https://visit-marlborough.com/event/downtown-pop-up-shops-56/
LOCATION:Downtown Pop-Up Shops\, 17 Weed Street\, Marlborough\, MA\, 01752\, United States
ORGANIZER;CN="MEDC":MAILTO:ljaworek@marlboroughedc.com
END:VEVENT
BEGIN:VEVENT
DTSTART;TZID=America/New_York:20230907T160000
DTEND;TZID=America/New_York:20230907T200000
DTSTAMP:20260424T055658
CREATED:20230605T204749Z
LAST-MODIFIED:20230605T204749Z
UID:212697-1694102400-1694116800@visit-marlborough.com
SUMMARY:Downtown Pop-Up Shops
DESCRIPTION:Downtown Pop-Up Shops\n\n\n\n\nWe’ve created a temporary retail marketplace in Downtown Marlborough as an opportunity for local small businesses to test the market in a “storefront” set up uniquely by them. Online retailers\, makers & artists will fill these pop-up shops with their specialty products giving shoppers a chance to meet them & see their goods in person on a rotating basis. \nThe shops are set up at the corner of Weed & Court Streets (directly across from Crown Fried Chicken). \nSeptember 7th – 10th Vendors: \n\nVibes Candles\n\nwww.vibescandles.com\n\n\nSusan Alatalo – Artist\nLiane Zane\n\nwww.lianezane.com
URL:https://visit-marlborough.com/event/downtown-pop-up-shops-57/
LOCATION:Downtown Pop-Up Shops\, 17 Weed Street\, Marlborough\, MA\, 01752\, United States
ORGANIZER;CN="MEDC":MAILTO:ljaworek@marlboroughedc.com
END:VEVENT
BEGIN:VEVENT
DTSTART;TZID=America/New_York:20230908T160000
DTEND;TZID=America/New_York:20230908T200000
DTSTAMP:20260424T055658
CREATED:20230605T204840Z
LAST-MODIFIED:20230605T204840Z
UID:212699-1694188800-1694203200@visit-marlborough.com
SUMMARY:Downtown Pop-Up Shops
DESCRIPTION:Downtown Pop-Up Shops\n\n\n\n\nWe’ve created a temporary retail marketplace in Downtown Marlborough as an opportunity for local small businesses to test the market in a “storefront” set up uniquely by them. Online retailers\, makers & artists will fill these pop-up shops with their specialty products giving shoppers a chance to meet them & see their goods in person on a rotating basis. \nThe shops are set up at the corner of Weed & Court Streets (directly across from Crown Fried Chicken). \nSeptember 7th – 10th Vendors: \n\nVibes Candles\n\nwww.vibescandles.com\n\n\nSusan Alatalo – Artist\nLiane Zane\n\nwww.lianezane.com
URL:https://visit-marlborough.com/event/downtown-pop-up-shops-58/
LOCATION:Downtown Pop-Up Shops\, 17 Weed Street\, Marlborough\, MA\, 01752\, United States
ORGANIZER;CN="MEDC":MAILTO:ljaworek@marlboroughedc.com
END:VEVENT
BEGIN:VEVENT
DTSTART;TZID=America/New_York:20230909T090000
DTEND;TZID=America/New_York:20230909T170000
DTSTAMP:20260424T055658
CREATED:20230605T205001Z
LAST-MODIFIED:20230605T205001Z
UID:212701-1694250000-1694278800@visit-marlborough.com
SUMMARY:Downtown Pop-Up Shops
DESCRIPTION:Downtown Pop-Up Shops\n\n\n\n\nWe’ve created a temporary retail marketplace in Downtown Marlborough as an opportunity for local small businesses to test the market in a “storefront” set up uniquely by them. Online retailers\, makers & artists will fill these pop-up shops with their specialty products giving shoppers a chance to meet them & see their goods in person on a rotating basis. \nThe shops are set up at the corner of Weed & Court Streets (directly across from Crown Fried Chicken). \nSeptember 7th – 10th Vendors: \n\nVibes Candles\n\nwww.vibescandles.com\n\n\nSusan Alatalo – Artist\nLiane Zane\n\nwww.lianezane.com
URL:https://visit-marlborough.com/event/downtown-pop-up-shops-59/
LOCATION:Downtown Pop-Up Shops\, 17 Weed Street\, Marlborough\, MA\, 01752\, United States
ORGANIZER;CN="MEDC":MAILTO:ljaworek@marlboroughedc.com
END:VEVENT
BEGIN:VEVENT
DTSTART;TZID=America/New_York:20230910T090000
DTEND;TZID=America/New_York:20230910T170000
DTSTAMP:20260424T055658
CREATED:20230605T205034Z
LAST-MODIFIED:20230605T205034Z
UID:212703-1694336400-1694365200@visit-marlborough.com
SUMMARY:Downtown Pop-Up Shops
DESCRIPTION:Downtown Pop-Up Shops\n\n\n\n\nWe’ve created a temporary retail marketplace in Downtown Marlborough as an opportunity for local small businesses to test the market in a “storefront” set up uniquely by them. Online retailers\, makers & artists will fill these pop-up shops with their specialty products giving shoppers a chance to meet them & see their goods in person on a rotating basis. \nThe shops are set up at the corner of Weed & Court Streets (directly across from Crown Fried Chicken). \nSeptember 7th – 10th Vendors: \n\nVibes Candles\n\nwww.vibescandles.com\n\n\nSusan Alatalo – Artist\nLiane Zane\n\nwww.lianezane.com
URL:https://visit-marlborough.com/event/downtown-pop-up-shops-60/
LOCATION:Downtown Pop-Up Shops\, 17 Weed Street\, Marlborough\, MA\, 01752\, United States
ORGANIZER;CN="MEDC":MAILTO:ljaworek@marlboroughedc.com
END:VEVENT
BEGIN:VEVENT
DTSTART;TZID=America/New_York:20230914T160000
DTEND;TZID=America/New_York:20230914T200000
DTSTAMP:20260424T055658
CREATED:20230605T205148Z
LAST-MODIFIED:20230605T205148Z
UID:212705-1694707200-1694721600@visit-marlborough.com
SUMMARY:Downtown Pop-Up Shops
DESCRIPTION:Downtown Pop-Up Shops\n\n\n\n\nWe’ve created a temporary retail marketplace in Downtown Marlborough as an opportunity for local small businesses to test the market in a “storefront” set up uniquely by them. Online retailers\, makers & artists will fill these pop-up shops with their specialty products giving shoppers a chance to meet them & see their goods in person on a rotating basis. \nThe shops are set up at the corner of Weed & Court Streets (directly across from Crown Fried Chicken). \nSeptember 14th – 17th Vendors: \n\nVibes Candles\n\nwww.vibescandles.com\n\n\nSusan Alatalo – Artist\nLiane Zane\n\nwww.lianezane.com
URL:https://visit-marlborough.com/event/downtown-pop-up-shops-61/
LOCATION:Downtown Pop-Up Shops\, 17 Weed Street\, Marlborough\, MA\, 01752\, United States
ORGANIZER;CN="MEDC":MAILTO:ljaworek@marlboroughedc.com
END:VEVENT
BEGIN:VEVENT
DTSTART;TZID=America/New_York:20230915T160000
DTEND;TZID=America/New_York:20230915T200000
DTSTAMP:20260424T055658
CREATED:20230605T205215Z
LAST-MODIFIED:20230605T205215Z
UID:212707-1694793600-1694808000@visit-marlborough.com
SUMMARY:Downtown Pop-Up Shops
DESCRIPTION:Downtown Pop-Up Shops\n\n\n\n\nWe’ve created a temporary retail marketplace in Downtown Marlborough as an opportunity for local small businesses to test the market in a “storefront” set up uniquely by them. Online retailers\, makers & artists will fill these pop-up shops with their specialty products giving shoppers a chance to meet them & see their goods in person on a rotating basis. \nThe shops are set up at the corner of Weed & Court Streets (directly across from Crown Fried Chicken). \nSeptember 14th – 17th Vendors: \n\nVibes Candles\n\nwww.vibescandles.com\n\n\nSusan Alatalo – Artist\nLiane Zane\n\nwww.lianezane.com
URL:https://visit-marlborough.com/event/downtown-pop-up-shops-62/
LOCATION:Downtown Pop-Up Shops\, 17 Weed Street\, Marlborough\, MA\, 01752\, United States
ORGANIZER;CN="MEDC":MAILTO:ljaworek@marlboroughedc.com
END:VEVENT
BEGIN:VEVENT
DTSTART;TZID=America/New_York:20230916T090000
DTEND;TZID=America/New_York:20230916T170000
DTSTAMP:20260424T055658
CREATED:20230605T205309Z
LAST-MODIFIED:20230605T205309Z
UID:212709-1694854800-1694883600@visit-marlborough.com
SUMMARY:Downtown Pop-Up Shops
DESCRIPTION:Downtown Pop-Up Shops\n\n\n\n\nWe’ve created a temporary retail marketplace in Downtown Marlborough as an opportunity for local small businesses to test the market in a “storefront” set up uniquely by them. Online retailers\, makers & artists will fill these pop-up shops with their specialty products giving shoppers a chance to meet them & see their goods in person on a rotating basis. \nThe shops are set up at the corner of Weed & Court Streets (directly across from Crown Fried Chicken). \nSeptember 14th – 17th Vendors: \n\nVibes Candles\n\nwww.vibescandles.com\n\n\nSusan Alatalo – Artist\nLiane Zane\n\nwww.lianezane.com
URL:https://visit-marlborough.com/event/downtown-pop-up-shops-63/
LOCATION:Downtown Pop-Up Shops\, 17 Weed Street\, Marlborough\, MA\, 01752\, United States
ORGANIZER;CN="MEDC":MAILTO:ljaworek@marlboroughedc.com
END:VEVENT
BEGIN:VEVENT
DTSTART;TZID=America/New_York:20230917T090000
DTEND;TZID=America/New_York:20230917T170000
DTSTAMP:20260424T055658
CREATED:20230605T205338Z
LAST-MODIFIED:20230605T205338Z
UID:212711-1694941200-1694970000@visit-marlborough.com
SUMMARY:Downtown Pop-Up Shops
DESCRIPTION:Downtown Pop-Up Shops\n\n\n\n\nWe’ve created a temporary retail marketplace in Downtown Marlborough as an opportunity for local small businesses to test the market in a “storefront” set up uniquely by them. Online retailers\, makers & artists will fill these pop-up shops with their specialty products giving shoppers a chance to meet them & see their goods in person on a rotating basis. \nThe shops are set up at the corner of Weed & Court Streets (directly across from Crown Fried Chicken). \nSeptember 14th – 17th Vendors: \n\nVibes Candles\n\nwww.vibescandles.com\n\n\nSusan Alatalo – Artist\nLiane Zane\n\nwww.lianezane.com
URL:https://visit-marlborough.com/event/downtown-pop-up-shops-64/
LOCATION:Downtown Pop-Up Shops\, 17 Weed Street\, Marlborough\, MA\, 01752\, United States
ORGANIZER;CN="MEDC":MAILTO:ljaworek@marlboroughedc.com
END:VEVENT
BEGIN:VEVENT
DTSTART;TZID=America/New_York:20230921T160000
DTEND;TZID=America/New_York:20230921T200000
DTSTAMP:20260424T055658
CREATED:20230605T205544Z
LAST-MODIFIED:20230605T205544Z
UID:212713-1695312000-1695326400@visit-marlborough.com
SUMMARY:Downtown Pop-Up Shops
DESCRIPTION:Downtown Pop-Up Shops\n\n\n\n\nWe’ve created a temporary retail marketplace in Downtown Marlborough as an opportunity for local small businesses to test the market in a “storefront” set up uniquely by them. Online retailers\, makers & artists will fill these pop-up shops with their specialty products giving shoppers a chance to meet them & see their goods in person on a rotating basis. \nThe shops are set up at the corner of Weed & Court Streets (directly across from Crown Fried Chicken). \nSeptember 21st – 24th Vendors: \n\nVibes Candles\n\nwww.vibescandles.com\n\n\nSusan Alatalo – Artist\nHeart Sounds\, US.\n\nhttps://heartsoundsus.org/
URL:https://visit-marlborough.com/event/downtown-pop-up-shops-65/
LOCATION:Downtown Pop-Up Shops\, 17 Weed Street\, Marlborough\, MA\, 01752\, United States
ORGANIZER;CN="MEDC":MAILTO:ljaworek@marlboroughedc.com
END:VEVENT
BEGIN:VEVENT
DTSTART;TZID=America/New_York:20230922T160000
DTEND;TZID=America/New_York:20230922T200000
DTSTAMP:20260424T055658
CREATED:20230605T205606Z
LAST-MODIFIED:20230605T205606Z
UID:212715-1695398400-1695412800@visit-marlborough.com
SUMMARY:Downtown Pop-Up Shops
DESCRIPTION:Downtown Pop-Up Shops\n\n\n\n\nWe’ve created a temporary retail marketplace in Downtown Marlborough as an opportunity for local small businesses to test the market in a “storefront” set up uniquely by them. Online retailers\, makers & artists will fill these pop-up shops with their specialty products giving shoppers a chance to meet them & see their goods in person on a rotating basis. \nThe shops are set up at the corner of Weed & Court Streets (directly across from Crown Fried Chicken). \nSeptember 21st – 24th Vendors: \n\nVibes Candles\n\nwww.vibescandles.com\n\n\nSusan Alatalo – Artist\nHeart Sounds\, US.\n\nhttps://heartsoundsus.org/
URL:https://visit-marlborough.com/event/downtown-pop-up-shops-66/
LOCATION:Downtown Pop-Up Shops\, 17 Weed Street\, Marlborough\, MA\, 01752\, United States
ORGANIZER;CN="MEDC":MAILTO:ljaworek@marlboroughedc.com
END:VEVENT
BEGIN:VEVENT
DTSTART;TZID=America/New_York:20230923T090000
DTEND;TZID=America/New_York:20230923T170000
DTSTAMP:20260424T055658
CREATED:20230605T205636Z
LAST-MODIFIED:20230605T205636Z
UID:212717-1695459600-1695488400@visit-marlborough.com
SUMMARY:Downtown Pop-Up Shops
DESCRIPTION:Downtown Pop-Up Shops\n\n\n\n\nWe’ve created a temporary retail marketplace in Downtown Marlborough as an opportunity for local small businesses to test the market in a “storefront” set up uniquely by them. Online retailers\, makers & artists will fill these pop-up shops with their specialty products giving shoppers a chance to meet them & see their goods in person on a rotating basis. \nThe shops are set up at the corner of Weed & Court Streets (directly across from Crown Fried Chicken). \nSeptember 21st – 24th Vendors: \n\nVibes Candles\n\nwww.vibescandles.com\n\n\nSusan Alatalo – Artist\nHeart Sounds\, US.\n\nhttps://heartsoundsus.org/
URL:https://visit-marlborough.com/event/downtown-pop-up-shops-67/
LOCATION:Downtown Pop-Up Shops\, 17 Weed Street\, Marlborough\, MA\, 01752\, United States
ORGANIZER;CN="MEDC":MAILTO:ljaworek@marlboroughedc.com
END:VEVENT
BEGIN:VEVENT
DTSTART;TZID=America/New_York:20230924T090000
DTEND;TZID=America/New_York:20230924T170000
DTSTAMP:20260424T055658
CREATED:20230605T205701Z
LAST-MODIFIED:20230605T205701Z
UID:212719-1695546000-1695574800@visit-marlborough.com
SUMMARY:Downtown Pop-Up Shops
DESCRIPTION:Downtown Pop-Up Shops\n\n\n\n\nWe’ve created a temporary retail marketplace in Downtown Marlborough as an opportunity for local small businesses to test the market in a “storefront” set up uniquely by them. Online retailers\, makers & artists will fill these pop-up shops with their specialty products giving shoppers a chance to meet them & see their goods in person on a rotating basis. \nThe shops are set up at the corner of Weed & Court Streets (directly across from Crown Fried Chicken). \nSeptember 21st – 24th Vendors: \n\nVibes Candles\n\nwww.vibescandles.com\n\n\nSusan Alatalo – Artist\nHeart Sounds\, US.\n\nhttps://heartsoundsus.org/
URL:https://visit-marlborough.com/event/downtown-pop-up-shops-68/
LOCATION:Downtown Pop-Up Shops\, 17 Weed Street\, Marlborough\, MA\, 01752\, United States
ORGANIZER;CN="MEDC":MAILTO:ljaworek@marlboroughedc.com
END:VEVENT
BEGIN:VEVENT
DTSTART;TZID=America/New_York:20230928T160000
DTEND;TZID=America/New_York:20230928T200000
DTSTAMP:20260424T055658
CREATED:20230605T205833Z
LAST-MODIFIED:20230927T175321Z
UID:212721-1695916800-1695931200@visit-marlborough.com
SUMMARY:Downtown Pop-Up Shops
DESCRIPTION:Downtown Pop-Up Shops\n\n\n\n\nWe’ve created a temporary retail marketplace in Downtown Marlborough as an opportunity for local small businesses to test the market in a “storefront” set up uniquely by them. Online retailers\, makers & artists will fill these pop-up shops with their specialty products giving shoppers a chance to meet them & see their goods in person on a rotating basis. \nThe shops are set up at the corner of Weed & Court Streets (directly across from Crown Fried Chicken). \nSeptember 28th – October 1st Vendors: \n\nVibes Candles\n\nwww.vibescandles.com\n\n\nSusan Alatalo – Artist\nMagic & Color Co.\n\nhttps://magicandcolorco.com/
URL:https://visit-marlborough.com/event/downtown-pop-up-shops-69/
LOCATION:Downtown Pop-Up Shops\, 17 Weed Street\, Marlborough\, MA\, 01752\, United States
ORGANIZER;CN="MEDC":MAILTO:ljaworek@marlboroughedc.com
END:VEVENT
BEGIN:VEVENT
DTSTART;TZID=America/New_York:20230929T160000
DTEND;TZID=America/New_York:20230929T200000
DTSTAMP:20260424T055658
CREATED:20230605T205902Z
LAST-MODIFIED:20230927T175400Z
UID:212723-1696003200-1696017600@visit-marlborough.com
SUMMARY:Downtown Pop-Up Shops
DESCRIPTION:Downtown Pop-Up Shops\n\n\n\n\nWe’ve created a temporary retail marketplace in Downtown Marlborough as an opportunity for local small businesses to test the market in a “storefront” set up uniquely by them. Online retailers\, makers & artists will fill these pop-up shops with their specialty products giving shoppers a chance to meet them & see their goods in person on a rotating basis. \nThe shops are set up at the corner of Weed & Court Streets (directly across from Crown Fried Chicken). \nSeptember 28th – October 1st Vendors: \n\nVibes Candles\n\nwww.vibescandles.com\n\n\nSusan Alatalo – Artist\nMagic & Color Co. \n\nhttps://magicandcolorco.com/
URL:https://visit-marlborough.com/event/downtown-pop-up-shops-70/
LOCATION:Downtown Pop-Up Shops\, 17 Weed Street\, Marlborough\, MA\, 01752\, United States
ORGANIZER;CN="MEDC":MAILTO:ljaworek@marlboroughedc.com
END:VEVENT
BEGIN:VEVENT
DTSTART;TZID=America/New_York:20230930T090000
DTEND;TZID=America/New_York:20230930T170000
DTSTAMP:20260424T055658
CREATED:20230605T205938Z
LAST-MODIFIED:20230927T175456Z
UID:212725-1696064400-1696093200@visit-marlborough.com
SUMMARY:Downtown Pop-Up Shops
DESCRIPTION:Downtown Pop-Up Shops\n\n\n\n\nWe’ve created a temporary retail marketplace in Downtown Marlborough as an opportunity for local small businesses to test the market in a “storefront” set up uniquely by them. Online retailers\, makers & artists will fill these pop-up shops with their specialty products giving shoppers a chance to meet them & see their goods in person on a rotating basis. \nThe shops are set up at the corner of Weed & Court Streets (directly across from Crown Fried Chicken). \nSeptember 28th – October 1st Vendors: \n\nVibes Candles\n\nwww.vibescandles.com\n\n\nSusan Alatalo – Artist\nMagic & Color Co. \n\nhttps://magicandcolorco.com/
URL:https://visit-marlborough.com/event/downtown-pop-up-shops-71/
LOCATION:Downtown Pop-Up Shops\, 17 Weed Street\, Marlborough\, MA\, 01752\, United States
ORGANIZER;CN="MEDC":MAILTO:ljaworek@marlboroughedc.com
END:VEVENT
END:VCALENDAR