BEGIN:VCALENDAR
VERSION:2.0
PRODID:-//Visit Marlborough - ECPv6.15.20//NONSGML v1.0//EN
CALSCALE:GREGORIAN
METHOD:PUBLISH
X-WR-CALNAME:Visit Marlborough
X-ORIGINAL-URL:https://visit-marlborough.com
X-WR-CALDESC:Events for Visit Marlborough
REFRESH-INTERVAL;VALUE=DURATION:PT1H
X-Robots-Tag:noindex
X-PUBLISHED-TTL:PT1H
BEGIN:VTIMEZONE
TZID:America/New_York
BEGIN:DAYLIGHT
TZOFFSETFROM:-0500
TZOFFSETTO:-0400
TZNAME:EDT
DTSTART:20220313T070000
END:DAYLIGHT
BEGIN:STANDARD
TZOFFSETFROM:-0400
TZOFFSETTO:-0500
TZNAME:EST
DTSTART:20221106T060000
END:STANDARD
BEGIN:DAYLIGHT
TZOFFSETFROM:-0500
TZOFFSETTO:-0400
TZNAME:EDT
DTSTART:20230312T070000
END:DAYLIGHT
BEGIN:STANDARD
TZOFFSETFROM:-0400
TZOFFSETTO:-0500
TZNAME:EST
DTSTART:20231105T060000
END:STANDARD
BEGIN:DAYLIGHT
TZOFFSETFROM:-0500
TZOFFSETTO:-0400
TZNAME:EDT
DTSTART:20240310T070000
END:DAYLIGHT
BEGIN:STANDARD
TZOFFSETFROM:-0400
TZOFFSETTO:-0500
TZNAME:EST
DTSTART:20241103T060000
END:STANDARD
END:VTIMEZONE
BEGIN:VEVENT
DTSTART;TZID=America/New_York:20231105T160000
DTEND;TZID=America/New_York:20231105T180000
DTSTAMP:20260422T112949
CREATED:20231031T134757Z
LAST-MODIFIED:20231031T134757Z
UID:213525-1699200000-1699207200@visit-marlborough.com
SUMMARY:Crafts n Drafts @ Tackle Box
DESCRIPTION:Crafts n Drafts: Pressed Flower Lanterns \nUsing flowers of your choice to decoupage a mason jar\, use additional various media to make a lantern handle and personalize your lid. Opt for a battery-operated tea light or string of lights to complete the project… all while drinking amazing beers and seltzers in a lively and spacious brewery. Bring your partners to watch sports and play pool and lawn games while you craft\, or make them join in the fun! \nTickets: https://www.eventbrite.com/e/crafts-n-drafts-pressed-flower-lantern-tickets-721299364817?fbclid=IwAR3hLAO9ETm7OGx4SPTrg28z8UvG7gv-1ud4U3rf6m2F2lOH_gF32q9AZE8 \n 
URL:https://visit-marlborough.com/event/crafts-n-drafts-tackle-box/
LOCATION:Tackle Box Brewing Company\, 416 Boston Post Road East\, Marlborough\, MA\, 01752\, United States
ORGANIZER;CN="Wicked Good Henna":MAILTO:mandy@wickedgoodhenna.com
END:VEVENT
END:VCALENDAR