BEGIN:VCALENDAR
VERSION:2.0
PRODID:-//Visit Marlborough - ECPv6.15.20//NONSGML v1.0//EN
CALSCALE:GREGORIAN
METHOD:PUBLISH
X-WR-CALNAME:Visit Marlborough
X-ORIGINAL-URL:https://visit-marlborough.com
X-WR-CALDESC:Events for Visit Marlborough
REFRESH-INTERVAL;VALUE=DURATION:PT1H
X-Robots-Tag:noindex
X-PUBLISHED-TTL:PT1H
BEGIN:VTIMEZONE
TZID:America/New_York
BEGIN:DAYLIGHT
TZOFFSETFROM:-0500
TZOFFSETTO:-0400
TZNAME:EDT
DTSTART:20230312T070000
END:DAYLIGHT
BEGIN:STANDARD
TZOFFSETFROM:-0400
TZOFFSETTO:-0500
TZNAME:EST
DTSTART:20231105T060000
END:STANDARD
BEGIN:DAYLIGHT
TZOFFSETFROM:-0500
TZOFFSETTO:-0400
TZNAME:EDT
DTSTART:20240310T070000
END:DAYLIGHT
BEGIN:STANDARD
TZOFFSETFROM:-0400
TZOFFSETTO:-0500
TZNAME:EST
DTSTART:20241103T060000
END:STANDARD
BEGIN:DAYLIGHT
TZOFFSETFROM:-0500
TZOFFSETTO:-0400
TZNAME:EDT
DTSTART:20250309T070000
END:DAYLIGHT
BEGIN:STANDARD
TZOFFSETFROM:-0400
TZOFFSETTO:-0500
TZNAME:EST
DTSTART:20251102T060000
END:STANDARD
END:VTIMEZONE
BEGIN:VEVENT
DTSTART;TZID=America/New_York:20240902T110000
DTEND;TZID=America/New_York:20240902T170000
DTSTAMP:20260424T173640
CREATED:20240827T191045Z
LAST-MODIFIED:20240827T191045Z
UID:215094-1725274800-1725296400@visit-marlborough.com
SUMMARY:Labor Day Parade Beer Garden
DESCRIPTION:Join the Marlborough Brewers Association along the Labor Day Parade route! Flying Dreams\, Lost Shoe and Tackle Box will be set up in the Flying Dreams parking lot so that you can sip on a cold one while you watch the parade go by! \nThey’ll be pouring from 11am – 5pm with food courtesy of Lalo’s Mexican Restaurant and a post-parade show from The Beats and The Shouting.
URL:https://visit-marlborough.com/event/labor-day-parade-beer-garden/
LOCATION:Flying Dreams Brewing Co.\, 277 Main Street\, Marlborough\, MA\, 01752\, United States
END:VEVENT
BEGIN:VEVENT
DTSTART;TZID=America/New_York:20240908T110000
DTEND;TZID=America/New_York:20240908T170000
DTSTAMP:20260424T173640
CREATED:20240320T155819Z
LAST-MODIFIED:20240320T155855Z
UID:214225-1725793200-1725814800@visit-marlborough.com
SUMMARY:Food Truck & Arts Festival
DESCRIPTION:We’re excited to host the Food Truck & Arts Festival in Downtown Marlborough again this year! This event includes local artists/makers\, food trucks\, live performances\, tough-a-truck\, local restaurants\, interactive art displays & more!
URL:https://visit-marlborough.com/event/food-truck-arts-festival-3/
LOCATION:Downtown Marlborough MA\, 91 Main Street\, Marlborough\, MA\, 01752\, United States
ORGANIZER;CN="MEDC":MAILTO:ljaworek@marlboroughedc.com
END:VEVENT
BEGIN:VEVENT
DTSTART;TZID=America/New_York:20240911T163000
DTEND;TZID=America/New_York:20240911T193000
DTSTAMP:20260424T173640
CREATED:20240827T192549Z
LAST-MODIFIED:20240827T192703Z
UID:215099-1726072200-1726083000@visit-marlborough.com
SUMMARY:Outdoor Craft Beer & Music Series @ Solomon Pond Mall
DESCRIPTION:Enjoy local food and beer ( Lost Shoe! ) offerings while listening to live music! \nWe’ll have plenty of craft beer and food options and a face painter for the kids. \nPlus\, get a boost to your back-to-school shopping budget with gift card giveaways throughout the night. \nThe event is in our Garden area behind Regal Cinemas. This is a “rain or shine” event.
URL:https://visit-marlborough.com/event/outdoor-summer-craft-beer-music-series-solomon-pond-mall-4/
LOCATION:Solomon Pond Mall\, 601 Donald Lynch Blvd\, Marlborough\, MA\, 01752\, United States
END:VEVENT
BEGIN:VEVENT
DTSTART;TZID=America/New_York:20240920T180000
DTEND;TZID=America/New_York:20240920T210000
DTSTAMP:20260424T173640
CREATED:20240827T193454Z
LAST-MODIFIED:20240827T193454Z
UID:215103-1726855200-1726866000@visit-marlborough.com
SUMMARY:Live Music @ Lost Shoe Brewing
DESCRIPTION:That One Eyed Kid
URL:https://visit-marlborough.com/event/live-music-lost-shoe-brewing/
LOCATION:Lost Shoe Brewing & Roasting Co.\, 19 Weed Street\, Marlborough\, MA\, 01752\, United States
END:VEVENT
BEGIN:VEVENT
DTSTART;TZID=America/New_York:20240927T190000
DTEND;TZID=America/New_York:20240927T210000
DTSTAMP:20260424T173640
CREATED:20240802T143636Z
LAST-MODIFIED:20240802T143636Z
UID:215063-1727463600-1727470800@visit-marlborough.com
SUMMARY:Dueling Pianos @ Apex Entertainment
DESCRIPTION:Apex Entertainment in Marlborough is inviting you to join us for our Dueling Pianos Event! Three hours of music\, fun\, and food. Ticket price includes food and can be purchased individually for $45 or a table of 6 people for $250. Must be 21 years of age. For any questions\, please reach out to rstanas@apexentertainment.com
URL:https://visit-marlborough.com/event/dueling-pianos-apex-entertainment-2/
LOCATION:Apex Entertainment Center\, 21 Apex Drive\, Marlborough\, MA\, 01752\, United States
ORGANIZER;CN="Apex Entertainment":MAILTO:infoma@apexentertainment.com
END:VEVENT
END:VCALENDAR