BEGIN:VCALENDAR
VERSION:2.0
PRODID:-//Visit Marlborough - ECPv6.15.20//NONSGML v1.0//EN
CALSCALE:GREGORIAN
METHOD:PUBLISH
X-ORIGINAL-URL:https://visit-marlborough.com
X-WR-CALDESC:Events for Visit Marlborough
REFRESH-INTERVAL;VALUE=DURATION:PT1H
X-Robots-Tag:noindex
X-PUBLISHED-TTL:PT1H
BEGIN:VTIMEZONE
TZID:America/New_York
BEGIN:DAYLIGHT
TZOFFSETFROM:-0500
TZOFFSETTO:-0400
TZNAME:EDT
DTSTART:20230312T070000
END:DAYLIGHT
BEGIN:STANDARD
TZOFFSETFROM:-0400
TZOFFSETTO:-0500
TZNAME:EST
DTSTART:20231105T060000
END:STANDARD
BEGIN:DAYLIGHT
TZOFFSETFROM:-0500
TZOFFSETTO:-0400
TZNAME:EDT
DTSTART:20240310T070000
END:DAYLIGHT
BEGIN:STANDARD
TZOFFSETFROM:-0400
TZOFFSETTO:-0500
TZNAME:EST
DTSTART:20241103T060000
END:STANDARD
BEGIN:DAYLIGHT
TZOFFSETFROM:-0500
TZOFFSETTO:-0400
TZNAME:EDT
DTSTART:20250309T070000
END:DAYLIGHT
BEGIN:STANDARD
TZOFFSETFROM:-0400
TZOFFSETTO:-0500
TZNAME:EST
DTSTART:20251102T060000
END:STANDARD
END:VTIMEZONE
BEGIN:VEVENT
DTSTART;TZID=America/New_York:20240902T120000
DTEND;TZID=America/New_York:20240902T150000
DTSTAMP:20260419T232214
CREATED:20240802T173128Z
LAST-MODIFIED:20240802T173128Z
UID:215080-1725278400-1725289200@visit-marlborough.com
SUMMARY:Labor Day Parade
DESCRIPTION:The 2024 Labor Day Parade will mark the 72nd year that Marlborough hosts the event which\, over the years\, has come to mark the symbolic end-of-summer. \nIn 1952\, the City’s 28th Mayor\, Romeo J. Gadbois\, enlisted the support of the Marlborough Recreation Department under the direction of Louis Ghiloni to organize the parade.  That first year the parade had 12 marching units and launched the annual tradition\, as Mayor Romeo Gadbois wanted “to brighten the lives of those living in Marlborough.” Showcased that first year were the veterans who had recently returned from serving in World War II.  The parade continued to showcase our veterans and grew to include the Drum Corps popular in the 1960’s and 70’s. \nIn recent years\, the parade has grown to include a wide variety of historical re-enactment groups\, fife & drum corps\, military color and honor guard\, drill teams and marching units\, high school and college marching bands and rock bands.  Entries include veterans\, politicians\, home and school groups\, non-profit agencies and more. \nThe Marlborough Labor Day Parade will step off at Noon on Monday\, September 2nd and follow the traditional route starting at Pleasant and Lincoln Streets\, proceeding west onto Lincoln Street\, south onto Broad Street\, east onto West Main Street.  The parade continues onto Main Street and turns south onto Maple\, ending at the intersection of Bolton Street. \nFor more information\, please contact the Mayor’s Office at 508-460-3770
URL:https://visit-marlborough.com/event/labor-day-parade-3/
LOCATION:Downtown Marlborough MA\, 91 Main Street\, Marlborough\, MA\, 01752\, United States
ORGANIZER;CN="City of Marlborough":MAILTO:dpw-dispatch@marlborough-ma.gov
END:VEVENT
BEGIN:VEVENT
DTSTART;TZID=America/New_York:20240907T090000
DTEND;TZID=America/New_York:20240907T130000
DTSTAMP:20260419T232214
CREATED:20240429T165541Z
LAST-MODIFIED:20240429T165707Z
UID:214439-1725699600-1725714000@visit-marlborough.com
SUMMARY:Marlborough Farmers Market
DESCRIPTION:2024 Farmers Market Presented by Lost Shoe Brewing & Roasting Co.\nSaturdays 9am-1pm from June 15th through October 5th\nIn the parking lot at the corners of Main\, South Bolton\, Weed and Court Streets.\n 
URL:https://visit-marlborough.com/event/marlborough-farmers-market-39/
LOCATION:Lost Shoe Brewing & Roasting Co.\, 19 Weed Street\, Marlborough\, MA\, 01752\, United States
END:VEVENT
BEGIN:VEVENT
DTSTART;TZID=America/New_York:20240908T110000
DTEND;TZID=America/New_York:20240908T170000
DTSTAMP:20260419T232214
CREATED:20240320T155819Z
LAST-MODIFIED:20240320T155855Z
UID:214225-1725793200-1725814800@visit-marlborough.com
SUMMARY:Food Truck & Arts Festival
DESCRIPTION:We’re excited to host the Food Truck & Arts Festival in Downtown Marlborough again this year! This event includes local artists/makers\, food trucks\, live performances\, tough-a-truck\, local restaurants\, interactive art displays & more!
URL:https://visit-marlborough.com/event/food-truck-arts-festival-3/
LOCATION:Downtown Marlborough MA\, 91 Main Street\, Marlborough\, MA\, 01752\, United States
ORGANIZER;CN="MEDC":MAILTO:ljaworek@marlboroughedc.com
END:VEVENT
BEGIN:VEVENT
DTSTART;TZID=America/New_York:20240914T090000
DTEND;TZID=America/New_York:20240914T130000
DTSTAMP:20260419T232214
CREATED:20240429T165619Z
LAST-MODIFIED:20240429T170044Z
UID:214441-1726304400-1726318800@visit-marlborough.com
SUMMARY:Marlborough Farmers Market
DESCRIPTION:2024 Farmers Market Presented by Lost Shoe Brewing & Roasting Co.\nSaturdays 9am-1pm from June 15th through October 5th\nIn the parking lot at the corners of Main\, South Bolton\, Weed and Court Streets.\n 
URL:https://visit-marlborough.com/event/marlborough-farmers-market-40/
LOCATION:Lost Shoe Brewing & Roasting Co.\, 19 Weed Street\, Marlborough\, MA\, 01752\, United States
END:VEVENT
BEGIN:VEVENT
DTSTART;TZID=America/New_York:20240921T090000
DTEND;TZID=America/New_York:20240921T130000
DTSTAMP:20260419T232214
CREATED:20240429T170111Z
LAST-MODIFIED:20240429T170111Z
UID:214443-1726909200-1726923600@visit-marlborough.com
SUMMARY:Marlborough Farmers Market
DESCRIPTION:2024 Farmers Market Presented by Lost Shoe Brewing & Roasting Co.\nSaturdays 9am-1pm from June 15th through October 5th\nIn the parking lot at the corners of Main\, South Bolton\, Weed and Court Streets.\n 
URL:https://visit-marlborough.com/event/marlborough-farmers-market-41/
LOCATION:Lost Shoe Brewing & Roasting Co.\, 19 Weed Street\, Marlborough\, MA\, 01752\, United States
END:VEVENT
BEGIN:VEVENT
DTSTART;TZID=America/New_York:20240928T090000
DTEND;TZID=America/New_York:20240928T130000
DTSTAMP:20260419T232214
CREATED:20240429T170152Z
LAST-MODIFIED:20240429T170152Z
UID:214445-1727514000-1727528400@visit-marlborough.com
SUMMARY:Marlborough Farmers Market
DESCRIPTION:2024 Farmers Market Presented by Lost Shoe Brewing & Roasting Co.\nSaturdays 9am-1pm from June 15th through October 5th\nIn the parking lot at the corners of Main\, South Bolton\, Weed and Court Streets.\n 
URL:https://visit-marlborough.com/event/marlborough-farmers-market-42/
LOCATION:Lost Shoe Brewing & Roasting Co.\, 19 Weed Street\, Marlborough\, MA\, 01752\, United States
END:VEVENT
END:VCALENDAR