BEGIN:VCALENDAR
VERSION:2.0
PRODID:-//Visit Marlborough - ECPv6.15.20//NONSGML v1.0//EN
CALSCALE:GREGORIAN
METHOD:PUBLISH
X-ORIGINAL-URL:https://visit-marlborough.com
X-WR-CALDESC:Events for Visit Marlborough
REFRESH-INTERVAL;VALUE=DURATION:PT1H
X-Robots-Tag:noindex
X-PUBLISHED-TTL:PT1H
BEGIN:VTIMEZONE
TZID:America/New_York
BEGIN:DAYLIGHT
TZOFFSETFROM:-0500
TZOFFSETTO:-0400
TZNAME:EDT
DTSTART:20240310T070000
END:DAYLIGHT
BEGIN:STANDARD
TZOFFSETFROM:-0400
TZOFFSETTO:-0500
TZNAME:EST
DTSTART:20241103T060000
END:STANDARD
BEGIN:DAYLIGHT
TZOFFSETFROM:-0500
TZOFFSETTO:-0400
TZNAME:EDT
DTSTART:20250309T070000
END:DAYLIGHT
BEGIN:STANDARD
TZOFFSETFROM:-0400
TZOFFSETTO:-0500
TZNAME:EST
DTSTART:20251102T060000
END:STANDARD
BEGIN:DAYLIGHT
TZOFFSETFROM:-0500
TZOFFSETTO:-0400
TZNAME:EDT
DTSTART:20260308T070000
END:DAYLIGHT
BEGIN:STANDARD
TZOFFSETFROM:-0400
TZOFFSETTO:-0500
TZNAME:EST
DTSTART:20261101T060000
END:STANDARD
END:VTIMEZONE
BEGIN:VEVENT
DTSTART;TZID=America/New_York:20251102T090000
DTEND;TZID=America/New_York:20251102T100000
DTSTAMP:20260425T215647
CREATED:20250728T182453Z
LAST-MODIFIED:20250728T182453Z
UID:216139-1762074000-1762077600@visit-marlborough.com
SUMMARY:Rise & Grind Yoga - Community Class
DESCRIPTION:FREE CLASS! Bring your own yoga mat! In the courtyard behind City Hall. Donations welcome and will benefit the Metrowest Boys & Girls Club.  \nInstructor Bio:\nCait is an RYT-200 yoga teacher who offers energizing vinyasa flow classes grounded in strength\, breath\, and joy. Her dynamic sequences are crafted to challenge and inspire\, blending mindful movement with a spirit of play and curiosity. Cait’s classes are known for their uplifting energy\, creative transitions\, and moments of lightness and laughter\, inviting students to explore their edges while staying connected to the heart of their practice.
URL:https://visit-marlborough.com/event/rise-grind-yoga-community-class-14/
LOCATION:Marlborough City Hall\, 140 Main Street\, Marlborough\, MA\, 01752\, United States
END:VEVENT
BEGIN:VEVENT
DTSTART;TZID=America/New_York:20251104T190000
DTEND;TZID=America/New_York:20251104T210000
DTSTAMP:20260425T215647
CREATED:20251001T183852Z
LAST-MODIFIED:20251001T183852Z
UID:216556-1762282800-1762290000@visit-marlborough.com
SUMMARY:Geeks Who Drink Trivia @ Lost Shoe
DESCRIPTION:Trivia Night starting at 7 pm!
URL:https://visit-marlborough.com/event/geeks-who-drink-trivia-lost-shoe-93/
LOCATION:Lost Shoe Brewing & Roasting Co.\, 19 Weed Street\, Marlborough\, MA\, 01752\, United States
END:VEVENT
BEGIN:VEVENT
DTSTART;TZID=America/New_York:20251105T193000
DTEND;TZID=America/New_York:20251105T193000
DTSTAMP:20260425T215647
CREATED:20250924T152159Z
LAST-MODIFIED:20250924T152159Z
UID:216479-1762371000-1762371000@visit-marlborough.com
SUMMARY:Trivia @ Tackle Box Brewing
DESCRIPTION:Join us every Wednesday for a fun-filled trivia night hosted by George! Bring your friends\, test your knowledge\, and enjoy great drinks at Tackle Box Brewing Co. Don’t miss out!
URL:https://visit-marlborough.com/event/trivia-tackle-box-brewing-102/
LOCATION:Tackle Box Brewing Company\, 416 Boston Post Road East\, Marlborough\, MA\, 01752\, United States
END:VEVENT
BEGIN:VEVENT
DTSTART;TZID=America/New_York:20251108T110000
DTEND;TZID=America/New_York:20251108T123000
DTSTAMP:20260425T215647
CREATED:20250924T161414Z
LAST-MODIFIED:20250924T161414Z
UID:216521-1762599600-1762605000@visit-marlborough.com
SUMMARY:Yoga in the Brewery @ Tackle Box
DESCRIPTION:YOGA + BEER: The best of both worlds!\nEnjoy your late Saturday morning with a 60-minute all-levels yoga class\, led by 200-Hr CYT Al Dewsnap to fun and uplifting music in the empty brewery! Please bring your own mat! Class takes place from 11-12 and will be followed with a refreshing craft beer or seltzer courtesy of Tackle Box Brewing Co. when the taproom opens at noon. \nTicket includes one drink ticket to be used for a pour in the taproom. Come with friends and hang around for a bit to enjoy your Saturday afternoon! \nPlease note the following:\n 	Attendees under the age of 21 MUST be accompanied by a parent or guardian who is also registered for class. Parents/guardians who are accompanying an under-21 student are responsible for the drink ticket included with their admission cost. Because there is limited space at the venue\, you must notify me at least 24 hours in advance if you cannot attend to guarantee refund. Within 24 hours\, I will issue a refund only if we are able to fill your spot. Please reach out at aldewsnapyoga@gmail.com in this situation. (Note that Eventbrite processing fees are non-refundable!)
URL:https://visit-marlborough.com/event/yoga-in-the-brewery-tackle-box-53/
LOCATION:Tackle Box Brewing Company\, 416 Boston Post Road East\, Marlborough\, MA\, 01752\, United States
END:VEVENT
BEGIN:VEVENT
DTSTART;TZID=America/New_York:20251111T190000
DTEND;TZID=America/New_York:20251111T210000
DTSTAMP:20260425T215647
CREATED:20251001T184024Z
LAST-MODIFIED:20251001T184024Z
UID:216558-1762887600-1762894800@visit-marlborough.com
SUMMARY:Geeks Who Drink Trivia @ Lost Shoe
DESCRIPTION:Trivia Night starting at 7 pm!
URL:https://visit-marlborough.com/event/geeks-who-drink-trivia-lost-shoe-94/
LOCATION:Lost Shoe Brewing & Roasting Co.\, 19 Weed Street\, Marlborough\, MA\, 01752\, United States
END:VEVENT
BEGIN:VEVENT
DTSTART;TZID=America/New_York:20251112T193000
DTEND;TZID=America/New_York:20251112T193000
DTSTAMP:20260425T215647
CREATED:20250924T152246Z
LAST-MODIFIED:20250924T152246Z
UID:216481-1762975800-1762975800@visit-marlborough.com
SUMMARY:Trivia @ Tackle Box Brewing
DESCRIPTION:Join us every Wednesday for a fun-filled trivia night hosted by George! Bring your friends\, test your knowledge\, and enjoy great drinks at Tackle Box Brewing Co. Don’t miss out!
URL:https://visit-marlborough.com/event/trivia-tackle-box-brewing-103/
LOCATION:Tackle Box Brewing Company\, 416 Boston Post Road East\, Marlborough\, MA\, 01752\, United States
END:VEVENT
BEGIN:VEVENT
DTSTART;TZID=America/New_York:20251115T120000
DTEND;TZID=America/New_York:20251115T160000
DTSTAMP:20260425T215647
CREATED:20251001T185332Z
LAST-MODIFIED:20251001T185332Z
UID:216566-1763208000-1763222400@visit-marlborough.com
SUMMARY:Flannel Fest @ Lost Shoe
DESCRIPTION:Break out your favorite flannels! We’re having a fall party with all the best seasonal vibes: cider donuts\, a pie baking contest\, food truck\, cozy fire pit tables and more…
URL:https://visit-marlborough.com/event/flannel-fest-lost-shoe/
LOCATION:Lost Shoe Brewing & Roasting Co.\, 19 Weed Street\, Marlborough\, MA\, 01752\, United States
END:VEVENT
BEGIN:VEVENT
DTSTART;TZID=America/New_York:20251118T190000
DTEND;TZID=America/New_York:20251118T210000
DTSTAMP:20260425T215647
CREATED:20251001T184128Z
LAST-MODIFIED:20251001T184128Z
UID:216560-1763492400-1763499600@visit-marlborough.com
SUMMARY:Geeks Who Drink Trivia @ Lost Shoe
DESCRIPTION:Trivia Night starting at 7 pm!
URL:https://visit-marlborough.com/event/geeks-who-drink-trivia-lost-shoe-95/
LOCATION:Lost Shoe Brewing & Roasting Co.\, 19 Weed Street\, Marlborough\, MA\, 01752\, United States
END:VEVENT
BEGIN:VEVENT
DTSTART;TZID=America/New_York:20251119T193000
DTEND;TZID=America/New_York:20251119T193000
DTSTAMP:20260425T215647
CREATED:20250924T152413Z
LAST-MODIFIED:20250924T152413Z
UID:216483-1763580600-1763580600@visit-marlborough.com
SUMMARY:Trivia @ Tackle Box Brewing
DESCRIPTION:Join us every Wednesday for a fun-filled trivia night hosted by George! Bring your friends\, test your knowledge\, and enjoy great drinks at Tackle Box Brewing Co. Don’t miss out!
URL:https://visit-marlborough.com/event/trivia-tackle-box-brewing-104/
LOCATION:Tackle Box Brewing Company\, 416 Boston Post Road East\, Marlborough\, MA\, 01752\, United States
END:VEVENT
BEGIN:VEVENT
DTSTART;TZID=America/New_York:20251120T190000
DTEND;TZID=America/New_York:20251120T210000
DTSTAMP:20260425T215647
CREATED:20250728T194643Z
LAST-MODIFIED:20250728T194643Z
UID:216176-1763665200-1763672400@visit-marlborough.com
SUMMARY:Bonsai Bar @ Flying Dreams
DESCRIPTION:Beginner workshops are perfect for you to grab your friends\, grab a drink and come make tiny trees! We’re bringing the awesome art of bonsai out of the hedged in gardens and into the streets! Or at least into your favorite bars/breweries/pubs. Bonsai Bar is a night of fun you don’t want to miss. Learn the fundamental skills and techniques behind the art of bonsai while enjoying a night out with friends! Our teachers will introduce core concepts and guide your experience as you pot\, prune\, and design your very own bonsai tree! Our Guarantee: These tiny trees are so hardy we guarantee you can keep yours alive\, or we’ll replace it.
URL:https://visit-marlborough.com/event/bonsai-bar-flying-dreams-8/
LOCATION:Flying Dreams Brewing Co.\, 277 Main Street\, Marlborough\, MA\, 01752\, United States
END:VEVENT
BEGIN:VEVENT
DTSTART;TZID=America/New_York:20251121T180000
DTEND;TZID=America/New_York:20251121T210000
DTSTAMP:20260425T215647
CREATED:20250728T200041Z
LAST-MODIFIED:20250728T200041Z
UID:216186-1763748000-1763758800@visit-marlborough.com
SUMMARY:Acoustic Open Mic Night @ Flying Dreams
DESCRIPTION:Sign ups start at 5:30pm\nMusic starts at 6pm\n3 songs
URL:https://visit-marlborough.com/event/acoustic-open-mic-night-flying-dreams-4/
LOCATION:Flying Dreams Brewing Co.\, 277 Main Street\, Marlborough\, MA\, 01752\, United States
END:VEVENT
BEGIN:VEVENT
DTSTART;TZID=America/New_York:20251125T190000
DTEND;TZID=America/New_York:20251125T210000
DTSTAMP:20260425T215647
CREATED:20251001T184213Z
LAST-MODIFIED:20251001T184213Z
UID:216562-1764097200-1764104400@visit-marlborough.com
SUMMARY:Geeks Who Drink Trivia @ Lost Shoe
DESCRIPTION:Trivia Night starting at 7 pm!
URL:https://visit-marlborough.com/event/geeks-who-drink-trivia-lost-shoe-96/
LOCATION:Lost Shoe Brewing & Roasting Co.\, 19 Weed Street\, Marlborough\, MA\, 01752\, United States
END:VEVENT
BEGIN:VEVENT
DTSTART;TZID=America/New_York:20251126T193000
DTEND;TZID=America/New_York:20251126T213000
DTSTAMP:20260425T215647
CREATED:20250924T152803Z
LAST-MODIFIED:20250924T152803Z
UID:216485-1764185400-1764192600@visit-marlborough.com
SUMMARY:Trivia @ Tackle Box Brewing
DESCRIPTION:Join us every Wednesday for a fun-filled trivia night hosted by George! Bring your friends\, test your knowledge\, and enjoy great drinks at Tackle Box Brewing Co. Don’t miss out!
URL:https://visit-marlborough.com/event/trivia-tackle-box-brewing-105/
LOCATION:Tackle Box Brewing Company\, 416 Boston Post Road East\, Marlborough\, MA\, 01752\, United States
END:VEVENT
BEGIN:VEVENT
DTSTART;TZID=America/New_York:20251126T200000
DTEND;TZID=America/New_York:20251126T230000
DTSTAMP:20260425T215647
CREATED:20251124T170342Z
LAST-MODIFIED:20251124T170400Z
UID:216787-1764187200-1764198000@visit-marlborough.com
SUMMARY:Thanksgiving Eve Bash @ Tackle Box
DESCRIPTION:TOTAL PARTY at Tackle Box Brewing Co.! Thanksgiving Eve Bash – The Ultimate Party in Marlborough!\nNO COVER!\nElement 119 is BACK and bringing the hard rock covers you know and love – and some surprises you didn’t see coming. Get ready for high energy\, killer riffs\, and a night you won’t forget. Come early\, grab a brew\, and brace yourself.. EXPECT THE UNEXPECTED.
URL:https://visit-marlborough.com/event/thanksgiving-even-bash-tackle-box/
LOCATION:Tackle Box Brewing Company\, 416 Boston Post Road East\, Marlborough\, MA\, 01752\, United States
ATTACH;FMTTYPE=image/jpeg:https://visit-marlborough.com/wp-content/uploads/2025/11/Tackle-Box-Thanksgiving-Eve.jpg
END:VEVENT
BEGIN:VEVENT
DTSTART;TZID=America/New_York:20251128T200000
DTEND;TZID=America/New_York:20251128T230000
DTSTAMP:20260425T215647
CREATED:20251124T171338Z
LAST-MODIFIED:20251124T171338Z
UID:216794-1764360000-1764370800@visit-marlborough.com
SUMMARY:Live Music @ Tackle Box
DESCRIPTION:Sunset 87\nCome rock out with Sunset 87 as they take the stage at Tackle Box Brewing Co. on Friday\, November 28th! Don’t miss out on the fun\, music\, and great brews – see you there!
URL:https://visit-marlborough.com/event/live-music-tackle-box-201/
LOCATION:Tackle Box Brewing Company\, 416 Boston Post Road East\, Marlborough\, MA\, 01752\, United States
ATTACH;FMTTYPE=image/jpeg:https://visit-marlborough.com/wp-content/uploads/2025/11/Sunset-87-Tackle-Box.jpg
END:VEVENT
BEGIN:VEVENT
DTSTART;TZID=America/New_York:20251129T183000
DTEND;TZID=America/New_York:20251129T203000
DTSTAMP:20260425T215647
CREATED:20251125T153915Z
LAST-MODIFIED:20251125T153915Z
UID:216910-1764441000-1764448200@visit-marlborough.com
SUMMARY:Live Music @ Flying Dreams Brewing Co.
DESCRIPTION:Live music with Corey Knapp at Flying Dreams! \nJoin us for great beer & live music and never a cover!
URL:https://visit-marlborough.com/event/live-music-flying-dreams-brewing-co-8/
LOCATION:Flying Dreams Brewing Co.\, 277 Main Street\, Marlborough\, MA\, 01752\, United States
ATTACH;FMTTYPE=image/jpeg:https://visit-marlborough.com/wp-content/uploads/2025/11/Corey-Knapp.jpg
END:VEVENT
BEGIN:VEVENT
DTSTART;TZID=America/New_York:20251129T200000
DTEND;TZID=America/New_York:20251129T230000
DTSTAMP:20260425T215647
CREATED:20251124T171719Z
LAST-MODIFIED:20251124T171719Z
UID:216797-1764446400-1764457200@visit-marlborough.com
SUMMARY:Live Music @ Tackle Box
DESCRIPTION:MISSY Maxfield Project\nGet ready for a night of powerhouse vocals and high-energy rock as The Missy Maxfield Project takes over the stage at Tackle Box Brewing Co. Don’t miss this epic performance – great brews\, great vibes\, and unforgettable music!
URL:https://visit-marlborough.com/event/live-music-tackle-box-202/
LOCATION:Tackle Box Brewing Company\, 416 Boston Post Road East\, Marlborough\, MA\, 01752\, United States
ATTACH;FMTTYPE=image/jpeg:https://visit-marlborough.com/wp-content/uploads/2025/11/Missy-Tackle-Box.jpg
END:VEVENT
END:VCALENDAR