BEGIN:VCALENDAR
VERSION:2.0
PRODID:-//Visit Marlborough - ECPv6.15.20//NONSGML v1.0//EN
CALSCALE:GREGORIAN
METHOD:PUBLISH
X-ORIGINAL-URL:https://visit-marlborough.com
X-WR-CALDESC:Events for Visit Marlborough
REFRESH-INTERVAL;VALUE=DURATION:PT1H
X-Robots-Tag:noindex
X-PUBLISHED-TTL:PT1H
BEGIN:VTIMEZONE
TZID:America/New_York
BEGIN:DAYLIGHT
TZOFFSETFROM:-0500
TZOFFSETTO:-0400
TZNAME:EDT
DTSTART:20210314T070000
END:DAYLIGHT
BEGIN:STANDARD
TZOFFSETFROM:-0400
TZOFFSETTO:-0500
TZNAME:EST
DTSTART:20211107T060000
END:STANDARD
BEGIN:DAYLIGHT
TZOFFSETFROM:-0500
TZOFFSETTO:-0400
TZNAME:EDT
DTSTART:20220313T070000
END:DAYLIGHT
BEGIN:STANDARD
TZOFFSETFROM:-0400
TZOFFSETTO:-0500
TZNAME:EST
DTSTART:20221106T060000
END:STANDARD
BEGIN:DAYLIGHT
TZOFFSETFROM:-0500
TZOFFSETTO:-0400
TZNAME:EDT
DTSTART:20230312T070000
END:DAYLIGHT
BEGIN:STANDARD
TZOFFSETFROM:-0400
TZOFFSETTO:-0500
TZNAME:EST
DTSTART:20231105T060000
END:STANDARD
END:VTIMEZONE
BEGIN:VEVENT
DTSTART;TZID=America/New_York:20221015T103000
DTEND;TZID=America/New_York:20221015T120000
DTSTAMP:20260424T073536
CREATED:20220928T175621Z
LAST-MODIFIED:20220928T175621Z
UID:209215-1665829800-1665835200@visit-marlborough.com
SUMMARY:Bootcamp\, Brews & Books @ Lost Shoe
DESCRIPTION:SPENGA & Lost Shoe are teaming up to donate to Dollars for Scholars by hosting a 45 minutes bootcamp outside Lost Shoe. \nJoin SPENGA & Lost Shoe Brewing & Roasting Company for this community event as we workout all while giving back to the community. We ask that participants donate a children’s book that we will donate to Dollars for Scholars. Your book donation will then enter you into a raffle to win a gift basket valued at over $100 from local sponsors. After our high energy bootcamp\, all participants will be able to enjoy 1 free drink (drink tickets will be distributed at the event). All are welcome! No prior experience needed. Recommended to bring your own yoga mat.
URL:https://visit-marlborough.com/event/bootcamp-brews-books-lost-shoe/
LOCATION:Lost Shoe Brewing & Roasting Co.\, 19 Weed Street\, Marlborough\, MA\, 01752\, United States
END:VEVENT
BEGIN:VEVENT
DTSTART;TZID=America/New_York:20221015T110000
DTEND;TZID=America/New_York:20221015T120000
DTSTAMP:20260424T073536
CREATED:20220923T144852Z
LAST-MODIFIED:20220923T144852Z
UID:209145-1665831600-1665835200@visit-marlborough.com
SUMMARY:Yoga in the Brewery @ Tackle Box
DESCRIPTION:Join us for a 60-minute all-levels yoga class in the brewery\, followed by a refreshing craft beer on tap! (1 drink included w/ ticket!)\nYOGA + BEER: The best of both worlds!\nEnjoy your late Saturday morning with a 60-minute all-levels yoga class\, led by 200-Hr CYT Al Dewsnap to fun and uplifting music in the empty brewery! Class takes place from 11-12 and will be followed with a refreshing beer courtesy of Tackle Box Brewing Co. when the taproom opens at noon.\nTicket includes one drink ticket to be used for a pour in the taproom. Come with friends and hang around for a bit to enjoy your Saturday afternoon!\nPLEASE BRING YOUR OWN MAT!
URL:https://visit-marlborough.com/event/yoga-in-the-brewery-tackle-box-19/
LOCATION:Tackle Box Brewing Company\, 416 Boston Post Road East\, Marlborough\, MA\, 01752\, United States
END:VEVENT
BEGIN:VEVENT
DTSTART;TZID=America/New_York:20221015T190000
DTEND;TZID=America/New_York:20221015T220000
DTSTAMP:20260424T073536
CREATED:20220923T145709Z
LAST-MODIFIED:20220923T145709Z
UID:209159-1665860400-1665871200@visit-marlborough.com
SUMMARY:Live Music @ Tackle Box
DESCRIPTION:Zen Music Men is performing at Tackle Box Brewing!
URL:https://visit-marlborough.com/event/live-music-tackle-box-76/
LOCATION:Tackle Box Brewing Company\, 416 Boston Post Road East\, Marlborough\, MA\, 01752\, United States
END:VEVENT
END:VCALENDAR