BEGIN:VCALENDAR
VERSION:2.0
PRODID:-//Visit Marlborough - ECPv6.15.20//NONSGML v1.0//EN
CALSCALE:GREGORIAN
METHOD:PUBLISH
X-ORIGINAL-URL:https://visit-marlborough.com
X-WR-CALDESC:Events for Visit Marlborough
REFRESH-INTERVAL;VALUE=DURATION:PT1H
X-Robots-Tag:noindex
X-PUBLISHED-TTL:PT1H
BEGIN:VTIMEZONE
TZID:America/New_York
BEGIN:DAYLIGHT
TZOFFSETFROM:-0500
TZOFFSETTO:-0400
TZNAME:EDT
DTSTART:20210314T070000
END:DAYLIGHT
BEGIN:STANDARD
TZOFFSETFROM:-0400
TZOFFSETTO:-0500
TZNAME:EST
DTSTART:20211107T060000
END:STANDARD
BEGIN:DAYLIGHT
TZOFFSETFROM:-0500
TZOFFSETTO:-0400
TZNAME:EDT
DTSTART:20220313T070000
END:DAYLIGHT
BEGIN:STANDARD
TZOFFSETFROM:-0400
TZOFFSETTO:-0500
TZNAME:EST
DTSTART:20221106T060000
END:STANDARD
BEGIN:DAYLIGHT
TZOFFSETFROM:-0500
TZOFFSETTO:-0400
TZNAME:EDT
DTSTART:20230312T070000
END:DAYLIGHT
BEGIN:STANDARD
TZOFFSETFROM:-0400
TZOFFSETTO:-0500
TZNAME:EST
DTSTART:20231105T060000
END:STANDARD
END:VTIMEZONE
BEGIN:VEVENT
DTSTART;TZID=America/New_York:20220924T130000
DTEND;TZID=America/New_York:20220924T210000
DTSTAMP:20260425T002311
CREATED:20220921T153031Z
LAST-MODIFIED:20220921T153031Z
UID:209089-1664024400-1664053200@visit-marlborough.com
SUMMARY:Marlborough Brewers Association Oktoberfest
DESCRIPTION:The Marlborough Brewers Association presents Oktoberfest!\nBeer: All three Marlborough breweries will be pouring locally brewed beer and hard seltzer! \nFood: German Food and other fare from The Horseshoe Pub\, Trombetta’s Farm & more! \nEntertainment: Live Music\, Stein Holding Competition\, Costume Contest! \n\n\n\n\nSchedule of Events \n1:00pm Gates Open \n1:30pm-4:30pm Tubafrau (German Oompah Band) \n4:30pm-5:30pm Stein Holding and Costume Competitions with Prizes! \n5:30pm-8:30pm 8 Track Mind (60s 70s Pop Rock) \n8:30pm Last Call \n9:00pm Oktoberfest Concludes \n\n\n\n\nDetails \nTickets are $10 in advance through Eventbrite and $15 at the door as space permits. All paid entries include a commemorative half liter stein. Bring your stein from our 2019 or 2021 event with you and receive one free drink instead of another stein! \n$8 half liter pours\, Cash and Card accepted \nFree entry for designated drivers and guests under 21 \nEvent will be held rain or shine under a large tent. This event is family friendly and well behaved dogs on leashes are also welcome!
URL:https://visit-marlborough.com/event/marlborough-brewers-association-oktoberfest-2-2/
LOCATION:Flying Dreams Brewing Co.\, 277 Main Street\, Marlborough\, MA\, 01752\, United States
END:VEVENT
END:VCALENDAR